Workbook

Sheet PLANILHA ORÇAM.
A1: PREFEITURA MUNICIPAL DE VARGEM ALTA
A2: ESTADO DO ESPIRITO SANTO
A3: OBRA: | B3: REFORMA E AMPLIAÇÃO EMEB "FRADE" | F3: Data Base: Setembro de 2021
A4: LOCAL: | B4: FRADE- VARGEM ALTA- ES | F4: BDI = 29,63 %
A5: ITEM | B5: CÓDIGO IOPES/SIN | C5: ESPECIFICAÇÃO | D5: UNID | E5: QUANT. | F5: PREÇOS EM REAL
F6: P. UNIT. | G6: P. TOTAL
C7: REFORMA
A8: 1 | C8: INSTALAÇÃO DO CANTEIRO DE OBRAS
A9: 1.1 | B9: 020305 IOPES | C9: Placa de obra nas dimensões de 2.0 x 4.0 m, padrão | D9: m2 | E9: 8 | F9: =J9 -> 371.29921 | G9: =F9*E9 -> 2970.3937 | H9: 286.43 | I9: 0.2963 | J9: =H9+(H9*I9) -> 371.29921
C10: SUBTOTAL | G10: =SUM(G9:G9) -> 2970.3937 | I10: 0.2963
A11: 2 | C11: RETIRADA E DEMOLIÇÃO | I11: 0.2963
A12: 2.1 | B12: 010315 IOPES | C12: Retirada de cobertura em telhas Canalete 49 | D12: m2 | E12: 142.35 | F12: =J12 -> 11.900034 | G12: =F12*E12 -> 1693.9698 | H12: 9.18 | I12: 0.2963 | J12: =H12+(H12*I12) -> 11.900034
A13: 2.2 | B13: 010206 IOPES | C13: Demolição de revestimento com azulejos | D13: m2 | E13: 27.56 | F13: =J13 -> 51.735333 | G13: =F13*E13 -> 1425.8258 | H13: 39.91 | I13: 0.2963 | J13: =H13+(H13*I13) -> 51.735333
A14: 2.3 | B14: 010228 IOPES | C14: Demolição de forro de madeira, sem reaproveitamento | D14: m2 | E14: 68.04 | F14: =J14 -> 7.012983 | G14: =F14*E14 -> 477.16336 | H14: 5.41 | I14: 0.2963 | J14: =H14+(H14*I14) -> 7.012983
A15: 2.4 | B15: 010209 IOPES | C15: Demolição de alvenaria | D15: m3 | E15: 3.27 | F15: =J15 -> 62.079807 | G15: =F15*E15 -> 203.00097 | H15: 47.89 | I15: 0.2963 | J15: =H15+(H15*I15) -> 62.079807
A16: 2.5 | B16: 90446 SINAPI | C16: RASGO EM CONTRAPISO PARA RAMAIS/ DISTRIBUIÇÃO COM DIÂMETROS MAIORES QUE 75 MM. AF_05/2015 | D16: m | E16: 15 | F16: =J16 -> 28.505637 | G16: =F16*E16 -> 427.58456 | H16: 21.99 | I16: 0.2963 | J16: =H16+(H16*I16) -> 28.505637
A17: 2.6 | B17: 010214 IOPES | C17: Retirada de portas e janelas de madeira, inclusive batentes | D17: m2 | E17: 6.48 | F17: =J17 -> 16.553751 | G17: =F17*E17 -> 107.26831 | H17: 12.77 | I17: 0.2963 | J17: =H17+(H17*I17) -> 16.553751
A18: 2.7 | B18: 010223 IOPES | C18: Retirada de aparelhos sanitários | D18: Und | E18: 2 | F18: =J18 -> 21.505617 | G18: =F18*E18 -> 43.011234 | H18: 16.59 | I18: 0.2963 | J18: =H18+(H18*I18) -> 21.505617
A19: 2.8 | B19: 010208 IOPES | C19: Retirada de revestimento antigo em reboco | D19: m2 | E19: 85.73 | F19: =J19 -> 10.344474 | G19: =F19*E19 -> 886.83176 | H19: 7.98 | I19: 0.2963 | J19: =H19+(H19*I19) -> 10.344474
C20: SUBTOTAL | G20: =SUM(G12:G19) -> 5264.6558 | I20: 0.2963
A21: 3 | C21: ALVENARIA | I21: 0.2963
A22: 3.1 | B22: 050601 IOPES | C22: Alvenaria de blocos de concreto 9x19x39cm, c/ resist. mínimo a compres. 2.5 MPa, assent. c/ arg. De cimento, cal hidratada CH1 e areia no traço 1:0.5:8 esp. das juntas 10mm e esp. das paredes, s/ rev. 9cm | D22: m2 | E22: 78.06 | F22: =J22 -> 70.324275 | G22: =F22*E22 -> 5489.5129 | H22: 54.25 | I22: 0.2963 | J22: =H22+(H22*I22) -> 70.324275
C23: SUBTOTAL | G23: =G22 -> 5489.5129 | I23: 0.2963
A24: 4 | C24: REVESTIMENTO | I24: 0.2963
A25: 4.1 | B25: 87878 SINAPI | C25: CHAPISCO APLICADO EM ALVENARIAS E ESTRUTURAS DE CONCRETO INTERNAS, COM COLHER DE PEDREIRO. ARGAMASSA TRAÇO 1:3 COM PREPARO MANUAL. AF_06/2014 | D25: m2 | E25: 85.79 | F25: =J25 -> 4.627791 | G25: =E25*F25 -> 397.01819 | H25: 3.57 | I25: 0.2963 | J25: =H25+(H25*I25) -> 4.627791
A26: 4.2 | B26: 87528 SINAPI | C26: EMBOÇO, PARA RECEBIMENTO DE CERÂMICA, EM ARGAMASSA TRAÇO 1:2:8, PREPARO MANUAL, APLICADO MANUALMENTE EM FACES INTERNAS DE PAREDES, PARA AMBIENTE COM ÁREA MENOR QUE 5M2, ESPESSURA DE 20MM, COM EXECUÇÃO DE TALISCAS. AF_06/2014 | D26: m2 | E26: 85.79 | F26: =J26 -> 44.839017 | G26: =E26*F26 -> 3846.7393 | H26: 34.59 | I26: 0.2963 | J26: =H26+(H26*I26) -> 44.839017
A27: 4.3 | B27: 120220 IOPES | C27: Cerâmica 10 x 10 cm, marcas de referência Eliane, Cecrisa ou Portobello, nas cores branco ou areia, com rejunte esp. 0.5 cm, empregando argamassa colante (Para revestimento meia-parede) | D27: m2 | E27: 85.73 | F27: =J27 -> 98.868801 | G27: =E27*F27 -> 8476.0223 | H27: 76.27 | I27: 0.2963 | J27: =H27+(H27*I27) -> 98.868801
A28: 4.4 | B28: 120227 IOPES | C28: Roda parede em granito cinza andorinha 7x2cm, com acabamento abaulado nos dois lados | D28: m | E28: 63.55 | F28: =J28 -> 52.914966 | G28: =E28*F28 -> 3362.7461 | H28: 40.82 | I28: 0.2963 | J28: =H28+(H28*I28) -> 52.914966
A29: 4.5 | B29: 130219 IOPES | C29: Piso cerâmico 45x45cm, PEI 5, Cargo Plus Gray, marcas de referência Eliane, Cecrisa ou Portobello, assentado com argamassa de cimento colante, inclusive rejuntamento | D29: m2 | E29: 116.59 | F29: =J29 -> 93.994713 | G29: =E29*F29 -> 10958.844 | H29: 72.51 | I29: 0.2963 | J29: =H29+(H29*I29) -> 93.994713
A30: 4.6 | B30: 130308 IOPES | C30: Soleira de granito esp. 2 cm e largura de 15 cm | D30: m | E30: 13 | F30: =J30 -> 51.618666 | G30: =E30*F30 -> 671.04266 | H30: 39.82 | I30: 0.2963 | J30: =H30+(H30*I30) -> 51.618666
A31: 4.7 | B31: 110201 IOPES | C31: Forro de gesso acabamento tipo liso | D31: m2 | E31: 116.59 | F31: =J31 -> 45.3705 | G31: =F31*E31 -> 5289.7466 | H31: 35 | I31: 0.2963 | J31: =H31+(H31*I31) -> 45.3705
A32: 4.8 | B32: 110101 IOPES | C32: Chapisco com argamassa de cimento e areia média ou grossa lavada no traço 1:3, espessura 5 mm (Para revestimento meia-parede) | D32: m2 | E32: 85.73 | F32: =J32 -> 14.466708 | G32: =F32*E32 -> 1240.2309 | H32: 11.16 | I32: 0.2963 | J32: =H32+(H32*I32) -> 14.466708
A33: 4.9 | B33: 110301 IOPES | C33: Emboço de argamassa de cimento, cal hidratada CH1 e areia lavada traço 1:0.5:6, espessura 20 mm (Para revestimento meia-parede) | D33: m2 | E33: 85.73 | F33: =J33 -> 40.405671 | G33: =F33*E33 -> 3463.9782 | H33: 31.17 | I33: 0.2963 | J33: =H33+(H33*I33) -> 40.405671
C34: SUBTOTAL | G34: =SUM(G25:G33) -> 37706.368 | I34: 0.2963
A35: 5 | C35: ESQUADRIAS | I35: 0.2963
A36: 5.1 | B36: 94559 SINAPI | C36: JANELA DE AÇO TIPO BASCULANTE PARA VIDROS, COM BATENTE, FERRAGENS E PINTURA ANTICORROSIVA. EXCLUSIVE VIDROS, ACABAMENTO, ALIZAR E CONTRAMARCO. FORNECIMENTO E INSTALAÇÃO. AF_12/2019 | D36: m2 | E36: 5.42 | F36: =J36 -> 955.16569 | G36: =F36*E36 -> 5176.9981 | H36: 736.84 | I36: 0.2963 | J36: =H36+(H36*I36) -> 955.16569
A37: 5.2 | B37: 080102 IOPES | C37: Vidro plano transparente liso, com 4 mm de espessura | D37: m2 | E37: 5.42 | F37: =J37 -> 351.72508 | G37: =F37*E37 -> 1906.3499 | H37: 271.33 | I37: 0.2963 | J37: =H37+(H37*I37) -> 351.72508
A38: 5.3 | B38: 060108 IOPES | C38: Marco de madeira de lei de 1ª (Peroba, Ipê, Angelim Pedra ou equivalente) com 15 x 3 cm de batente, nas dimensões de 0.90 x 2.10 m | D38: Und | E38: 2 | F38: =J38 -> 398.44373 | G38: =F38*E38 -> 796.88746 | H38: 307.37 | I38: 0.2963 | J38: =H38+(H38*I38) -> 398.44373
A39: 5.4 | B39: 061304 IOPES | C39: Porta em madeira de lei tipo angelim pedra ou equiv.c/enchimento em madeira 1a.qualidade esp. 30mm p/ pintura, inclusive alizares, dobradiças e fechadura externa em latão cromado LaFonte ou equiv., exclusive marco, nas dim.: 0.90 x 2.10 m | D39: Und | E39: 2 | F39: =J39 -> 1170.2348 | G39: =F39*E39 -> 2340.4697 | H39: 902.75 | I39: 0.2963 | J39: =H39+(H39*I39) -> 1170.2348
A40: 5.5 | B40: 071107 IOPES | C40: Portão de ferro de abrir em barra chata, chapa e tubo, inclusive chumbamento | D40: m2 | E40: 3.6 | F40: =J40 -> 1370.3317 | G40: =F40*E40 -> 4933.1941 | H40: 1057.11 | I40: 0.2963 | J40: =H40+(H40*I40) -> 1370.3317
...

Sheet MEMÓRIA DE CÁLCULO
B1: PREFEITURA MUNICIPAL DE VARGEM ALTA
B2: ESTADO DO ESPÍRITO SANTO
A3: Obra: | B3: ='PLANILHA ORÇAM.'!B3:E3 -> REFORMA E AMPLIAÇÃO EMEB "FRADE"
A4: Local: | B4: ='PLANILHA ORÇAM.'!B4:E4 -> FRADE- VARGEM ALTA- ES
A5: MEMÓRIA DE CÁLCULO
A6: ITEM | B6: DESCRIÇÃO | C6: UNID | D6: QUANT. | E6: CÁLCULO
B7: REFORMA
A8: 1 | B8: INSTALAÇÃO DO CANTEIRO DE OBRAS
A9: 1.1 | B9: ='PLANILHA ORÇAM.'!C9 -> Placa de obra nas dimensões de 2.0 x 4.0 m, padrão | C9: ='PLANILHA ORÇAM.'!D9 -> m2 | D9: 8 | E9: 4,00x2,00= 8,00m2 | J9: =D9-'PLANILHA ORÇAM.'!E9 -> 0
J10: =D10-'PLANILHA ORÇAM.'!E10 -> 0
A11: 2 | B11: RETIRADA E DEMOLIÇÃO | J11: =D11-'PLANILHA ORÇAM.'!E11 -> 0
A12: 2.1 | B12: ='PLANILHA ORÇAM.'!C12 -> Retirada de cobertura em telhas Canalete 49 | C12: ='PLANILHA ORÇAM.'!D12 -> m2 | D12: 142.35 | E12: (18,25x7,80)= 142,35m2 | J12: =D12-'PLANILHA ORÇAM.'!E12 -> 0
A13: 2.2 | B13: ='PLANILHA ORÇAM.'!C13 -> Demolição de revestimento com azulejos | C13: ='PLANILHA ORÇAM.'!D13 -> m2 | D13: 27.56 | E13: (1,17x2,60)= 3,04x2= 6,08m2 (1,17+2,60)=3,77x2,85=10,74x2= 21,48m2 Total:27,56m2 | J13: =D13-'PLANILHA ORÇAM.'!E13 -> 0
A14: 2.3 | B14: ='PLANILHA ORÇAM.'!C14 -> Demolição de forro de madeira, sem reaproveitamento | C14: ='PLANILHA ORÇAM.'!D14 -> m2 | D14: 68.04 | E14: Conforme projeto: (34,02m2 x 2)= 68,04m2 | J14: =D14-'PLANILHA ORÇAM.'!E14 -> 0
A15: 2,4 | B15: ='PLANILHA ORÇAM.'!C15 -> Demolição de alvenaria | C15: ='PLANILHA ORÇAM.'!D15 -> m3 | D15: 25.48 | E15: (2,60x3x2,85)+(1,80x1,45)= 22,23+3,25= 25,48m2 | J15: =D15-'PLANILHA ORÇAM.'!E15 -> 22.21
A16: 2.5 | B16: ='PLANILHA ORÇAM.'!C16 -> RASGO EM CONTRAPISO PARA RAMAIS/ DISTRIBUIÇÃO COM DIÂMETROS MAIORES QUE 75 MM. AF_05/2015 | C16: ='PLANILHA ORÇAM.'!D16 -> m | D16: 15 | E16: (0,80+1,22+0,39+1,07+1,31+0,39+1,81+0,60+0,54)= 8,13m (0,39+1,96+0,38+1,67+0,59+1,31+0,57)=6,87m Total:8,13+6,87=15,00m | J16: =D16-'PLANILHA ORÇAM.'!E16 -> 0
A17: 2.6 | B17: ='PLANILHA ORÇAM.'!C17 -> Retirada de portas e janelas de madeira, inclusive batentes | C17: ='PLANILHA ORÇAM.'!D17 -> m2 | D17: 0.48 | E17: (0,80x0,60)= 0,48m2 | J17: =D17-'PLANILHA ORÇAM.'!E17 -> -6
A18: 2.7 | B18: ='PLANILHA ORÇAM.'!C18 -> Retirada de aparelhos sanitários | C18: ='PLANILHA ORÇAM.'!D18 -> Und | D18: 2 | E18: 2 unidades
A19: 2.8 | B19: ='PLANILHA ORÇAM.'!C19 -> Retirada de revestimento antigo em reboco | C19: ='PLANILHA ORÇAM.'!D19 -> m2 | D19: 85.73 | E19: 85,73 m²
J20: =D20-'PLANILHA ORÇAM.'!E20 -> 0
A21: 3 | B21: ALVENARIA | J21: =D21-'PLANILHA ORÇAM.'!E21 -> 0
A22: 3.1 | B22: ='PLANILHA ORÇAM.'!C22 -> Alvenaria de blocos de concreto 9x19x39cm, c/ resist. mínimo a compres. 2.5 MPa, assent. c/ arg. De cimento, cal hidratada CH1 e areia no traço 1:0.5:8 esp. das juntas 10mm e esp. das paredes, s/ rev. 9cm | C22: ='PLANILHA ORÇAM.'!D22 -> m2 | D22: 28.96 | E22: (0,18+2,60+0,85+0,85+2,90+0,18+2,60)=10,16x2,85= 28,96m2 | J22: =D22-'PLANILHA ORÇAM.'!E22 -> -49.1
J23: =D23-'PLANILHA ORÇAM.'!E23 -> 0
A24: 4 | B24: REVESTIMENTO | J24: =D24-'PLANILHA ORÇAM.'!E24 -> 0
A25: 4.1 | B25: ='PLANILHA ORÇAM.'!C25 -> CHAPISCO APLICADO EM ALVENARIAS E ESTRUTURAS DE CONCRETO INTERNAS, COM COLHER DE PEDREIRO. ARGAMASSA TRAÇO 1:3 COM PREPARO MANUAL. AF_06/2014 | C25: ='PLANILHA ORÇAM.'!D25 -> m2 | D25: 85.79 | E25: (0,18+2,60+0,32+2,75)=5,85x2x2,85= 33,35m2 (0,85+0,85+2,90+1,00+1,00+2,60)= 9,20x2x2,85= 52,44m2 Total:33,35+52,44=85,79m2 | J25: =D25-'PLANILHA ORÇAM.'!E25 -> 0
A26: 4.2 | B26: ='PLANILHA ORÇAM.'!C26 -> EMBOÇO, PARA RECEBIMENTO DE CERÂMICA, EM ARGAMASSA TRAÇO 1:2:8, PREPARO MANUAL, APLICADO MANUALMENTE EM FACES INTERNAS DE PAREDES, PARA AMBIENTE COM ÁREA MENOR QUE 5M2, ESPESSURA DE 20MM, COM EXECUÇÃO DE TALISCAS. AF_06/2014 | C26: ='PLANILHA ORÇAM.'!D26 -> m2 | D26: 85.79 | E26: (0,18+2,60+0,32+2,75)=5,85x2x2,85= 33,35m2 (0,85+0,85+2,90+1,00+1,00+2,60)= 9,20x2x2,85= 52,44m2 Total:33,35+52,44=85,79m2 | J26: =D26-'PLANILHA ORÇAM.'!E26 -> 0
A27: 4.3 | B27: ='PLANILHA ORÇAM.'!C27 -> Cerâmica 10 x 10 cm, marcas de referência Eliane, Cecrisa ou Portobello, nas cores branco ou areia, com rejunte esp. 0.5 cm, empregando argamassa colante (Para revestimento meia-parede) | C27: ='PLANILHA ORÇAM.'!D27 -> m2 | D27: 55.66 | E27: Banheiros: (1,17+2,60)=3,77x2,85=10,74x2= 21,48m2 (0,18+2,60)=2,78x2,85=7,92x2= 15,84m2 Cozinha: (1,70+4,40+2,60+4,40)=13,10x1,40= 18,34m2 Total:21,48+15,84+18,34=55,66m2 | J27: =D27-'PLANILHA ORÇAM.'!E27 -> -30.07
A28: 4.4 | B28: ='PLANILHA ORÇAM.'!C28 -> Roda parede em granito cinza andorinha 7x2cm, com acabamento abaulado nos dois lados | C28: ='PLANILHA ORÇAM.'!D28 -> m | D28: 117.77 | E28: Conforme projeto:(6,30x5,10x3,55x0,30)+(6,30x5,05x3,55x0,35)+(6,30x2,35)+(2,60x1,50)+(2,60x1,50)4,55x2,60)+(2,90x5,25x1,20x0,80x1,15x0,80) = 117,77m2 | J28: =D28-'PLANILHA ORÇAM.'!E31 -> 1.18
A29: 4.5 | B29: ='PLANILHA ORÇAM.'!C29 -> Piso cerâmico 45x45cm, PEI 5, Cargo Plus Gray, marcas de referência Eliane, Cecrisa ou Portobello, assentado com argamassa de cimento colante, inclusive rejuntamento | C29: ='PLANILHA ORÇAM.'!D29 -> m2 | D29: 116.59 | E29: 116,59 m² | J29: =D29-'PLANILHA ORÇAM.'!E34 -> 116.59
A30: 4.6 | B30: ='PLANILHA ORÇAM.'!C30 -> Soleira de granito esp. 2 cm e largura de 15 cm | C30: ='PLANILHA ORÇAM.'!D30 -> m | D30: 13 | E30: 13,00m
A31: 4.7 | B31: ='PLANILHA ORÇAM.'!C31 -> Forro de gesso acabamento tipo liso | C31: ='PLANILHA ORÇAM.'!D31 -> m2 | D31: 116.59 | E31: 116,59m²
A32: 4.8 | B32: ='PLANILHA ORÇAM.'!C32 -> Chapisco com argamassa de cimento e areia média ou grossa lavada no traço 1:3, espessura 5 mm (Para revestimento meia-parede) | C32: ='PLANILHA ORÇAM.'!D32 -> m2 | D32: 85.73 | E32: 85,73m²
A33: 4.9 | B33: ='PLANILHA ORÇAM.'!C33 -> Emboço de argamassa de cimento, cal hidratada CH1 e areia lavada traço 1:0.5:6, espessura 20 mm (Para revestimento meia-parede) | C33: ='PLANILHA ORÇAM.'!D33 -> m2 | D33: 85.73 | E33: 85,73m²
A35: 5 | B35: ESQUADRIAS | J35: =D35-'PLANILHA ORÇAM.'!E35 -> 0
A36: 5.1 | B36: ='PLANILHA ORÇAM.'!C36 -> JANELA DE AÇO TIPO BASCULANTE PARA VIDROS, COM BATENTE, FERRAGENS E PINTURA ANTICORROSIVA. EXCLUSIVE VIDROS, ACABAMENTO, ALIZAR E CONTRAMARCO. FORNECIMENTO E INSTALAÇÃO. AF_12/2019 | C36: ='PLANILHA ORÇAM.'!D36 -> m2 | D36: 1.2 | E36: (0,60x0,60x2)=0,72m2 (0,80x0,60)=0,48m2 Total:0,72+0,48= 1,20m2 | J36: =D36-'PLANILHA ORÇAM.'!E36 -> -4.22
A37: 5.2 | B37: ='PLANILHA ORÇAM.'!C37 -> Vidro plano transparente liso, com 4 mm de espessura | C37: ='PLANILHA ORÇAM.'!D37 -> m2 | D37: 1.2 | E37: (0,60x0,60x2)=0,72m2 (0,80x0,60)=0,48m2 Total:0,72+0,48= 1,20m2 | J37: =D37-'PLANILHA ORÇAM.'!E37 -> -4.22
A38: 5.3 | B38: ='PLANILHA ORÇAM.'!C38 -> Marco de madeira de lei de 1ª (Peroba, Ipê, Angelim Pedra ou equivalente) com 15 x 3 cm de batente, nas dimensões de 0.90 x 2.10 m | C38: ='PLANILHA ORÇAM.'!D38 -> Und | D38: 2 | E38: 2 unidade
A39: 5.4 | B39: ='PLANILHA ORÇAM.'!C39 -> Porta em madeira de lei tipo angelim pedra ou equiv.c/enchimento em madeira 1a.qualidade esp. 30mm p/ pintura, inclusive alizares, dobradiças e fechadura externa em latão cromado LaFonte ou equiv., exclusive marco, nas dim.: 0.90 x 2.10 m | C39: ='PLANILHA ORÇAM.'!D39 -> Und | D39: 2 | E39: 2 unidades
A40: 5.5 | B40: ='PLANILHA ORÇAM.'!C40 -> Portão de ferro de abrir em barra chata, chapa e tubo, inclusive chumbamento | C40: ='PLANILHA ORÇAM.'!D40 -> m2 | D40: 3.6 | E40: 3,60m²
C41: ='PLANILHA ORÇAM.'!D41 -> 0 | J41: =D41-'PLANILHA ORÇAM.'!E41 -> 0
...

Sheet MEMORIAL DESCRITIVO
B1: PREFEITURA MUNICIPAL DE VARGEM ALTA
B2: ESTADO DO ESPÍRITO SANTO
A4: Obra: | B4: ='PLANILHA ORÇAM.'!B3:E3 -> REFORMA E AMPLIAÇÃO EMEB "FRADE"
A5: Local: | B5: ='PLANILHA ORÇAM.'!B4:E4 -> FRADE- VARGEM ALTA- ES
A7: MEMORIAL DESCRITIVO
B9: REFORMA
A10: 1 | B10: INSTALAÇÕES DO CANTEIRO DE OBRA
B11: A placa da obra nas dimensões de 4,00 x 2,00 m (8,00 m2) será confeccionada em chapa galvanizada com requadro de madeira de lei 8x8 cm e fixada em pontaletes de madeira de lei 8x8 cm na altura útil total de 3,50 m.Na placa deverá constar o nome do orgão provedor do recurso, o nome do orgão tomador do recurso, título ou descrição da obra / serviço, o valor do empreendimento e o nome da empresa e do responsável técnico da empresa, responsáveis pela obra, bem como o prazo de execução da mesma.
A13: 2 | B13: RETIRADA E DEMOLIÇÃO
B14: Será realizado a demolição das telhas que se encontram com patologias.
B15: Será realizado a remoção de revestimento cerâmico da construção que se encontram com patologias.
B16: Deverá ser retirado forro em reguas de pvc, inclusive perfis que se encontram com patologias.
B17: Será realizado a demolição de alvenaria para nova locação das áreas dos cômodos da construção conforme o projeto.
B18: Será realizado rasgo em contrapiso para ramais de implantação de novas tubulações da rede de esgoto.
B19: Será realizado a retirada de esquadria para nova locação conforme projeto.
A21: 3 | B21: ALVENARIA
B22: A alvenaria de vedação será executada de blocos cerâmicos furados 9x9x39 cm com espessura da parede 9 cm, assentados com argamassa mista de cimento, areia e cal hidratada no traço 1:4:6, sendo a argamassa do assentamento sendo realizada pela betoneira.
A24: 4 | B24: REVESTIMENTO
B25: O chapisco será aplicado nas alvenarias construidas no processo de reforma com colher de pedreiro em argamassa traço 1:3 com preparo manual.
B26: O emboço será aplicado nas alvenarias em argamassa no traço 1:2:8 em preparo manual com execução de taliscas.
B27: O revestimento cerâmico será realizado nas paredes internas com placas tipo esmaltada extra de dimensões 20x20cm.
B28: Será realizado a implantação de forro em réguas de pvc liso, inclusive estrutura para fixação.
A30: 5 | B30: ESQUADRIAS
B31: Será realizado a implantação de janela de aço, com fixação com argamassa exclusive vidros.
B32: Será realizado a implantação de vidro temperado incolor para as janelas, espessura de 6mm, sendo fornecimento e instalação.
A34: 6 | B34: INSTALAÇÃO ELÉTRICA
B35: Será realizado a implantação de ponto de iluminação, incluindo interruptor simples com 2 módulos, caixa életrica, eletroduto, cabo, rasgo, quebra e chumbamento exclusive luminária e lâmpada.
B36: Será realizado a implantação de ponto de utilização de equipamentos elétricos, incluindo suporte e placa, caixa elétrica, eletroduto, cabo, rasgo, quebra e chumbamento.
B37: Será realizado a implantação de ponto de tomada incluindo tomada 10A/250V, caixa elétrica, eletroduto, cabo, rasgo, quebra e chumbamento.
B38: Será realizado a implantação de luminária, de sobrepor, com reator de partida rápida e lâmpada fluorescente de 1x40W, completa, fornecimento e instalação.
B39: Deverá ser implantado ventilador de teto base madeira sem alojamento para luminária, ref. Tron ou equivalente, com comando de interruptor simples, sem dimer para regulagem de velocidade.
A41: 7 | B41: INSTALAÇÕES HIDRO-SANITÁRIAS
B42: REDE DE ESGOTO
B43: Será realizado a implantação de de tubo pvc, série normal para rede de esgoto com diâmetro de 40mm à 100mm, sendo fornecimento e instalação em ramal de descarga ou ramal de esgoto sanitário.
B44: Será realizado a execução de caixa de inspeção com dimensão de 80x80x80cm em alvenaria
B45: Será realizado a execução de caixa de gordura dupla em concreto pré-moldado com diâmetro de 60mm com tampa, sendo fornecimento e instalação.
B46: Será realizado ralo sinfonado em pvc, diâmetro de 100x40mm, junta soldável, sendo fornecimento e instalação em ramais de encaminhamento de água pluvial.
B47: REDE DE ÁGUA
B48: Será realizado a implantação de tubos de pvc, soldável com diâmetro de 25 à 75mm, instalado em reservação de água de edificação que possua reservatório de fibro/fibrocimento sendo fornecimento e instalação.
B49: Será instalado registro de gaveta bruto em latão de 1", roscável instalado em edificação que possua reservatório inclusive fornecimento e instalação.
...

Sheet BDI - 29,63%
A1: DETALHAMENTO DO BDI
A3: PROPONENTE: | B3: Prefeitura de Vargem Alta
A4: OBRA: | B4: ='PLANILHA ORÇAM.'!B3:E3 -> REFORMA E AMPLIAÇÃO EMEB "FRADE"
A5: CONTRATO:
A7: 1. Regime de Contribuição Previdenciária
B9: Com Desoneração
A11: 2. Tipo de Intervenção
B13: Edificações
A15: 3. Incidências sobre o custo
B17: Administração Central - AC | C17: 5 | D17: %
B18: Riscos - R | C18: 1 | D18: %
B19: Seguros e Garantias Contratuais - S+G | C19: 1 | D19: %
B20: Despesas e Encargos Financeiros - DF | C20: 0.6 | D20: %
B22: Lucro - L | C22: 4.59 | D22: %
A24: 4 – Incidências sobre o preço de venda
B26: Despesas Tributárias - I | C26: =C29+C31+C32+C33 -> 13.15 | D26: %
B28: Percentual da base de cálculo para o ISS: | C28: 100 | D28: %
B29: Alíquota do ISS (sobre a base de cálculo): | C29: 5 | D29: %
B31: COFINS | C31: 3 | D31: %
B32: PIS | C32: 0.65 | D32: %
B33: INSS | C33: =IF(B9="Com Desoneração",4.5,0) -> 4.5 | D33: %
A35: 5 – Demonstrativo de cálculo do BDI
B37: BDI= (1+(AC+S+R+G))(1+DF)(1+L)) -1 = | C37: =ROUND((((1+($C$17/100)+($C$19/100)+($C$18/100))*(1+($C$20/100))*(1+($C$22/100)))/(1-$C$26/100)-1),4) -> 0.2963
B38: ( 1- I )
A40: Declaro para os devidos fins que, conforme legislação tributária municipal, a base de cálculo
A41: =CONCATENATE("do ISS para ", B13," é de ",C28," %",", com a respectiva alíquota de ",C29," %") -> do ISS para Edificações é de 100 %, com a respectiva alíquota de 5 %
A43: Declaro para os devidos fins que o regime de Contribuição Previdenciária adotado para
A44: =CONCATENATE("elaboração do orçamento foi ",B9,", e que esta é a alternativa mais adequada para ") -> elaboração do orçamento foi Com Desoneração, e que esta é a alternativa mais adequada para
A45: a Administração Pública.
A49: Eng./Arq. | B49: GERALDO BRUNORO ESTEVES
A50: CREA/CAU: | B50: CREA - ES 033738/D
A55: Nome | B55: ELIESER RABELLO
A56: Cargo | B56: Prefeito Municipal

Sheet CRONOGRAMA
A1: PREFEITURA MUNICIPAL DE VARGEM ALTA ESTADO DO ESPÍRITO SANTO
A3: OBRA: | B3: ='PLANILHA ORÇAM.'!B3:E3 -> REFORMA E AMPLIAÇÃO EMEB "FRADE"
A4: LOCAL: | B4: ='PLANILHA ORÇAM.'!B4:E4 -> FRADE- VARGEM ALTA- ES
A5: CRONOGRAMA FÍSICO-FINANCEIRO
A6: ITEM | B6: ESPECIFICAÇÃO | E6: VALOR DAS OBRAS E % FÍSICA | F6: ANDAMENTO EM MESES
F7: 1º MÊS | G7: 2º MÊS | H7: 3º MÊS | I7: 4º MÊS
B8: REFORMA
A9: 1 | B9: ='PLANILHA ORÇAM.'!C8 -> INSTALAÇÃO DO CANTEIRO DE OBRAS | E9: ='PLANILHA ORÇAM.'!G10 -> 2970.3937 | F9: =E9 -> 2970.3937
E10: =E9/E90 -> 0.011398221
F11: 1
A12: 2 | B12: ='PLANILHA ORÇAM.'!C11 -> RETIRADA E DEMOLIÇÃO | E12: ='PLANILHA ORÇAM.'!G20 -> 5264.6558 | F12: =E12*F14 -> 5264.6558
E13: =E12/E90 -> 0.020201939
F14: 1
A15: 3 | B15: ='PLANILHA ORÇAM.'!C21 -> ALVENARIA | E15: ='PLANILHA ORÇAM.'!G23 -> 5489.5129 | F15: =E15*F17 -> 5489.5129
E16: =E15/E90 -> 0.021064778
F17: 1
A18: 4 | B18: ='PLANILHA ORÇAM.'!C24 -> REVESTIMENTO | E18: ='PLANILHA ORÇAM.'!G34 -> 37706.368 | F18: =E18*F20 -> 37706.368
E19: =E18/E90 -> 0.14468975
F20: 1
A21: 5 | B21: ='PLANILHA ORÇAM.'!C35 -> ESQUADRIAS | E21: ='PLANILHA ORÇAM.'!G41 -> 15153.899 | F21: =E21 -> 15153.899
E22: =E21/E90 -> 0.058149697
F23: 1
A24: 6 | B24: ='PLANILHA ORÇAM.'!C42 -> INSTALAÇÃO ELÉTRICA | E24: ='PLANILHA ORÇAM.'!G48 -> 4938.6178 | G24: =E24*G26 -> 4938.6178
E25: =E24/E90 -> 0.018950841
G26: 1
A27: 7 | B27: ='PLANILHA ORÇAM.'!C49 -> SPDA | E27: ='PLANILHA ORÇAM.'!G59 -> 7760.8003 | G27: =E27*G29 -> 7760.8003
E28: =E27/E90 -> 0.029780335
G29: 1
A30: 8 | B30: ='PLANILHA ORÇAM.'!C60 -> INSTALAÇÕES HIDRO-SANITÁRIAS | E30: ='PLANILHA ORÇAM.'!G75 -> 6107.133 | G30: =E30 -> 6107.133
E31: =E30/E90 -> 0.023434756
G32: 1
A33: 9 | B33: ='PLANILHA ORÇAM.'!C76 -> COBERTURA | E33: ='PLANILHA ORÇAM.'!G83 -> 83096.521 | G33: =E33*G35 -> 41548.261 | H33: =E33*H35 -> 41548.261
E34: =E33/E90 -> 0.31886431
G35: 0.5 | H35: 0.5
A36: 10 | B36: ='PLANILHA ORÇAM.'!C84 -> PINTURA | E36: ='PLANILHA ORÇAM.'!G89 -> 10661.435 | G36: =E36 -> 10661.435
E37: =E36/E90 -> 0.04091087
G38: 1
A39: 11 | B39: ='PLANILHA ORÇAM.'!C90 -> ACESSÓRIOS | E39: ='PLANILHA ORÇAM.'!G94 -> 2130.3197 | G39: =G41*E39 -> 2130.3197
E40: =E39/E90 -> 0.0081746253
G41: 1
...
