Workbook

Sheet PLANILHA
A1: PREFEITURA MUNICIPAL DE VARGEM ALTA
A2: ESTADO DO ESPIRITO SANTO
A3: OBRA: | B3: CONSTRUÇÃO DE ESTAÇÃO DE TRATAMENTO DE ÁGUA DE CASTELINHO | L3: Data Base:DER-ES AGO/ /2021 CESAN, SINAPI
A4: LOCAL: | B4: CASTELINHO- VARGEM ALTA - ES | L4: BDI = 31,96 % Leis Sociais= 157,27%
A5: ITEM | B5: CÓDIGO SINAPI | C5: ESPECIFICAÇÃO | J5: UNID | K5: QUANT. | L5: PREÇOS EM REAL
L6: P. UNIT. | M6: P. TOTAL
C7: ESTAÇÃO DE TRATAMENTO DE ÁGUA
A8: 1 | C8: INSTALAÇÃO DO CANTEIRO DE OBRAS
A9: 1.1 | B9: 020305 DER-ES | C9: Placa de obra nas dimensões de 2.0 x 4.0 m, padrão IOPES | J9: m2 | K9: 8 | L9: =Q9 -> 377.97 | M9: =ROUND(L9*K9,2) -> 3023.76 | N9: 286.43 | O9: 0.3196 | P9: =O9*N9 -> 91.543028 | Q9: =ROUND(P9+N9,2) -> 377.97
A10: 1.2 | B10: 020713 DER-ES | C10: Rede de luz, incl. padrão entrada de energia trifás., cabo de ligação até barracões, quadro de distrib., disj. e chave de força (quando necessário), cons. 20m entre padrão entrada e QDG, conf. projeto (1 utilização) | J10: m | K10: 5 | L10: =Q10 -> 805.99 | M10: =ROUND(L10*K10,2) -> 4029.95 | N10: 610.78 | O10: 0.3196 | P10: =O10*N10 -> 195.20529 | Q10: =ROUND(P10+N10,2) -> 805.99
C11: SUBTOTAL | M11: =SUM(M9:M10) -> 7053.71
A12: 2 | C12: SERVIÇOS PRELIMINARES
A13: 2.1 | B13: 99059 SINAPI | C13: LOCACAO CONVENCIONAL DE OBRA, UTILIZANDO GABARITO DE TÁBUAS CORRIDAS PONTALETADAS A CADA 2,00M - 2 UTILIZAÇÕES. AF_10/2018 | J13: m | K13: ='Memorial de Cálculo'!E12 -> 52.42 | L13: =Q13 -> 67.93 | M13: =ROUND(L13*K13,2) -> 3560.89 | N13: 51.48 | O13: 0.3196 | P13: =O13*N13 -> 16.453008 | Q13: =ROUND(P13+N13,2) -> 67.93 | R13: =8.3+9.13+8.3+9.13 -> 34.86
C14: SUBTOTAL | M14: =SUM(M13:M13) -> 3560.89 | O14: 0.3196
A15: 3 | C15: ESTRUTURA EM CONCRETO ARMADO E SERVIÇOS GERAIS DIVERSOS | O15: 0.3196
A16: 3.1 | B16: 94967 SINAPI | C16: CONCRETO FCK = 40MPA, TRAÇO 1:1,6:1,9 (CIMENTO/ AREIA MÉDIA/ BRITA 1) - PREPARO MECÂNICO COM BETONEIRA 400 L. AF_07/2016 | J16: m3 | K16: ='Memorial de Cálculo'!E15 -> 50.6 | L16: =Q16 -> 543.58 | M16: =ROUND(L16*K16,2) -> 27505.15 | N16: 411.93 | O16: 0.3196 | P16: =O16*N16 -> 131.65283 | Q16: =ROUND(P16+N16,2) -> 543.58
A17: 3.2 | B17: 93358 SINAPI | C17: ESCAVAÇÃO MANUAL DE VALA COM PROFUNDIDADE MENOR OU IGUAL A 1,30 M. AF_03/2016 | J17: m3 | K17: ='Memorial de Cálculo'!E16 -> 128.81 | L17: =Q17 -> 81.75 | M17: =ROUND(L17*K17,2) -> 10530.22 | N17: 61.95 | O17: 0.3196 | P17: =O17*N17 -> 19.79922 | Q17: =ROUND(P17+N17,2) -> 81.75 | R17: =3.65*2.45*8.3 -> 74.22275 | S17: =1.7*3.75*6.3 -> 40.1625 | T17: =R17+S17 -> 114.38525
A18: 3.3 | B18: 94969 SINAPI | C18: CONCRETO FCK = 15MPA, TRAÇO 1:3,4:3,5 (CIMENTO/ AREIA MÉDIA/ BRITA 1) - PREPARO MECÂNICO COM BETONEIRA 600 L. AF_07/2016 | J18: m3 | K18: ='Memorial de Cálculo'!E17 -> 2.1 | L18: =Q18 -> 387.09 | M18: =ROUND(L18*K18,2) -> 812.89 | N18: 293.34 | O18: 0.3196 | P18: =O18*N18 -> 93.751464 | Q18: =ROUND(P18+N18,2) -> 387.09
A19: 3.4 | B19: 92916 SINAPI | C19: ARMAÇÃO DE ESTRUTURAS DE CONCRETO ARMADO, EXCETO VIGAS, PILARES, LAJES E FUNDAÇÕES, UTILIZANDO AÇO CA-50 DE 6,3 MM - MONTAGEM. AF_12/2015 | J19: kg | K19: ='Memorial de Cálculo'!E18 -> 202 | L19: =Q19 -> 24.27 | M19: =ROUND(L19*K19,2) -> 4902.54 | N19: 18.39 | O19: 0.3196 | P19: =O19*N19 -> 5.877444 | Q19: =ROUND(P19+N19,2) -> 24.27
A20: 3.5 | B20: 92917 SINAPI | C20: ARMAÇÃO DE ESTRUTURAS DE CONCRETO ARMADO, EXCETO VIGAS, PILARES, LAJES E FUNDAÇÕES, UTILIZANDO AÇO CA-50 DE 8,0 MM - MONTAGEM. AF_12/2015 | J20: kg | K20: ='Memorial de Cálculo'!E19 -> 1468 | L20: =Q20 -> 23.24 | M20: =ROUND(L20*K20,2) -> 34116.32 | N20: 17.61 | O20: 0.3196 | P20: =O20*N20 -> 5.628156 | Q20: =ROUND(P20+N20,2) -> 23.24
A21: 3.6 | B21: 92919 SINAPI | C21: ARMAÇÃO DE ESTRUTURAS DE CONCRETO ARMADO, EXCETO VIGAS, PILARES, LAJES E FUNDAÇÕES, UTILIZANDO AÇO CA-50 DE 10,0 MM - MONTAGEM. AF_12/2015 | J21: kg | K21: ='Memorial de Cálculo'!E20 -> 2201 | L21: =Q21 -> 21.05 | M21: =ROUND(L21*K21,2) -> 46331.05 | N21: 15.95 | O21: 0.3196 | P21: =O21*N21 -> 5.09762 | Q21: =ROUND(P21+N21,2) -> 21.05 | R21: =120*40 -> 4800
A22: 3.7 | B22: 100102 DER-ES | C22: Impermeabilização nas seguintes etapas: chapisco traço 1:2 c/ sika 1 ou equivalente, revest. duplo c/ argamassa de cimento e areia traço 1:3 c/ sika 1 ou equivalente, em 2x15 mm e acab. argamassa 1:1 | J22: m2 | K22: ='Memorial de Cálculo'!E21 -> 398.52 | L22: =Q22 -> 88.84 | M22: =ROUND(L22*K22,2) -> 35404.52 | N22: 67.32 | O22: 0.3196 | P22: =O22*N22 -> 21.515472 | Q22: =ROUND(P22+N22,2) -> 88.84
A23: 3.8 | B23: 97086 SINAPI | C23: FABRICAÇÃO, MONTAGEM E DESMONTAGEM DE FORMA PARA RADIER, EM MADEIRA SERRADA, 4 UTILIZAÇÕES. AF_09/2017 | J23: m2 | K23: 424 | L23: =Q23 -> 144.34 | M23: =ROUND(L23*K23,2) -> 61200.16 | N23: 109.38 | O23: 0.3196 | P23: =O23*N23 -> 34.957848 | Q23: =ROUND(P23+N23,2) -> 144.34 | U23: =2.2*7 -> 15.4
A24: 3.9 | B24: 7160100180 CESAN | C24: ESTRUTURA EM MADEIRA DE LEI | J24: m3 | K24: ='Memorial de Cálculo'!E23 -> 0.58 | L24: =Q24 -> 7864.64 | M24: =ROUND(L24*K24,2) -> 4561.49 | N24: 5959.87 | O24: 0.3196 | P24: =O24*N24 -> 1904.7745 | Q24: =ROUND(P24+N24,2) -> 7864.64
A25: 3.10 | B25: MERCADO | C25: REGISTRO DE GAVETA DE FERRO FUNDIDO DE 150mm com cabeçote | J25: und | K25: ='Memorial de Cálculo'!E24 -> 4 | L25: =Q25 -> 4232.74 | M25: =ROUND(L25*K25,2) -> 16930.96 | N25: 3207.5933 | O25: 0.3196 | P25: =O25*N25 -> 1025.1468 | Q25: =ROUND(P25+N25,2) -> 4232.74
A26: 3.11 | B26: MERCADO | C26: REGISTRO DE GAVETA DE FERRO FUNDIDO DE 100mm com cabeçote | J26: und | K26: ='Memorial de Cálculo'!E25 -> 2 | L26: =Q26 -> 2647.5 | M26: =ROUND(L26*K26,2) -> 5295 | N26: 2006.2933 | O26: 0.3196 | P26: =O26*N26 -> 641.21135 | Q26: =ROUND(P26+N26,2) -> 2647.5
A27: 3.12 | B27: 141218 DER-ES | C27: Tubo de aço galvanizado, inclusive conexões, diâm. 100mm(4") | J27: m | K27: ='Memorial de Cálculo'!E26 -> 7.1 | L27: =Q27 -> 493.03 | M27: =ROUND(L27*K27,2) -> 3500.51 | N27: 373.62 | O27: 0.3196 | P27: =O27*N27 -> 119.40895 | Q27: =ROUND(P27+N27,2) -> 493.03 | R27: 0,55+0,55
A28: 3.13 | B28: 7160100330 CESAN | C28: CALHA PARSHALL PADRAO FIBRA VIDRO W=3" | J28: und | K28: 1 | L28: =Q28 -> 1569.03 | M28: =ROUND(L28*K28,2) -> 1569.03 | N28: 1189.02 | O28: 0.3196 | P28: =O28*N28 -> 380.01079 | Q28: =ROUND(P28+N28,2) -> 1569.03
A29: 3.14 | B29: 102253 SINAPI | C29: DIVISORIA SANITÁRIA, TIPO CABINE, EM GRANITO CINZA POLIDO, ESP = 3CM, ASSENTADO COM ARGAMASSA COLANTE AC III-E, EXCLUSIVE FERRAGENS. AF_01/2021 (chicanas) | J29: m2 | K29: 16.8 | L29: =Q29 -> 491.21 | M29: =ROUND(L29*K29,2) -> 8252.33 | N29: 372.24 | O29: 0.3196 | P29: =O29*N29 -> 118.9679 | Q29: =ROUND(P29+N29,2) -> 491.21 | R29: =(2.9+2.9+2.2+2.2+2.2+2.2+2.2)*1 -> 16.8
A30: 3.15 | B30: 88420 SINAPI | C30: APLICAÇÃO MANUAL DE PINTURA COM TINTA TEXTURIZADA ACRÍLICA EM SUPERFÍCIES EXTERNAS DE SACADA DE EDIFÍCIOS DE MÚLTIPLOS PAVIMENTOS, UMA COR.AF_06/2014 | J30: m2 | K30: 139.81 | L30: =Q30 -> 30.21 | M30: =ROUND(L30*K30,2) -> 4223.66 | N30: 22.89 | O30: 0.3196 | P30: =O30*N30 -> 7.315644 | Q30: =ROUND(P30+N30,2) -> 30.21
A31: 3.16 | B31: 7230100160 CESAN | C31: AREIA PARA FILTRO TE=0,50MM CU=1,5MM | J31: m3 | K31: 3.84 | L31: =Q31 -> 1431.37 | M31: =ROUND(L31*K31,2) -> 5496.46 | N31: 1084.7 | O31: 0.3196 | P31: =O31*N31 -> 346.67012 | Q31: =ROUND(P31+N31,2) -> 1431.37 | U31: =2.3+5.5+2.3+5.5 -> 15.6 | V31: =U31*0.12 -> 1.872 | W31: =V31*0.08 -> 0.14976
A32: 3.17 | B32: 7230100150 CESAN | C32: SEIXO ROLADO PARA FILTRO 3,2MMX2,0MM | J32: m3 | K32: 0.96 | L32: =Q32 -> 2233.96 | M32: =ROUND(L32*K32,2) -> 2144.6 | N32: 1692.91 | O32: 0.3196 | P32: =O32*N32 -> 541.05404 | Q32: =ROUND(P32+N32,2) -> 2233.96 | U32: =2.3+2.3 -> 4.6 | V32: =U32*0.12 -> 0.552 | W32: =V32*0.08 -> 0.04416
A33: 3.18 | B33: 7230100140 CESAN | C33: SEIXO ROLADO PARA FILTRO 6,3MMX3,2MM | J33: m3 | K33: 0.64 | L33: =Q33 -> 2233.96 | M33: =ROUND(L33*K33,2) -> 1429.73 | N33: 1692.91 | O33: 0.3196 | P33: =O33*N33 -> 541.05404 | Q33: =ROUND(P33+N33,2) -> 2233.96 | U33: =0.75*8 -> 6 | V33: =U33*0.08 -> 0.48 | W33: =V33*0.08 -> 0.0384
A34: 3.19 | B34: 7230100130 CESAN | C34: SEIXO ROLADO PARA FILTRO 12,7MMX6,3MM | J34: m3 | K34: 0.64 | L34: =Q34 -> 2233.96 | M34: =ROUND(L34*K34,2) -> 1429.73 | N34: 1692.91 | O34: 0.3196 | P34: =O34*N34 -> 541.05404 | Q34: =ROUND(P34+N34,2) -> 2233.96 | W34: =SUM(W31:W33) -> 0.23232
A35: 3.20 | B35: 7230100120 CESAN | C35: SEIXO ROLADO PARA FILTRO 19MMX12,7MM | J35: m3 | K35: 0.96 | L35: =Q35 -> 2233.96 | M35: =ROUND(L35*K35,2) -> 2144.6 | N35: 1692.91 | O35: 0.3196 | P35: =O35*N35 -> 541.05404 | Q35: =ROUND(P35+N35,2) -> 2233.96
A36: 3.21 | B36: 89355 SINAPI | C36: TUBO, PVC, SOLDÁVEL, DN 20MM, INSTALADO EM RAMAL OU SUB-RAMAL DE ÁGUA - FORNECIMENTO E INSTALAÇÃO. AF_12/2014 | J36: m | K36: 52.8 | L36: =Q36 -> 20.85 | M36: =ROUND(L36*K36,2) -> 1100.88 | N36: 15.8 | O36: 0.3196 | P36: =O36*N36 -> 5.04968 | Q36: =ROUND(P36+N36,2) -> 20.85 | R36: =1.6*6*4 -> 38.4
A37: 3.22 | B37: 89509 SINAPI | C37: TUBO PVC, SÉRIE R, ÁGUA PLUVIAL, DN 50 MM, FORNECIDO E INSTALADO EM RAMAL DE ENCAMINHAMENTO. AF_12/2014 | J37: m | K37: =0.4+0.5 -> 0.9 | L37: =Q37 -> 41.03 | M37: =ROUND(L37*K37,2) -> 36.93 | N37: 31.09 | O37: 0.3196 | P37: =O37*N37 -> 9.936364 | Q37: =ROUND(P37+N37,2) -> 41.03
A38: 3.23 | B38: 89511 SINAPI | C38: TUBO PVC, SÉRIE R, ÁGUA PLUVIAL, DN 75 MM, FORNECIDO E INSTALADO EM RAMAL DE ENCAMINHAMENTO. AF_12/2014 | J38: m | K38: ='Memorial de Cálculo'!E37 -> 20.81 | L38: =Q38 -> 59.05 | M38: =ROUND(L38*K38,2) -> 1228.83 | N38: 44.75 | O38: 0.3196 | P38: =O38*N38 -> 14.3021 | Q38: =ROUND(P38+N38,2) -> 59.05
A39: 3.24 | B39: 89512 SINAPI | C39: TUBO PVC, SÉRIE R, ÁGUA PLUVIAL, DN 100 MM, FORNECIDO E INSTALADO EM RAMAL DE ENCAMINHAMENTO. AF_12/2014 | J39: m | K39: 40 | L39: =Q39 -> 96.23 | M39: =ROUND(L39*K39,2) -> 3849.2 | N39: 72.92 | O39: 0.3196 | P39: =O39*N39 -> 23.305232 | Q39: =ROUND(P39+N39,2) -> 96.23
A40: 3.25 | B40: 89580 SINAPI | C40: TUBO PVC, SÉRIE R, ÁGUA PLUVIAL, DN 150 MM, FORNECIDO E INSTALADO EM CONDUTORES VERTICAIS DE ÁGUAS PLUVIAIS. AF_12/2014 | J40: m | K40: 40 | L40: =Q40 -> 143.74 | M40: =ROUND(L40*K40,2) -> 5749.6 | N40: 108.93 | O40: 0.3196 | P40: =O40*N40 -> 34.814028 | Q40: =ROUND(P40+N40,2) -> 143.74
...

Sheet MÉDIA ORÇAMENTOS 
A1: ORÇAMENTOS
A2: REGISTRO DE GAVETA DE FERRO FUNDIDO DE 100mm com cabeçote
A3: VIMETAL | C3: 2383.2
A4: TUBOVAL COMERCIO LTDA | C4: 1135.68
A5: CONTUBOS | C5: 2500
A6: =(C5+C4+C3)/3 -> 2006.2933
A8: ORÇAMENTOS
A9: REGISTRO DE GAVETA DE FERRO FUNDIDO DE 150mm com cabeçote
A10: VIMETAL | C10: 3857.8
A11: TUBOVAL COMERCIO LTDA | C11: 1864.98
A12: CONTUBOS | C12: 3900
A13: =(C12+C11+C10)/3 -> 3207.5933
C17: =PLANILHA!H70 -> GERALDO BRUNORO ESTEVES
C18: =PLANILHA!H71 -> CREA-ES Nº 033738/D

Sheet Memorial de Cálculo
B1: PREFEITURA MUNICIPAL DE VARGEM ALTA
B2: ESTADO DO ESPÍRITO SANTO
A3: Obra: | B3: =PLANILHA!B3 -> CONSTRUÇÃO DE ESTAÇÃO DE TRATAMENTO DE ÁGUA DE CASTELINHO
A4: Local: | B4: =PLANILHA!B4 -> CASTELINHO- VARGEM ALTA - ES
A5: MEMÓRIA DE CÁLCULO
A6: ITEM | B6: DESCRIÇÃO | D6: UNID | E6: QUANT. | F6: CÁLCULO
A7: 1 | B7: INSTALAÇÃO DO CANTEIRO DE OBRAS
A8: 1.1 | B8: Placa de obra nas dimensões de 2.0 x 4.0 m, padrão IOPES | D8: m2 | E8: 8 | F8: 4,00 x 2,00= 8,00 m2
A9: 1.2 | B9: Rede de luz, incl. padrão entrada de energia trifás., cabo de ligação até barracões, quadro de distrib., disj. e chave de força (quando necessário), cons. 20m entre padrão entrada e QDG, conf. projeto (1 utilização) | D9: m | E9: 5 | F9: Escada Próxima Padaria: 2,50 metros Escada Próxima a Empresa de Granito: 2,50 metros Total: 5,00 metros
A11: 2 | B11: SERVIÇOS PRELIMINARES
A12: 2.1 | B12: =PLANILHA!C13 -> LOCACAO CONVENCIONAL DE OBRA, UTILIZANDO GABARITO DE TÁBUAS CORRIDAS PONTALETADAS A CADA 2,00M - 2 UTILIZAÇÕES. AF_10/2018 | D12: m2 | E12: 52.42 | F12: (8,30 x 2,85)+(6,28x4,58)= 23,66+28,76= 52,42m2 Reservatório: 6,00x6,00= 36,00m2 Total Geral: 52,42+36,00= 88,42m2 | M12: =52.42+36 -> 88.42
A14: 3 | B14: =PLANILHA!C15 -> ESTRUTURA EM CONCRETO ARMADO E SERVIÇOS GERAIS DIVERSOS
A15: 3.1 | B15: =PLANILHA!C16 -> CONCRETO FCK = 40MPA, TRAÇO 1:1,6:1,9 (CIMENTO/ AREIA MÉDIA/ BRITA 1) - PREPARO MECÂNICO COM BETONEIRA 400 L. AF_07/2016 | D15: m2 | E15: 50.6 | F15: Conforme Projeto Estrutural: 50,60m3 | M15: =8.3*2.85 -> 23.655 | N15: =6.28*4.58 -> 28.7624 | O15: =23.66+28.76 -> 52.42
A16: 3.2 | B16: =PLANILHA!C17 -> ESCAVAÇÃO MANUAL DE VALA COM PROFUNDIDADE MENOR OU IGUAL A 1,30 M. AF_03/2016 | D16: =PLANILHA!J17 -> m3 | E16: 128.81 | F16: (8,50x2,65x3,65)+(0,40x6,20x0,20)+(3,95x6,48x1,70)+ (1,75x0,86x0,86x2)= 128,81m3 | M16: =(8.5*2.65*3.65)+(0.4*6.2*0.2)+(3.95*6.48*1.7)+(1.75*0.86*0.86*2) -> 128.81405
A17: 3.3 | B17: =PLANILHA!C18 -> CONCRETO FCK = 15MPA, TRAÇO 1:3,4:3,5 (CIMENTO/ AREIA MÉDIA/ BRITA 1) - PREPARO MECÂNICO COM BETONEIRA 600 L. AF_07/2016 | D17: =PLANILHA!J18 -> m3 | E17: 2.1 | F17: Conforme Projeto Estrutural: 2,10m3 | M17: =(8.5*2.65)+(0.4*6.2)+(3.95*6.48)+(0.86*0.86*2) -> 52.0802 | N17: =0.03*1*4*4 -> 0.48
A18: 3.4 | B18: =PLANILHA!C19 -> ARMAÇÃO DE ESTRUTURAS DE CONCRETO ARMADO, EXCETO VIGAS, PILARES, LAJES E FUNDAÇÕES, UTILIZANDO AÇO CA-50 DE 6,3 MM - MONTAGEM. AF_12/2015 | D18: kg | E18: 202 | F18: Conforme Projeto Estrutural: 202,00kg
A19: 3.5 | B19: =PLANILHA!C20 -> ARMAÇÃO DE ESTRUTURAS DE CONCRETO ARMADO, EXCETO VIGAS, PILARES, LAJES E FUNDAÇÕES, UTILIZANDO AÇO CA-50 DE 8,0 MM - MONTAGEM. AF_12/2015 | D19: kg | E19: 1468 | F19: Conforme Projeto Estrutural: 2.201,00kg
A20: 3.6 | B20: =PLANILHA!C21 -> ARMAÇÃO DE ESTRUTURAS DE CONCRETO ARMADO, EXCETO VIGAS, PILARES, LAJES E FUNDAÇÕES, UTILIZANDO AÇO CA-50 DE 10,0 MM - MONTAGEM. AF_12/2015 | D20: =PLANILHA!J21 -> kg | E20: 2201 | F20: Conforme Projeto Estrutural: 2.201,00kg | N20: =0.48*120 -> 57.6 | O20: =4800+57.6 -> 4857.6
A21: 3.7 | B21: =PLANILHA!C22 -> Impermeabilização nas seguintes etapas: chapisco traço 1:2 c/ sika 1 ou equivalente, revest. duplo c/ argamassa de cimento e areia traço 1:3 c/ sika 1 ou equivalente, em 2x15 mm e acab. argamassa 1:1 | D21: =PLANILHA!J22 -> m2 | E21: 398.52 | F21: Filtros: ((1,60+1,00)x2x4x4,55)+((2,15+1,20)x2x4,45)+(1,60x1,00x4)+ (2,15x1,20x2)+((0,40+2,75+1,03+0,40+2,75+1,03)x1,00)+((2,35+5,00+2,35)x1,15)+(3,75x1,85)+(0,40x2,75x2)+(5,00x0,40)= 166,67m2 Decantador: (2,30x0,30)+(0,30x2,30)+((2,30+0,30+0,30)x0,50) +((2,30+5,50+5,50+2,30)x2,35)+(5,65x2,30)+(0,70x1,50x2)= 54,59m2 Floculador: ((0,15+0,15+0,62+0,70+0,15+0,40+3,59+0,55+0,07) x0,50)+(3,60x0,40)+((3,29+3,29+1,00+1,00)x2,20)+(3,29x1,00)= 26,80m2 Captação e Calha Parshall: (1,00x4x1,80)+(0,50x1,20)+(0,50+1,20)x0,50)= 8,65m2 Externo: ((6,00+2,96+2,95+1,13+1,13)x4,70)+((1,30+1,30+1,10+1,10) x2,35x2,00)+(5,80x2,80)+(0,48x0,58x2)+(3,75x2,35)+(3,29x2,35)+ (1,04+1,04+0,91)x1,30)+(0,76x1,21)+(1,30x1,95)+(3,65x1,85)= 129,84m2 Passadilho e Escadas: ((5,20+1,63+6,13+1,85)x0,60)+(0,18x0,60x10)= 9,97m2 Total:166,67+54,59+28,80+8,65+129,84+9,97= 398,52m2 | M21: =((1.6+1)*2*4*4.55)+((2.15+1.2)*2*4.45)+(1.6*1*4)+ (2.15*1.2*2)+((0.4+2.75+1.03+0.4+2.75+1.03)*1)+((2.35+5+2.35)*1.15)+(3.75*1.85)+(0.4*2.75*2)+(5*0.4) -> 166.6675 | N21: =(2.3*0.3)+(0.3*2.3)+((2.3+0.3+0.3)*0.5)+((2.3+5.5+5.5+2.3)*2.35)+(5.65*2.3)+(0.7*1.5*2) -> 54.585 | O21: =((0.15+0.15+0.62+0.7+0.15+0.4+3.59+0.55+0.07)*0.5)+(3.6*0.4)+((3.29+3.29+1+1)*2.2)+(3.29*1) -> 26.796 | P21: =(1*4*1.8)+(0.5*1.2)+((0.5+1.2)*0.5) -> 8.65 | Q21: =166.67+54.59+28.8+8.65+129.84+9.97 -> 398.52 | R21: =(1.25*10)/50 -> 0.25
A22: 3.8 | B22: =PLANILHA!C23 -> FABRICAÇÃO, MONTAGEM E DESMONTAGEM DE FORMA PARA RADIER, EM MADEIRA SERRADA, 4 UTILIZAÇÕES. AF_09/2017 | D22: =PLANILHA!J23 -> m2 | E22: 424 | F22: Coforme Projeto Estrutural: 424,00 m2 | M22: =((6+2.96+2.95+1.13+1.13)*4.7)+((1.3+1.3+1.1+1.1) *2.35*2)+(5.8*2.8)+(0.48*0.58*2)+(3.75*2.35)+(3.29*2.35)+ ((1.04+1.04+0.91)*1.3)+(0.76*1.21)+(1.3*1.95)+(3.65*1.85) -> 136.5939 | N22: =((5.2+1.63+6.13+1.85)*0.6)+(0.18*0.6*10) -> 9.966 | O22: =166.67+54.59+28.8+8.65+136.59+9.97 -> 405.27 | P22: =O22*0.1 -> 40.527 | Q22: =O22+P22 -> 445.797
A23: 3.9 | B23: =PLANILHA!C24 -> ESTRUTURA EM MADEIRA DE LEI | D23: =PLANILHA!J24 -> m3 | E23: 0.58 | F23: Chincanas:(0,02x0,02x2,90x8)+(0,02x0,02x2,20x20)= 0,03m3 Estrutura Decantador e Comportas: (0,12x0,15x2,30x4)+ (0,12x0,15x5,10x3)+((0,55+0,63+0,71+0,64)x3x0,08x0,08)+(1,44x0,32x0,03x4)+((0,27+0,27)x0,08x0,02x8)= 0,58m3 | M23: =(0.02*0.02*2.9*8)+(0.02*0.02*2.2*20)+(0.12*0.15*2.3*4)+ (0.12*0.15*5.1*3)+((0.55+0.63+0.71+0.64)*3*0.08*0.08)+(1.44*0.32*0.03*4)+((0.27+0.27)*0.08*0.02*8) -> 0.578664
A24: 3.10 | B24: =PLANILHA!C25 -> REGISTRO DE GAVETA DE FERRO FUNDIDO DE 150mm com cabeçote | D24: =PLANILHA!J25 -> und | E24: 4 | F24: 4,00 unidades
A25: 3.11 | B25: =PLANILHA!C26 -> REGISTRO DE GAVETA DE FERRO FUNDIDO DE 100mm com cabeçote | D25: =PLANILHA!J26 -> und | E25: 2 | F25: 2,00 unidades
A26: 3.12 | B26: =PLANILHA!C27 -> Tubo de aço galvanizado, inclusive conexões, diâm. 100mm(4") | D26: =PLANILHA!J27 -> m | E26: 7.1 | F26: Conforme Projeto: 0,55+0,55= 1,10m 1,30+1,30+1,30+1,30+0,20+0,20+0,20+0,20= 6,00m Total Geral: 1,10+6,00= 7,10m | M26: =1.1+1.3+1.3+1.3+1.3+0.2+0.2+0.2+0.2 -> 7.1
A27: 3.13 | B27: =PLANILHA!C28 -> CALHA PARSHALL PADRAO FIBRA VIDRO W=3" | D27: und | E27: 1 | F27: 1,00 unidade
A28: 3.14 | B28: =PLANILHA!C29 -> DIVISORIA SANITÁRIA, TIPO CABINE, EM GRANITO CINZA POLIDO, ESP = 3CM, ASSENTADO COM ARGAMASSA COLANTE AC III-E, EXCLUSIVE FERRAGENS. AF_01/2021 (chicanas) | D28: m2 | E28: 16.8 | F28: Divisórias: (2,90+2,90+2,20+2,20+2,20+2,20+2,20)x1,00= 16,80m2
A29: 3.15 | B29: =PLANILHA!C30 -> APLICAÇÃO MANUAL DE PINTURA COM TINTA TEXTURIZADA ACRÍLICA EM SUPERFÍCIES EXTERNAS DE SACADA DE EDIFÍCIOS DE MÚLTIPLOS PAVIMENTOS, UMA COR.AF_06/2014 | D29: m2 | E29: 139.81 | F29: Externo: ((6,00+2,96+2,95+1,13+1,13)x4,70)+((1,30+1,30+1,10+1,10) x2,35x2,00)+(5,80x2,80)+(0,48x0,58x2)+(3,75x2,35)+(3,29x2,35)+ (1,04+1,04+0,91)x1,30)+(0,76x1,21)+(1,30x1,95)+(3,65x1,85)= 129,84m2 Passadilho e Escadas: ((5,20+1,63+6,13+1,85)x0,60)+(0,18x0,60x10)= 9,97m2 Total: 129,84+9,97= 139,81m2 | M29: =129.84+9.97 -> 139.81
A30: 3.16 | B30: =PLANILHA!C31 -> AREIA PARA FILTRO TE=0,50MM CU=1,5MM | D30: m3 | E30: 3.84 | F30: Utilização por Filtro= 0,96m3 x 4und= 3,84m3 | M30: =3.84/4 -> 0.96 | N30: =M30*4 -> 3.84
A31: 3.17 | B31: =PLANILHA!C32 -> SEIXO ROLADO PARA FILTRO 3,2MMX2,0MM | D31: m3 | E31: 0.96 | F31: Utilização por Filtro= 0,24m3 x 4und= 0,96m3 | M31: =0.96/4 -> 0.24
A32: 3.18 | B32: =PLANILHA!C33 -> SEIXO ROLADO PARA FILTRO 6,3MMX3,2MM | D32: m3 | E32: 0.64 | F32: Utilização por Filtro= 0,16m3 x 4und= 0,64m3 | M32: =0.64/4 -> 0.16
A33: 3.19 | B33: =PLANILHA!C34 -> SEIXO ROLADO PARA FILTRO 12,7MMX6,3MM | D33: m3 | E33: 0.64 | F33: Utilização por Filtro= 0,16m3 x 4und= 0,64m3
A34: 3.20 | B34: =PLANILHA!C35 -> SEIXO ROLADO PARA FILTRO 19MMX12,7MM | D34: m3 | E34: 0.96 | F34: Utilização por Filtro= 0,24m3 x 4und= 0,96m3
A35: 3.21 | B35: =PLANILHA!C36 -> TUBO, PVC, SOLDÁVEL, DN 20MM, INSTALADO EM RAMAL OU SUB-RAMAL DE ÁGUA - FORNECIMENTO E INSTALAÇÃO. AF_12/2014 | D35: m | E35: 52.8 | F35: 1,60x6,00x4,00= 38,40m Tubo Filtros Viga: 0,15 x 4,00 vigas x 6 unds viga x 4,00 filtros= 14,40m Total: 38,40+14,40m= 52,80m | M35: =0.15*4*6*4 -> 14.4 | N35: =38.4+14.4 -> 52.8
A36: 3.22 | B36: =PLANILHA!C37 -> TUBO PVC, SÉRIE R, ÁGUA PLUVIAL, DN 50 MM, FORNECIDO E INSTALADO EM RAMAL DE ENCAMINHAMENTO. AF_12/2014 | D36: m | E36: 0.9 | F36: 0,40+0,50= 0,90m
A37: 3.23 | B37: =PLANILHA!C38 -> TUBO PVC, SÉRIE R, ÁGUA PLUVIAL, DN 75 MM, FORNECIDO E INSTALADO EM RAMAL DE ENCAMINHAMENTO. AF_12/2014 | D37: m | E37: 20.81 | F37: Tubulação de Captação para encaminhamento de água a ser tratada: 1,00+1,80+2,80+6,01+6,08+3,00= 20,81m
A38: 3.24 | B38: =PLANILHA!C39 -> TUBO PVC, SÉRIE R, ÁGUA PLUVIAL, DN 100 MM, FORNECIDO E INSTALADO EM RAMAL DE ENCAMINHAMENTO. AF_12/2014 | D38: m | E38: 40 | F38: Encaminhamento de saída para descargas para ponto existente:40,00 metros
A39: 3.25 | B39: =PLANILHA!C40 -> TUBO PVC, SÉRIE R, ÁGUA PLUVIAL, DN 150 MM, FORNECIDO E INSTALADO EM CONDUTORES VERTICAIS DE ÁGUAS PLUVIAIS. AF_12/2014 | D39: m | E39: 40 | F39: Encaminhamento de saída para descargas para ponto existente:40,00 metros
A41: 4 | B41: GUARDA CORPO
A42: 4.1 | B42: Guarda corpo de tubo de ferro galvanizado, diâm. 3" e 2", h=0.8 m inclusive pintura a óleo ou esmalte | D42: m | E42: 53.4 | F42: Guarda Corpo Tratamento:(4,97+1,97+2,48+1,97 +1,97+2,48+1,97+1,97+1,97+3,25+6,33+0,60+1,10+5,73+2,35 +1,75+0,65+1,24+1,30+1,30+3,04+3,04= 53,40m
A43: 4.2 | B43: PINTURA COM TINTA ALQUÍDICA DE FUNDO (TIPO ZARCÃO) PULVERIZADA SOBRE PERFIL METÁLICO EXECUTADO EM FÁBRICA (POR DEMÃO). AF_01/2020 | D43: m2 | E43: 58.74 | F43: Guarda Corpo Tratamento:(4,97+1,97+2,48+1,97+1,97+2,48+1,97+1,97+1,97+3,25 +6,33+0,60+1,10+5,73+2,35+1,75+0,65+1,24+1,30+1,30+3,04+3,04= 53,40m x 1,10m= 58,74m2
...

Sheet CRONOGRAMA
A1: PREFEITURA MUNICIPAL DE VARGEM ALTA
A2: ESTADO DO ESPÍRITO SANTO
A3: OBRA: | B3: =PLANILHA!B3 -> CONSTRUÇÃO DE ESTAÇÃO DE TRATAMENTO DE ÁGUA DE CASTELINHO
A4: LOCAL: | B4: =PLANILHA!B4 -> CASTELINHO- VARGEM ALTA - ES
A5: CRONOGRAMA FÍSICO - FINANCEIRO COM BARRAS
A6: ITEM | B6: ESPECIFICAÇÃO | D6: VALOR DA OBRA E % FÍSICA | E6: ANDAMENTO EM MESES
E7: 44501 | F7: 44531 | G7: 44562 | H7: 1º MÊS | I7: 2º MÊS | J7: 3º MÊS | K7: 4º MÊS | L7: 5º MÊS | M7: 6º MÊS | N7: 7º MÊS | O7: 8º MÊS | P7: 9º MÊS
A8: 1 | B8: =PLANILHA!C8 -> INSTALAÇÃO DO CANTEIRO DE OBRAS | D8: =PLANILHA!M11 -> 7053.71 | E8: LICITAÇÃO | H8: =H10*D8 -> 7053.71
D9: =D8/D30 -> 0.015144452
H10: 1
A11: 2 | B11: =PLANILHA!C12 -> SERVIÇOS PRELIMINARES | D11: =PLANILHA!M14 -> 3560.89 | H11: =H13*D11 -> 3560.89
D12: =D11/D30 -> 0.0076452999
H13: 1
A14: 3 | B14: =PLANILHA!C15 -> ESTRUTURA EM CONCRETO ARMADO E SERVIÇOS GERAIS DIVERSOS | D14: =PLANILHA!M41 -> 289746.39 | I14: =I16*$D14 -> 86923.917 | J14: =J16*$D14 -> 86923.917 | K14: =K16*$D14 -> 115898.56
D15: =D14/D30 -> 0.62209112
I16: 0.3 | J16: 0.3 | K16: 0.4
A17: 4 | B17: =PLANILHA!C42 -> GUARDA CORPO | D17: =PLANILHA!M45 -> 49488.29 | L17: =L19*$D17 -> 12372.073 | M17: =M19*$D17 -> 12372.073 | N17: =N19*$D17 -> 12372.073 | O17: =O19*$D17 -> 12372.073
D18: =D17/D30 -> 0.10625232
L19: 0.25 | M19: 0.25 | N19: 0.25 | O19: 0.25
A20: 5 | B20: =PLANILHA!C47 -> MOVIMENTO DE TERRA | D20: =PLANILHA!M50 -> 19970.28 | P20: =P22*$D20 -> 19970.28
D21: =D20/D30 -> 0.042876578
P22: 1
A23: 6 | B23: =PLANILHA!C51 -> INFRAESTRUTURA | D23: =PLANILHA!M60 -> 83739.51 | P23: =P25*$D23 -> 83739.51
D24: =D23/D30 -> 0.17979035
P25: 1
A26: 7 | B26: =PLANILHA!C61 -> ADMINISTRAÇÃO LOCAL | D26: =PLANILHA!M63 -> 12202.91 | H26: =H28*$D26 -> 1355.8789 | I26: =I28*$D26 -> 1355.8789 | J26: =J28*$D26 -> 1355.8789 | K26: =K28*$D26 -> 1355.8789 | L26: =L28*$D26 -> 1355.8789 | M26: =M28*$D26 -> 1355.8789 | N26: =N28*$D26 -> 1355.8789 | O26: =O28*$D26 -> 1355.8789 | P26: =P28*$D26 -> 1355.8789
D27: =D26/D30 -> 0.026199884
H28: 0.11111111 | I28: 0.11111111 | J28: 0.11111111 | K28: 0.11111111 | L28: 0.11111111 | M28: 0.11111111 | N28: 0.11111111 | O28: 0.11111111 | P28: 0.11111111
B30: TOTAL SIMPLES | D30: =D8+D11+D14+D17+D20+D23+D26 -> 465761.98 | H30: =H23+H20+H17+H14+H11+H8+H26 -> 11970.479 | I30: =I23+I20+I17+I14+I11+I8+I26 -> 88279.796 | J30: =J23+J20+J17+J14+J11+J8+J26 -> 88279.796 | K30: =K23+K20+K17+K14+K11+K8+K26 -> 117254.43 | L30: =L23+L20+L17+L14+L11+L8+L26 -> 13727.951 | M30: =M23+M20+M17+M14+M11+M8+M26 -> 13727.951 | N30: =N23+N20+N17+N14+N11+N8+N26 -> 13727.951 | O30: =O23+O20+O17+O14+O11+O8+O26 -> 13727.951 | P30: =P23+P20+P17+P14+P11+P8+P26 -> 105065.67
B31: TOTAL ACUMULADO | H31: =H30 -> 11970.479 | I31: =H31+I30 -> 100250.27 | J31: =J30+I31 -> 188530.07 | K31: =K30+J31 -> 305784.51 | L31: =L30+K31 -> 319512.46 | M31: =M30+L31 -> 333240.41 | N31: =N30+M31 -> 346968.36 | O31: =O30+N31 -> 360696.31 | P31: =P30+O31 -> 465761.98
B32: % SIMPLES | D32: =D9+D12+D15+D18+D21+D24+D27 -> 1 | H32: =H30/D30 -> 0.02570085 | I32: =I30/$D30 -> 0.18953843 | J32: =J30/$D30 -> 0.18953843 | K32: =K30/$D30 -> 0.25174754 | L32: =L30/$D30 -> 0.029474178 | M32: =M30/$D30 -> 0.029474178 | N32: =N30/$D30 -> 0.029474178 | O32: =O30/$D30 -> 0.029474178 | P32: =P30/$D30 -> 0.22557803
B33: % ACUMULADO | H33: =H32 -> 0.02570085 | I33: =H33+I32 -> 0.21523928 | J33: =I33+J32 -> 0.40477772 | K33: =J33+K32 -> 0.65652526 | L33: =K33+L32 -> 0.68599944 | M33: =L33+M32 -> 0.71547362 | N33: =M33+N32 -> 0.74494779 | O33: =N33+O32 -> 0.77442197 | P33: =O33+P32 -> 1
A35: =PLANILHA!A67 -> Vargem Alta/ES, 03 de Novembro de 2021.
B39: GERALDO BRUNORO ESTEVES | I39: ELIESER RABELLO
B40: CREA-ES 033738/D | I40: PREFEITO MUNICIPAL

Sheet CPU
A1: PREFEITURA MUNICIPAL DE VARGEM ALTA
A3: ESTADO DO ESPÍRITO SANTO
A5: OBRA: | B5: =PLANILHA!B3 -> CONSTRUÇÃO DE ESTAÇÃO DE TRATAMENTO DE ÁGUA DE CASTELINHO
A6: LOCAL: | B6: =PLANILHA!B4 -> CASTELINHO- VARGEM ALTA - ES
A8: COMPOSIÇÃO DE PREÇO AUXILIAR
A10: Leis Sociais: 157,27% BDI: 34,52%
A12: Item | B12: 3 - ESTAÇÃO DE TRATAMENTO DE ÁGUA | K12: Unidade
A13: 3.8 | B13: Fornecimento e Assentamento de todo o Material de Ferro Fundido para Interligação inclusive Registros de Gaveta | K13: UND
A15: CÓDIGO | B15: 1 - MÃO DE OBRA | D15: EQ SALAR | E15: UNID. | F15: CONSUMO | H15: ENCARGOS | I15: SAL/HORA | J15: CUSTO HORARIO | K15: TOTAL
A16: 20109 | B16: Pedreiro de O.A.C. | D16: 1.24 | E16: H | F16: 0.5 | H16: 1.5727 | I16: 5.83 | J16: =((I16*H16)+I16) -> 14.998841 | K16: =J16*F16 -> 7.4994205
A17: 20002 | B17: Servente | D17: 1 | E17: H | F17: 1 | H17: 1.5727 | I17: 4.7 | J17: =((I17*H17)+I17) -> 12.09169 | K17: =J17*F17 -> 12.09169
A18: TOTAL A | K18: =SUM(K16:K17) -> 19.59111
A20: CÓDIGO | B20: 2 - ITENS DE INCIDÊNCIA | D20: Cód. Padrao | E20: % | F20: M.O | K20: CUSTO
A21: Ferramentas Manuais | D21: 2000 | E21: 0.05 | F21: XXXX | K21: =K18*E21 -> 0.97955552
A22: TOTAL B | K22: =SUM(K21:K21) -> 0.97955552
A24: CÓDIGO | B24: 3 - MATERIAIS | E24: UNID. | F24: CUSTO UNITÁRIO | H24: CONSUMO | J24: CUSTO TOTAL
A25: 10214 | B25: Tubo de concreto s/ armaçao D=0,30m PB | E25: M | F25: 33.65 | H25: 1 | J25: =F25*H25 -> 33.65
A26: TOTAL C | K26: =J25 -> 33.65
A28: CÓDIGO | B28: 3 - SERVIÇOS | E28: UNID. | F28: CUSTO UNITÁRIO | H28: CONSUMO | J28: CUSTO TOTAL
A29: 40348 | B29: Argamassa cimento e areia traço 1:4, tudo incluído | E29: M3 | F29: 338 | H29: 0.003 | J29: =ROUND(F29*H29,2) -> 1.01
A30: 40258 | B30: Escavação manual em mat. 1ª cat. H= 0,00 a 1,50 m | E30: M3 | F30: 48.53 | H30: 0.06 | J30: =ROUND(F30*H30,2) -> 2.91
A31: 40282 | B31: Escavação mecânica em material de 1ª cat. H= 0,00 a 1,50 m | E31: M3 | F31: 9.82 | H31: 0.937 | J31: =ROUND(F31*H31,2) -> 9.2
A32: 40303 | B32: Reaterro de cavas c/ compactação mecânica (compactador manual) | E32: M3 | F32: 32.27 | H32: 0.843 | J32: =ROUND(F32*H32,2) -> 27.2
A33: TOTAL C | K33: =SUM(J29:K32) -> 40.32
A35: RESUMO
A36: DISCRIMINAÇÃO | F36: TAXA | I36: VALORES
A37: MÃO DE OBRA (TOTAL A) | I37: =K18 -> 19.59111
A38: ITENS DE INCIDÊNCIA (TOTAL B) | I38: =K22 -> 0.97955552
A39: MATERIAIS (TOTAL C) | I39: =K26 -> 33.65
A40: SERVIÇOS (TOTAL D) | I40: =K33 -> 40.32
A41: SUBTOTAL | I41: =I37+I38+I39+I40 -> 94.540666
A43: TOTAL | I43: =I41+I42 -> 94.540666
A44: BDI SOBRE O TOTAL | F44: 0.3452 | I44: =F44*I43 -> 32.635438
A45: PREÇO UNITÁRIO CALCULADO | I45: =I43+I44 -> 127.1761
A47: Item | B47: 3 - ILUMINAÇÃO | K47: Unidade
A48: 3.6 | B48: Poste galvanizado 101mm simples, fornecimento e instalação | K48: UND
A50: CÓDIGO | B50: 1 - MÃO DE OBRA | D50: EQ SALAR | E50: UNID. | F50: CONSUMO | H50: ENCARGOS | I50: SAL/HORA | J50: CUSTO HORARIO | K50: TOTAL
A51: 20109 | B51: Pedreiro de O.A.C. | D51: 1.24 | E51: H | F51: 1 | H51: 1.5727 | I51: 5.83 | J51: =((I51*H51)+I51) -> 14.998841 | K51: =J51*F51 -> 14.998841
A52: 20002 | B52: Servente | D52: 1 | E52: H | F52: 3 | H52: 1.5727 | I52: 4.7 | J52: =((I52*H52)+I52) -> 12.09169 | K52: =J52*F52 -> 36.27507
A53: TOTAL A | K53: =SUM(K51:K52) -> 51.273911
...

Sheet CPA
A1: PREFEITURA MUNICIPAL DE VARGEM ALTA
A3: ESTADO DO ESPÍRITO SANTO
A5: OBRA: | B5: =PLANILHA!B3 -> CONSTRUÇÃO DE ESTAÇÃO DE TRATAMENTO DE ÁGUA DE CASTELINHO
A6: LOCAL: | B6: =PLANILHA!B4 -> CASTELINHO- VARGEM ALTA - ES
A8: COMPOSIÇÃO DE PREÇO AUXILIAR
A10: Leis Sociais: 157,27% BDI: 26,19%
A12: Item | B12: 1 - SERVIÇOS PRELIMINARES | K12: Unidade
A13: 7.1 | B13: Administração do canteiro de obra | K13: UND
A15: CÓDIGO | B15: 1 - MÃO DE OBRA | E15: UNID. | F15: COEFICIENTE | H15: P. UNITÁRIO | I15: TOTAL PARCIAL | J15: QUANTIDADE
A16: 90777 | B16: ENGENHEIRO CIVIL DE OBRA JUNIOR COM ENCARGOS COMPLEMENTARES | E16: H | F16: 1 | H16: 81.36 | I16: =H16*F16 -> 81.36 | J16: 44 | K16: =J16*I16 -> 3579.84
A17: 90776 | B17: ENCARREGADO GERAL COM ENCARGOS COMPLEMENTARES | E17: H | F17: 1 | H17: 31.51 | I17: =H17*F17 -> 31.51 | J17: 180 | K17: =J17*I17 -> 5671.8 | L17: =8*5*4 -> 160 | M17: =L17*4 -> 640
A18: TOTAL A | K18: =K16+K17 -> 9251.64
A21: RESUMO
A22: DISCRIMINAÇÃO | F22: TAXA | I22: VALORES
A23: MÃO DE OBRA (TOTAL A) | I23: =K18 -> 9251.64
A24: MATERIAIS (TOTAL B) | I24: =J14 -> 0
A25: EQUIPAMENTOS (TOTAL C) | I25: =J19 -> 0
A26: ENCARGOS SOCIAIS ADERIDO (128,33%)
A27: SUBTOTAL | I27: =I23+I24+I25+I26 -> 9251.64
A29: TOTAL | I29: =I27+I28 -> 9251.64
A30: BDI SOBRE O TOTAL | F30: 0.319 | I30: =F30*I29 -> 2951.2732
A31: PREÇO UNITÁRIO CALCULADO | I31: =I29+I30 -> 12202.913
A33: =PLANILHA!A67 -> Vargem Alta/ES, 03 de Novembro de 2021.
F35: IAN BISMARCK FAGUNDES BETINI
F36: CREA-ES 048975/D

Sheet BDI 31,96%
A1: DETALHAMENTO DO BDI
A3: PROPONENTE: | B3: Prefeitura de Vargem Alta
A4: OBRA: | B4: =PLANILHA!B3 -> CONSTRUÇÃO DE ESTAÇÃO DE TRATAMENTO DE ÁGUA DE CASTELINHO
A5: CONTRATO:
A7: 1. Regime de Contribuição Previdenciária
B9: Com Desoneração
A11: 2. Tipo de Intervenção
B13: Redes de Água
A15: 3. Incidências sobre o custo
B17: Administração Central - AC | C17: 4.06 | D17: %
B18: Riscos, Seguros e Garantias Contratuais - R+S+G | C18: 1 | D18: %
B19: Administração Local - S+G | C19: 8.19 | D19: %
B20: Custos Financeiros - CF | C20: 0.61 | D20: %
B22: Lucro - L | C22: 8 | D22: %
A24: 4 – Incidências sobre o preço de venda
B26: Despesas Tributárias - I | C26: =C29+C31+C32+C33 -> 7.65 | D26: %
D28: %
D29: %
B31: COFINS | C31: 3 | D31: %
B32: PIS | C32: 0.65 | D32: %
B33: INSS | C33: 4 | D33: %
A35: 5 – Demonstrativo de cálculo do BDI
B37: BDI= (1+(AC+S+R+G))(1+DF)(1+L)) -1 = | C37: 0.3196 | E37: =[1]Auxiliar!A17 -> Atende
B38: ( 1- I )
A40: Declaro para os devidos fins que, conforme legislação tributária municipal, a base de cálculo
A41: =CONCATENATE("do ISS para ", B13," é de ",C28," %",", com a respectiva alíquota de ",C29," %") -> do ISS para Redes de Água é de %, com a respectiva alíquota de %
A43: Declaro para os devidos fins que o regime de Contribuição Previdenciária adotado para
A44: =CONCATENATE("elaboração do orçamento foi ",B9,", e que esta é a alternativa mais adequada para ") -> elaboração do orçamento foi Com Desoneração, e que esta é a alternativa mais adequada para
A45: a Administração Pública.
A49: Eng./Arq. | B49: GERALDO BRUNORO ESTEVES
A50: CREA/CAU: | B50: CREA - ES 033738/D
A54: Nome | B54: ELIESER RABELLO
A55: Cargo | B55: Prefeito Municipal

Sheet Memorial Descritivo
B1: PREFEITURA MUNICIPAL DE VARGEM ALTA
B2: ESTADO DO ESPÍRITO SANTO
A4: Obra: | B4: =PLANILHA!B3 -> CONSTRUÇÃO DE ESTAÇÃO DE TRATAMENTO DE ÁGUA DE CASTELINHO
A5: Local: | B5: =PLANILHA!B4 -> CASTELINHO- VARGEM ALTA - ES
A7: MEMORIAL DESCRITIVO
A9: 1 | B9: INSTALAÇÃO DO CANTEIRO DE OBRAS
A10: 1.1 | B10: Placa de obra nas dimensões de 2.0 x 4.0 m, será em chapa de aço galvanizado.
A11: 1.2 | B11: Será necessário uma entrada provisória de energia para execuções do serviço a serem executados seguindo as especificações do serviço apresentado no item.
A13: 2 | B13: SERVIÇOS PRELIMINARES
A14: 2.1 | B14: Será executado locação de obra com gabarito de madeira para a execução da estação de tratamento de água e o reservatório em concreto armado.
A16: 3 | B16: ILUMINAÇÃO
A17: 3.1 | B17: Será executado toda a estrutura em concreto com fck 40 Mpa no traço de 1:1:6:1:9 com cimento, areia média e brita 1 com seu preparo mecânico com betoneira 400l.
A18: 3.2 | B18: A escavação manual será realizado em material de 1a. categoria para a execução do sistema de tratamento de água com as profundidades previstas em projeto.
A19: 3.3 | B19: Será executado o fornecimento, preparo e aplicação de concreto Fck=25 MPa (brita 1 e 2) com 5% de perdas já incluído no custos para a concretagem da estação de tratamento de água.
A20: 3.4 | B20: Será executado o fornecimento, dobragem e colocação em fôrma, de armadura CA-50 A grossa diâmetro de 6.3 a 10.0 mm para a execução em concreto armado das paredes de contensão da estação de tratamento.
A21: 3.5 | B21: Será executado lastro regularizado e impermeabilizado de concreto não estrutural, espessura de 8 cm no fundo de toda a área que será executada a estação de tratamento de água.
A22: 3.6 | B22: Será realizado a impermeabilização de toda a estrutura interna e externa em concreto armado seguindo as seguintes etapas: chapisco traço 1:2 c/ sika 1 ou equivalente, revest. duplo c/ argamassa de cimento e areia traço 1:3 c/ sika 1 ou equivalente, em 2x15 mm e acab. argamassa 1:1
A23: 3.7 | B23: Será executado estrutura em madeira de lei os apoios conforme apresentados em projeto seguindo as devidas dimensões.
A24: 3.8 | B24: Será instalado registro de gaveta de ferro fundido de 150mm com cabeçote conforme projeto.
A25: 3.9 | B25: Será instalado registro de gaveta de ferro fundido de 100mm com cabeçote conforme projeto.
A26: 3.10 | B26: Será executado fôrma de tábua de madeira de 2.5x30.0cm, incluindo o material, corte, montagem, escoramento e desforma para a realização de toda a estrutura em concreto armado.
A27: 3.11 | B27: Será executado tubo de aço galvanizado, inclusive conexões com diâmetro de 100mm(4") conforme projetos apresentados.
A28: 3.12 | B28: Será instalada calha parshall padrão em fibra de vidro W=3" conforme projeto.
... A40: 3.24 | B40: Será executado tubo de PVC rígido soldável marrom com diâmatro de 150mm (6"), inclusive conexões para a interligações do sistema conforme projeto.
A42: 4 | B42: GUARDA CORPO
A43: 4.1 | B43: O guarda corpo será em tubo de ferro galvanizado, diâm. 3" e 2", com altura de 0.80 m inclusive pintura a óleo ou esmalte.
B45: RESERVATÓRIO 75M3
A46: 5 | B46: MOVIMENTO DE TERRA
A47: 5.1 | B47: A escavação manual será realizado em material de 1a. categoria, até 1.50m de profundidade para a execução do reservatório de água com a profundidade previstas em projeto.
A48: 5.2 | B48: Será executado escoramento de vala do tipo contínuo nas estremidades de solo para a execução do reservatório garantindo a segurança e estabilidade do solo local.
A50: 6 | B50: INFRAESTRUTURA
A51: 6.1 | B51: Será executado o fornecimento, preparo e aplicação de concreto Fck=25 MPa (brita 1 e 2) com 5% de perdas já incluído no custos para a concretagem do reservatório de água.
A52: 6.2 | B52: Será executado fôrma de tábua de madeira de 2.5x30.0cm, incluindo o material, corte, montagem, escoramento e desforma para a realização de toda a estrutura em concreto armado.
A53: 6.3 | B53: Será executado o fornecimento, dobragem e colocação em fôrma, de armadura CA-50 A grossa diâmetro de 6.3 a 10.0 mm para a execução em concreto armado das paredes de contensão da estação de tratamento.
A54: 6.4 | B54: Será executado o fornecimento, dobragem e colocação em fôrma, de armadura CA-50 A grossa diâmetro de 12.5 a 25.0 mm (1/2 a 1") para a execução em concreto armado das paredes de contensão da estação de tratamento.
A55: 6.5 | B55: Será realizado a impermeabilização de toda a estrutura interna em concreto armado seguindo as seguintes etapas: chapisco traço 1:2 c/ sika 1 ou equivalente, revest. duplo c/ argamassa de cimento e areia traço 1:3 c/ sika 1 ou equivalente, em 2x15 mm e acab. argamassa 1:1
A56: 6.6 | B56: Será executado tampao F.F. articulado pesado para visita interna no reservatório de água.
A57: 6.7 | B57: Tubo de aço galvanizado com diâmetro 100mm (4"), inclusive conexões para o devido encaminhamento a rede existente de distribuição de água.
A58: 6.8 | B58: Será executado lastro regularizado e impermeabilizado de concreto não estrutural, espessura de 8 cm no fundo de toda a área que será executada a estação de tratamento de água.
A60: 7 | B60: ADMINISTRAÇÃO LOCAL
...
