Workbook

Sheet PLANILHA
A1: PREFEITURA MUNICIPAL DE VARGEM ALTA - ESPIRITO SANTO
A2: ESTADO DO ESPÍRITO SANTO
A3: OBRA: CONSTRUÇÃO DE CAPELA MORTUÁRIA | D3: BDI: 33,25% e Leis Sociais: 157,27%
A4: LOCAL: CASTELINHO - VARGEM ALTA - ES | D4: Data Base: SINAPI JANEIRO/2025 DER ES EDIF. JANEIRO/2025
A5: PLANILHA ORÇAMENTÁRIA
A6: REFERÊNCIA | D6: UNID. | E6: QUANT. | F6: PREÇO UNIT. | G6: PREÇO TOTAL
A7: ÍTEM | B7: CÓDIGO SINAP
A8: 1 | B8: SERVIÇOS PRELIMINARES
A9: 1.1 | B9: INSTALAÇÃO DO CANTEIRO DE OBRAS
A10: 1.1.1 | B10: SINAPI 103689 | C10: FORNECIMENTO E INSTALAÇÃO DE PLACA DE OBRA COM CHAPA GALVANIZADA E ESTRUTURA DE MADEIRA. AF_03/2022_PS | D10: m2 | E10: =MEMORIAL!F9 -> 6 | F10: =ROUND(AU10,2) -> 0 | G10: =F10*E10 -> 0 | H10: 463.36 | I10: 0.3325
A11: 1.1.2 | B11: DER - ES 020713 | C11: Rede de luz, incl. padrão entrada de energia trifás., cabo de ligação até barracões, quadro de distrib., disj. E chave de força (quando necessário), cons. 20m entre padrão entrada e QDG, conf. projeto (1 utilização | D11: m | E11: =MEMORIAL!F10 -> 15 | F11: =ROUND(AU11,2) -> 0 | G11: =F11*E11 -> 0 | H11: 454.43 | I11: 0.3325
A12: 1.1.3 | B12: DER - ES 020712 | C12: Rede de água com padrão de entrada d'água diâm. 3/4", conf. espec. CESAN, incl. tubos e conexões para alimentação, distribuição, extravasor e limpeza, cons. o padrão a 25m, conf. projeto (1 utilização) | D12: m | E12: =MEMORIAL!F11 -> 15 | F12: =ROUND(AU12,2) -> 0 | G12: =F12*E12 -> 0 | H12: 55.94 | I12: 0.3325
A13: 1.1.4 | B13: DER - ES 020702 | C13: Barracão para almoxarifado área de 10.90m2, de chapa de compensado de 12mm e pontalete 8x8cm, piso cimentado e cobertura de telhas de fibrocimento de 6mm, incl. ponto de luz, conf. projeto (1 utilização) | D13: m2 | E13: =MEMORIAL!F12 -> 10.9 | F13: =ROUND(AU13,2) -> 0 | G13: =F13*E13 -> 0 | H13: 582.82 | I13: 0.3325
A14: 1.1.5 | B14: DER - ES 010501 | C14: Locação de obra com gabarito de madeira | D14: m2 | E14: =MEMORIAL!F13 -> 115.85 | F14: =ROUND(AU14,2) -> 0 | G14: =F14*E14 -> 0 | H14: 10.95 | I14: 0.3325
A15: 1.1.6 | B15: DER - ES 020350 | C15: Tapume Telha Metálica Ondulada em aço galvalume 0,50mm Branca h=2,20m, incl. montagem estr. mad. 8"x8", c/adesivo "DER-ES" 60x60cm a cada 10m, incl. faixas pint. esmalte sint. cores azul c/ h=30cm e rosa c/ h=10cm (Reaproveitamento 2x) | D15: m | E15: =MEMORIAL!F14 -> 57.3 | F15: =ROUND(AU15,2) -> 0 | G15: =F15*E15 -> 0 | H15: 144.53 | I15: 0.3325
B16: Subtotal | G16: =SUM(G10:G15) -> 0
A17: 2 | B17: MOVIMENTO DE TERRA
A18: 2.1 | B18: ESCAVAÇÕES
A19: 2.1.1 | B19: SINAPI 96523 | C19: ESCAVAÇÃO MANUAL PARA BLOCO DE COROAMENTO OU SAPATA (INCLUINDO ESCAVAÇÃO PARA COLOCAÇÃO DE FÔRMAS). AF_01/2024 | D19: m³ | E19: =MEMORIAL!F17 -> 38.47 | F19: =ROUND(AU19,2) -> 0 | G19: =F19*E19 -> 0 | H19: 102.81 | I19: 0.3325
A20: 2.1.2 | B20: SINAPI 93382 | C20: REATERRO MANUAL DE VALAS, COM COMPACTADOR DE SOLOS DE PERCUSSÃO. AF_08/2023 | D20: m³ | E20: =MEMORIAL!F18 -> 29.74 | F20: =ROUND(AU20,2) -> 0 | G20: =F20*E20 -> 0 | H20: 29.18 | I20: 0.3325
B21: Subtotal | G21: =SUM(G19:G20) -> 0
A22: 3 | B22: ESTRUTURAS
A23: 3.1 | B23: INFRA-ESTRUTURA (FUNDAÇÃO E VIGA BALDRAME)
A24: 3.1.1 | B24: SINAPI 94971 | C24: CONCRETO FCK = 25MPA, TRAÇO 1:2,3:2,7 (EM MASSA SECA DE CIMENTO/ AREIA MÉDIA/ BRITA 1) - PREPARO MECÂNICO COM BETONEIRA 600 L. AF_05/2021 | D24: m³ | E24: 13.62 | F24: =ROUND(AU24,2) -> 0 | G24: =F24*E24 -> 0 | H24: 472.41 | I24: 0.3325
A25: 3.1.2 | B25: SINAPI 96538 | C25: FABRICAÇÃO, MONTAGEM E DESMONTAGEM DE FÔRMA PARA SAPATA, EM CHAPA DE MADEIRA COMPENSADA RESINADA, E=17 MM, 2 UTILIZAÇÕES. AF_01/2024 | D25: m² | E25: =MEMORIAL!F22 -> 48.81 | F25: =ROUND(AU25,2) -> 0 | G25: =F25*E25 -> 0 | H25: 266.95 | I25: 0.3325
A26: 3.1.3 | B26: SINAPI 96539 | C26: FABRICAÇÃO, MONTAGEM E DESMONTAGEM DE FÔRMA PARA VIGA BALDRAME, EM CHAPA DE MADEIRA COMPENSADA RESINADA, E=17 MM, 2 UTILIZAÇÕES. AF_01/2024 | D26: m² | E26: =MEMORIAL!F23 -> 77.52 | F26: =ROUND(AU26,2) -> 0 | G26: =F26*E26 -> 0 | H26: 140.28 | I26: 0.3325
A27: 3.1.4 | B27: SINAPI 104917 | C27: ARMAÇÃO DE SAPATA ISOLADA, VIGA BALDRAME E SAPATA CORRIDA UTILIZANDO AÇO CA-50 DE 6.3 MM - MONTAGEM. AF_01/2024 | D27: kg | E27: =MEMORIAL!F24 -> 14.4 | F27: =ROUND(AU27,2) -> 0 | G27: =F27*E27 -> 0 | H27: 18.16 | I27: 0.3325
A28: 3.1.5 | B28: SINAPI 104918 | C28: ARMAÇÃO DE SAPATA ISOLADA, VIGA BALDRAME E SAPATA CORRIDA UTILIZANDO AÇO CA-50 DE 8 MM - MONTAGEM. AF_01/2024 | D28: kg | E28: 284.5 | F28: =ROUND(AU28,2) -> 0 | G28: =F28*E28 -> 0 | H28: 18.16 | I28: 0.3325
A29: 3.1.6 | B29: SINAPI 104919 | C29: ARMAÇÃO DE SAPATA ISOLADA, VIGA BALDRAME E SAPATA CORRIDA UTILIZANDO AÇO CA-50 DE 10 MM - MONTAGEM. AF_01/2024 | D29: kg | E29: =MEMORIAL!F26 -> 245.7 | F29: =ROUND(AU29,2) -> 0 | G29: =F29*E29 -> 0 | H29: 15.21 | I29: 0.3325
A30: 3.1.7 | B30: SINAPI 104920 | C30: ARMAÇÃO DE BLOCO, SAPATA ISOLADA, VIGA BALDRAME E SAPATA CORRIDA UTILIZANDO AÇO CA-50 DE 12,5 MM - MONTAGEM. AF_01/2024 | D30: kg | E30: =MEMORIAL!F27 -> 87.9 | F30: =ROUND(AU30,2) -> 0 | G30: =F30*E30 -> 0 | H30: 12.95 | I30: 0.3325
A31: 3.1.8 | B31: SINAPI 104916 | C31: ARMAÇÃO DE SAPATA ISOLADA, VIGA BALDRAME E SAPATA CORRIDA UTILIZANDO AÇO CA-60 DE 5 MM - MONTAGEM. AF_01/2024 | D31: kg | E31: 99.5 | F31: =ROUND(AU31,2) -> 0 | G31: =F31*E31 -> 0 | H31: 19.4 | I31: 0.3325
B32: Subtotal | G32: =SUM(G24:G31) -> 0
A33: 3.2 | B33: SUPER-ESTRUTURA (PILARES)
A34: 3.2.1 | B34: SINPI 103672 | C34: CONCRETAGEM DE PILARES, FCK = 25 MPA, COM USO DE BOMBA - LANÇAMENTO, ADENSAMENTO E ACABAMENTO. AF_02/2022_PS | D34: m³ | E34: =MEMORIAL!F30 -> 2.22 | F34: =ROUND(AU34,2) -> 0 | G34: =F34*E34 -> 0 | H34: 761.3 | I34: 0.3325
A35: 3.2.2 | B35: SINAPI 92762 | C35: ARMAÇÃO DE PILAR OU VIGA DE ESTRUTURA CONVENCIONAL DE CONCRETO ARMADO UTILIZANDO AÇO CA-50 DE 10,0 MM - MONTAGEM. AF_06/2022 | D35: kg | E35: 51.8 | F35: =ROUND(AU35,2) -> 0 | G35: =F35*E35 -> 0 | H35: 13.37 | I35: 0.3325
A36: 3.2.3 | B36: SINAPI 92763 | C36: ARMAÇÃO DE PILAR OU VIGA DE ESTRUTURA CONVENCIONAL DE CONCRETO ARMADO UTILIZANDO AÇO CA-50 DE 12,5 MM - MONTAGEM. AF_06/2022 | D36: kg | E36: 84.75 | F36: =ROUND(AU36,2) -> 0 | G36: =F36*E36 -> 0 | H36: 11.29 | I36: 0.3325
A37: 3.2.4 | B37: SINAPI 92759 | C37: ARMAÇÃO DE PILAR OU VIGA DE ESTRUTURA CONVENCIONAL DE CONCRETO ARMADO UTILIZANDO AÇO CA-60 DE 5,0 MM - MONTAGEM. AF_06/2022 | D37: kg | E37: 30.52 | F37: =ROUND(AU37,2) -> 0 | G37: =F37*E37 -> 0 | H37: 16.52 | I37: 0.3325
A38: 3.2.5 | B38: SINAPI 92415 | C38: MONTAGEM E DESMONTAGEM DE FÔRMA DE PILARES RETANGULARES E ESTRUTURAS SIMILARES, PÉ-DIREITO SIMPLES, EM CHAPA DE MADEIRA COMPENSADA RESINADA, 2 UTILIZAÇÕES. AF_09/2020 | D38: m² | E38: 26.73 | F38: =ROUND(AU38,2) -> 0 | G38: =F38*E38 -> 0 | H38: 152.25 | I38: 0.3325
B39: Subtotal | G39: =SUM(G34:G38) -> 0
A40: 3.3 | B40: LAJES E VIGAS
...

Sheet MEMORIAL
A1: PREFEITURA MUNICIPAL DE VARGEM ALTA - ESPIRITO SANTO
A2: ESTADO DO ESPÍRITO SANTO
A3: =PLANILHA!A3 -> OBRA: CONSTRUÇÃO DE CAPELA MORTUÁRIA
A4: =PLANILHA!A4 -> LOCAL: CASTELINHO - VARGEM ALTA - ES
A5: REFERÊNCIA | C5: DESCRIÇÃO | D5: MEMÓRIA | E5: UNID. | F5: QUANT.
A6: ÍTEM | B6: CÓDIGO
A7: =PLANILHA!A8 -> 1 | B7: SERVIÇOS PRELIMINARES
A8: =PLANILHA!A9 -> 1.1 | B8: INSTALAÇÃO DO CANTEIRO DE OBRAS
A9: =PLANILHA!A10 -> 1.1.1 | B9: =PLANILHA!B10 -> SINAPI 103689 | C9: =PLANILHA!C10 -> FORNECIMENTO E INSTALAÇÃO DE PLACA DE OBRA COM CHAPA GALVANIZADA E ESTRUTURA DE MADEIRA. AF_03/2022_PS | D9: 2m x 3m = 6 m² | E9: m2 | F9: 6
A10: =PLANILHA!A11 -> 1.1.2 | B10: =PLANILHA!B11 -> DER - ES 020713 | C10: =PLANILHA!C11 -> Rede de luz, incl. padrão entrada de energia trifás., cabo de ligação até barracões, quadro de distrib., disj. E chave de força (quando necessário), cons. 20m entre padrão entrada e QDG, conf. projeto (1 utilização | D10: 15 metros | E10: m | F10: 15
A11: =PLANILHA!A12 -> 1.1.3 | B11: =PLANILHA!B12 -> DER - ES 020712 | C11: =PLANILHA!C12 -> Rede de água com padrão de entrada d'água diâm. 3/4", conf. espec. CESAN, incl. tubos e conexões para alimentação, distribuição, extravasor e limpeza, cons. o padrão a 25m, conf. projeto (1 utilização) | D11: 15 metros | E11: m | F11: 15
A12: =PLANILHA!A13 -> 1.1.4 | B12: =PLANILHA!B13 -> DER - ES 020702 | C12: =PLANILHA!C13 -> Barracão para almoxarifado área de 10.90m2, de chapa de compensado de 12mm e pontalete 8x8cm, piso cimentado e cobertura de telhas de fibrocimento de 6mm, incl. ponto de luz, conf. projeto (1 utilização) | D12: 2,80 x 3,90 = 10,90m² | E12: m2 | F12: 10.9
A13: =PLANILHA!A14 -> 1.1.5 | B13: =PLANILHA!B14 -> DER - ES 010501 | C13: =PLANILHA!C14 -> Locação de obra com gabarito de madeira | D13: Conforme projeto arquitetônico = 115,85m2 | E13: m2 | F13: 115.85
A14: =PLANILHA!A15 -> 1.1.6 | B14: =PLANILHA!B15 -> DER - ES 020350 | C14: =PLANILHA!C15 -> Tapume Telha Metálica Ondulada em aço galvalume 0,50mm Branca h=2,20m, incl. montagem estr. mad. 8"x8", c/adesivo "DER-ES" 60x60cm a cada 10m, incl. faixas pint. esmalte sint. cores azul c/ h=30cm e rosa c/ h=10cm (Reaproveitamento 2x) | D14: 14,50 + 14,15 + 14,50 + 14,15 = 57,30m | E14: m | F14: =(14.5+14.15)*2 -> 57.3
A15: =PLANILHA!A17 -> 2 | B15: MOVIMENTO DE TERRA
A16: =PLANILHA!A18 -> 2.1 | B16: ESCAVAÇÕES
A17: =PLANILHA!A19 -> 2.1.1 | B17: =PLANILHA!B19 -> SINAPI 96523 | C17: =PLANILHA!C19 -> ESCAVAÇÃO MANUAL PARA BLOCO DE COROAMENTO OU SAPATA (INCLUINDO ESCAVAÇÃO PARA COLOCAÇÃO DE FÔRMAS). AF_01/2024 | D17: SAPATAS: S1/S4/S11/S12 - 1,15x1,00x1,50=1,72x4= 6,90m³ S2/S3/S6/S13/S15 - 1,15X1,30X1,50= 2,24x5= 11,21m³ S5/S10 - 1,00x0,85x1,50=1,27x2= 6,37m³ S7/S8/S14/S16/S17 - 1,20x1,35x1,50=2,43x5= 12,15m³ S9 - 1,05x1,20x1,50=1,84m³ TOTAL= 38,47m³ - os valores constam no projeto estrutural - PRANCHA 01/04 | E17: m³ | F17: 38.47
A18: =PLANILHA!A20 -> 2.1.2 | B18: =PLANILHA!B20 -> SINAPI 93382 | C18: =PLANILHA!C20 -> REATERRO MANUAL DE VALAS, COM COMPACTADOR DE SOLOS DE PERCUSSÃO. AF_08/2023 | D18: 38,47m² (escavação das sapatas) - 8,78m³ (total de concreto das sapatas e pilaretes) = 29,74m³ para reaterro | E18: m3 | F18: 29.74
A19: =PLANILHA!A22 -> 3 | B19: ESTRUTURAS
A20: =PLANILHA!A23 -> 3.1 | B20: INFRA-ESTRUTURA (FUNDAÇÃO)
A21: =PLANILHA!A24 -> 3.1.1 | B21: =PLANILHA!B24 -> SINAPI 94971 | C21: =PLANILHA!C24 -> CONCRETO FCK = 25MPA, TRAÇO 1:2,3:2,7 (EM MASSA SECA DE CIMENTO/ AREIA MÉDIA/ BRITA 1) - PREPARO MECÂNICO COM BETONEIRA 600 L. AF_05/2021 | D21: Valores conforme projeto estrutural - | E21: m3 | F21: 13.57
A22: =PLANILHA!A25 -> 3.1.2 | B22: =PLANILHA!B25 -> SINAPI 96538 | C22: =PLANILHA!C25 -> FABRICAÇÃO, MONTAGEM E DESMONTAGEM DE FÔRMA PARA SAPATA, EM CHAPA DE MADEIRA COMPENSADA RESINADA, E=17 MM, 2 UTILIZAÇÕES. AF_01/2024 | D22: Valores conforme projeto estrutural - | E22: m2 | F22: 48.81
A23: =PLANILHA!A26 -> 3.1.3 | B23: =PLANILHA!B26 -> SINAPI 96539 | C23: =PLANILHA!C26 -> FABRICAÇÃO, MONTAGEM E DESMONTAGEM DE FÔRMA PARA VIGA BALDRAME, EM CHAPA DE MADEIRA COMPENSADA RESINADA, E=17 MM, 2 UTILIZAÇÕES. AF_01/2024 | D23: Valores conforme projeto estrutural - | E23: m² | F23: 77.52
A24: =PLANILHA!A27 -> 3.1.4 | B24: =PLANILHA!B27 -> SINAPI 104917 | C24: =PLANILHA!C27 -> ARMAÇÃO DE SAPATA ISOLADA, VIGA BALDRAME E SAPATA CORRIDA UTILIZANDO AÇO CA-50 DE 6.3 MM - MONTAGEM. AF_01/2024 | D24: Valores conforme projeto estrutural | E24: Kg | F24: 14.4
A25: =PLANILHA!A28 -> 3.1.5 | B25: =PLANILHA!B28 -> SINAPI 104918 | C25: =PLANILHA!C28 -> ARMAÇÃO DE SAPATA ISOLADA, VIGA BALDRAME E SAPATA CORRIDA UTILIZANDO AÇO CA-50 DE 8 MM - MONTAGEM. AF_01/2024 | D25: Valores conforme projeto estrutural - | E25: Kg | F25: 283.2
A26: =PLANILHA!A29 -> 3.1.6 | B26: =PLANILHA!B29 -> SINAPI 104919 | C26: =PLANILHA!C29 -> ARMAÇÃO DE SAPATA ISOLADA, VIGA BALDRAME E SAPATA CORRIDA UTILIZANDO AÇO CA-50 DE 10 MM - MONTAGEM. AF_01/2024 | D26: Valores conforme projeto estrutural - | E26: Kg | F26: 245.7
A27: =PLANILHA!A30 -> 3.1.7 | B27: =PLANILHA!B30 -> SINAPI 104920 | C27: =PLANILHA!C30 -> ARMAÇÃO DE BLOCO, SAPATA ISOLADA, VIGA BALDRAME E SAPATA CORRIDA UTILIZANDO AÇO CA-50 DE 12,5 MM - MONTAGEM. AF_01/2024 | D27: Valores conforme projeto estrutural - | E27: Kg | F27: 87.9
A28: =PLANILHA!A31 -> 3.1.8 | B28: =PLANILHA!B31 -> SINAPI 104916 | C28: =PLANILHA!C31 -> ARMAÇÃO DE SAPATA ISOLADA, VIGA BALDRAME E SAPATA CORRIDA UTILIZANDO AÇO CA-60 DE 5 MM - MONTAGEM. AF_01/2024 | D28: Valores conforme projeto estrutural - | E28: Kg | F28: 98
A29: =PLANILHA!A33 -> 3.2 | B29: SUPER-ESTRUTURA (PILARES)
A30: =PLANILHA!A34 -> 3.2.1 | B30: =PLANILHA!B34 -> SINPI 103672 | C30: =PLANILHA!C34 -> CONCRETAGEM DE PILARES, FCK = 25 MPA, COM USO DE BOMBA - LANÇAMENTO, ADENSAMENTO E ACABAMENTO. AF_02/2022_PS | D30: Valores conforme projeto estrutural - | E30: m³ | F30: 2.22
A31: =PLANILHA!A35 -> 3.2.2 | B31: =PLANILHA!B35 -> SINAPI 92762 | C31: =PLANILHA!C35 -> ARMAÇÃO DE PILAR OU VIGA DE ESTRUTURA CONVENCIONAL DE CONCRETO ARMADO UTILIZANDO AÇO CA-50 DE 10,0 MM - MONTAGEM. AF_06/2022 | D31: Valores conforme projeto estrutural - | E31: Kg | F31: 94.96
A32: =PLANILHA!A36 -> 3.2.3 | B32: =PLANILHA!B36 -> SINAPI 92763 | C32: =PLANILHA!C36 -> ARMAÇÃO DE PILAR OU VIGA DE ESTRUTURA CONVENCIONAL DE CONCRETO ARMADO UTILIZANDO AÇO CA-50 DE 12,5 MM - MONTAGEM. AF_06/2022 | D32: Valores conforme projeto estrutural - | E32: Kg | F32: 98.61
A33: =PLANILHA!A37 -> 3.2.4 | B33: =PLANILHA!B37 -> SINAPI 92759 | C33: =PLANILHA!C37 -> ARMAÇÃO DE PILAR OU VIGA DE ESTRUTURA CONVENCIONAL DE CONCRETO ARMADO UTILIZANDO AÇO CA-60 DE 5,0 MM - MONTAGEM. AF_06/2022 | D33: Valores conforme projeto estrutural - | E33: Kg | F33: 48.89
A34: =PLANILHA!A38 -> 3.2.5 | B34: =PLANILHA!B38 -> SINAPI 92415 | C34: =PLANILHA!C38 -> MONTAGEM E DESMONTAGEM DE FÔRMA DE PILARES RETANGULARES E ESTRUTURAS SIMILARES, PÉ-DIREITO SIMPLES, EM CHAPA DE MADEIRA COMPENSADA RESINADA, 2 UTILIZAÇÕES. AF_09/2020 | D34: Valores conforme projeto estrutural - | E34: m² | F34: 44.55
A35: =PLANILHA!A40 -> 3.3 | B35: LAJES E VIGAS
A36: =PLANILHA!A41 -> 3.3.1 | B36: =PLANILHA!B41 -> SINAPI 103675 | C36: =PLANILHA!C41 -> CONCRETAGEM DE VIGAS E LAJES, FCK=25 MPA, PARA LAJES MACIÇAS OU NERVURADAS COM USO DE BOMBA - LANÇAMENTO, ADENSAMENTO E ACABAMENTO. AF_02/2022_PS | D36: Valor conforme projeto estrutural | E36: m² | F36: 7.6
A37: =PLANILHA!A42 -> 3.3.2 | B37: =PLANILHA!B42 -> SINAPI 92769 | C37: =PLANILHA!C42 -> ARMAÇÃO DE LAJE DE ESTRUTURA CONVENCIONAL DE CONCRETO ARMADO UTILIZANDO AÇO CA-50 DE 6,3 MM - MONTAGEM. AF_06/2022 | D37: Valores conforme projeto estrutural | E37: kg | F37: 10.1
A38: =PLANILHA!A43 -> 3.3.3 | B38: =PLANILHA!B43 -> SINAPI 92770 | C38: =PLANILHA!C43 -> ARMAÇÃO DE LAJE DE ESTRUTURA CONVENCIONAL DE CONCRETO ARMADO UTILIZANDO AÇO CA-50 DE 8,0 MM - MONTAGEM. AF_06/2022 | D38: Valores conforme projeto estrutural - | E38: kg | F38: 120.9
A39: =PLANILHA!A44 -> 3.3.4 | B39: =PLANILHA!B44 -> SINAPI 92771 | C39: =PLANILHA!C44 -> ARMAÇÃO DE LAJE DE ESTRUTURA CONVENCIONAL DE CONCRETO ARMADO UTILIZANDO AÇO CA-50 DE 10,0 MM - MONTAGEM. AF_06/202 | D39: Valores conforme projeto estrutural - | E39: kg | F39: 23.75
A40: =PLANILHA!A45 -> 3.3.5 | B40: =PLANILHA!B45 -> SINAPI 92768 | C40: =PLANILHA!C45 -> ARMAÇÃO DE LAJE DE ESTRUTURA CONVENCIONAL DE CONCRETO ARMADO UTILIZANDO AÇO CA-60 DE 5,0 MM - MONTAGEM. AF_06/2022 | D40: Valores conforme projeto estrutural - | E40: Kg | F40: 108.85
...

Sheet CRONOGRAMA
A1: PREFEITURA MUNICIPAL DE VARGEM ALTA ESTADO DO ESPÍRITO SANTO
A4: =PLANILHA!A3 -> OBRA: CONSTRUÇÃO DE CAPELA MORTUÁRIA
A5: =PLANILHA!A4 -> LOCAL: CASTELINHO - VARGEM ALTA - ES
A6: CRONOGRAMA FÍSICO - FINANCEIRO COM BARRAS
A7: ITEM | B7: ESPECIFICAÇÃO | D7: VALOR DA OBRA E % FÍSICA | E7: ANDAMENTO EM MESES
E8: 1º MÊS | F8: 2º MÊS | G8: 3 MÊS | H8: 4 MÊS | I8: 5 MÊS | J8: 6º MÊS
A9: =PLANILHA!A8 -> 1 | B9: =PLANILHA!B8 -> SERVIÇOS PRELIMINARES | D9: =PLANILHA!G16 -> 0 | E9: =E11*D9 -> 0
D10: =D9/D61 -> #DIV/0!
E11: 1
A12: =PLANILHA!A17 -> 2 | B12: =PLANILHA!B17 -> MOVIMENTO DE TERRA | D12: =PLANILHA!G21 -> 0 | E12: =E14*D12 -> 0
D13: =D12/D61 -> #DIV/0!
E14: 1
A15: =PLANILHA!A22 -> 3 | B15: =PLANILHA!B22 -> ESTRUTURAS | D15: =PLANILHA!G32+PLANILHA!G39+PLANILHA!G48 -> 0 | E15: =E17*D15 -> 0 | F15: =F17*D15 -> 0 | G15: =G17*D15 -> 0
D16: =D15/D61 -> #DIV/0!
E17: 0.3 | F17: 0.4 | G17: 0.3
A18: =PLANILHA!A49 -> 4 | B18: PAREDES E PAINÉIS | D18: =PLANILHA!G53 -> 0 | G18: =G20*D18 -> 0 | H18: =H20*D18 -> 0
D19: =D18/D61 -> #DIV/0!
G20: 0.6 | H20: 0.4
A21: =PLANILHA!A54 -> 5 | B21: =PLANILHA!B54 -> ESQUADRIAS | D21: =PLANILHA!G58+PLANILHA!G63 -> 0 | H21: =H23*D21 -> 0 | I21: =I23*D21 -> 0
D22: =D21/D61 -> #DIV/0!
H23: 0.3 | I23: 0.7
A24: =PLANILHA!A64 -> 6 | B24: =PLANILHA!B64 -> COBERTURA | D24: =PLANILHA!G71 -> 0 | G24: =G26*D24 -> 0 | H24: =H26*D24 -> 0
D25: =D24/D61 -> #DIV/0!
G26: 0.5 | H26: 0.5
A27: =PLANILHA!A72 -> 7 | B27: REVESTIMENTO DE PAREDES | D27: =PLANILHA!G76 -> 0 | G27: =G29*D27 -> 0 | H27: =H29*D27 -> 0
D28: =D27/D61 -> #DIV/0!
G29: 0.4 | H29: 0.6
A30: =PLANILHA!A77 -> 8 | B30: =PLANILHA!B77 -> PISOS INTERNOS E EXTERNOS | D30: =PLANILHA!G81 -> 0 | H30: =H32*D30 -> 0 | I30: =D30*I32 -> 0
D31: =D30/D61 -> #DIV/0!
H32: 0.3 | I32: 0.7
A33: =PLANILHA!A82 -> 9 | B33: =PLANILHA!B82 -> ACABAMENTOS | D33: =PLANILHA!G89 -> 0 | H33: =H35*D33 -> 0 | I33: =I35*D33 -> 0
D34: =D33/D61 -> #DIV/0!
H35: 0.5 | I35: 0.5
A36: =PLANILHA!A90 -> 10 | B36: =PLANILHA!B90 -> INSTALAÇÕES HIDRO-SANITÁRIAS | D36: =PLANILHA!G103 -> 0 | H36: =H38*D36 -> 0 | I36: =I38*D36 -> 0
D37: =D36/D61 -> #DIV/0!
H38: 0.5 | I38: 0.5
A39: =PLANILHA!A104 -> 11 | B39: =PLANILHA!B104 -> INSTALAÇÕES ELÉTRICAS | D39: =PLANILHA!G136 -> 0 | I39: =I41*D39 -> 0 | J39: =J41*D39 -> 0
D40: =D39/D61 -> #DIV/0!
I41: 0.25 | J41: 0.75
A42: =PLANILHA!A137 -> 12 | B42: =PLANILHA!B137 -> APARELHOS ELÉTRICOS | D42: =PLANILHA!G142 -> 0 | J42: =J44*D42 -> 0
...

Sheet CPU (2)
A1: PREFEITURA MUNICIPAL DE VARGEM ALTA
A3: ESTADO DO ESPÍRITO SANTO
A5: =PLANILHA!A3 -> OBRA: CONSTRUÇÃO DE CAPELA MORTUÁRIA
A6: =PLANILHA!A4 -> LOCAL: CASTELINHO - VARGEM ALTA - ES
A8: COMPOSIÇÃO DE PREÇO UNITÁRIO
A10: Item | B10: 9 - ACABAMENTOS | J10: Unidade
A11: 6.1.3 | B11: CPU | C11: =PLANILHA!C68 -> TELHA TERMOISOLANTE REVESTIDA EM ACO GALVANIZADO, FACE SUPERIOR EM TELHA TRAPEZOIDAL E FACE INFERIOR EM CHAPA PLANA (SEM ACESSORIOS DE FIXACAO), REVESTIMENTO COM ESPESSURA DE 0,50 MM COM PINTUIRA AMADEIRADA NA FANCE LISA E FACE TRAPEZOIDAL GALVANIZADA, NUCLEO EM POLIESTIRENO (EPS) DE 30 MM | J11: UND
A13: 1 - MÃO DE OBRA | D13: UND | E13: COEFICIENTE | G13: P. UNITÁRIO | H13: TOTAL PARCIAL | I13: TOTAL A
A14: TELHADISTA (OFICIAL - SINDUSCON) (LABOR) | D14: H | E14: 0.056 | G14: 29.05 | H14: 1.62 | K14: 88316 SERVENTE COM ENCARGOS COMPLEMENTARES H C 0,0620000 21,72 1,34
A15: SERVENTE (AUXILIAR DE OBRAS - SINDUSCON) (LABOR) | D15: H | E15: 0.062 | G15: 21.72 | H15: 1.34
A16: TOTAL A | I16: =H14+H15 -> 2.96
A18: 2 - MATERIAL | D18: UNID. | E18: COEFICIENTE | G18: P. UNITÁRIO | H18: TOTAL PARCIAL | I18: TOTAL B
A19: TELHA TERMOISOLANTE REVESTIDA EM ACO GALVANIZADO, FACE SUPERIOR EM TELHA TRAPEZOIDAL E FACE INFERIOR EM CHAPA PLANA (SEM ACESSORIOS DE FIXACAO), REVESTIMENTO COM ESPESSURA DE 0,50 MM COM PINTUIRA AMADEIRADA NA FANCE LISA E FACE TRAPEZOIDAL GALVANIZADA, NUCLEO EM POLIESTIRENO (EPS) DE 30 MM | D19: M² | E19: 1 | G19: 175 | H19: =G19*E19 -> 175
A20: TOTAL B | I20: =SUM(H19:H19) -> 175
A23: RESUMO
A24: DISCRIMINAÇÃO | E24: TAXA | H24: VALORES
A25: MÃO DE OBRA (TOTAL A) | H25: =I16 -> 2.96
A26: MATERIAIS (TOTAL B) | H26: =I20 -> 175
A27: EQUIPAMENTOS (TOTAL C) | H27: 0
A28: ENCARGOS SOCIAIS (SOBRE TOTAL A) % | E28: 1.5727 | H28: =E28*H25 -> 4.655192
A29: SUBTOTAL | H29: =H25+H26+H27+H28 -> 182.61519
A31: TOTAL | H31: =H29+H30 -> 182.61519
A32: BDI SOBRE O TOTAL | E32: 0 | H32: =E32*H31 -> 0
A33: PREÇO UNITÁRIO CALCULADO | H33: =H31+H32 -> 182.61519
A35: =PLANILHA!A180 -> Vargem Alta, 05 de maio de 2025
C41: =PLANILHA!C184 -> ELIESER RABELLO | G41: =PLANILHA!D184 -> LORENÇO FERNANDES AZEREDO
C42: =PLANILHA!C185 -> Prefeito Municipal | G42: =PLANILHA!D185 -> Arquiteto e Urbanista - CAU A 35329-9

Sheet CPU
A1: PREFEITURA MUNICIPAL DE VARGEM ALTA
A3: ESTADO DO ESPÍRITO SANTO
A5: =PLANILHA!A3 -> OBRA: CONSTRUÇÃO DE CAPELA MORTUÁRIA
A6: =PLANILHA!A4 -> LOCAL: CASTELINHO - VARGEM ALTA - ES
A8: COMPOSIÇÃO DE PREÇO UNITÁRIO
A10: Item | B10: 9 - ACABAMENTOS | J10: Unidade
A11: =PLANILHA!A84 -> 9.2 | B11: DER - ES 130233 | C11: =PLANILHA!C84 -> Pedra São Tomé filetada, utilizando dupla colagem de argamassa colante tipo ACIII e rejunte 1mm. | J11: UND
A13: 1 - MÃO DE OBRA | D13: UND | E13: COEFICIENTE | G13: P. UNITÁRIO | H13: TOTAL PARCIAL | I13: TOTAL A
A14: LADRILHISTA (OFICIAL - SINDUSCON) (LABOR) | D14: H | E14: 0.9 | G14: 9.37 | H14: =E14*G14 -> 8.433
A15: SERVENTE (AUXILIAR DE OBRAS - SINDUSCON) (LABOR) | D15: H | E15: 0.9 | G15: 6.95 | H15: =E15*G15 -> 6.255
A16: TOTAL A | I16: =H14+H15 -> 14.688
A18: 2 - MATERIAL | D18: UNID. | E18: COEFICIENTE | G18: P. UNITÁRIO | H18: TOTAL PARCIAL | I18: TOTAL B
A19: ARGAM COLANTE FLEXIVEL AC III P/ ASSENT. PORCELANATO E PEDRAS (GRANITO E MÁRMORE) (LABOR) | D19: KG | E19: 8 | G19: 2.59 | H19: =G19*E19 -> 20.72
A20: PEDRA SÃO TOMÉ | D20: M2 | E20: 1.02 | G20: 70.83 | H20: =E20*G20 -> 72.2466
A21: REJUNTE PORCELANATO QUARTZOLIT (LABOR) | D21: KG | E21: 0.224 | G21: 14.49 | H21: =E21*G21 -> 3.24576
A22: TOTAL B | I22: =SUM(H19:H21) -> 96.21236
A25: RESUMO
A26: DISCRIMINAÇÃO | E26: TAXA | H26: VALORES
A27: MÃO DE OBRA (TOTAL A) | H27: =I16 -> 14.688
A28: MATERIAIS (TOTAL B) | H28: =I22 -> 96.21236
A29: EQUIPAMENTOS (TOTAL C) | H29: 0
A30: ENCARGOS SOCIAIS (SOBRE TOTAL A) % | E30: 1.5727 | H30: =E30*H27 -> 23.099818
A31: SUBTOTAL | H31: =H27+H28+H29+H30 -> 134.00018
A33: TOTAL | H33: =H31+H32 -> 134.00018
A34: BDI SOBRE O TOTAL | E34: 0 | H34: =E34*H33 -> 0
A35: PREÇO UNITÁRIO CALCULADO | H35: =H33+H34 -> 134.00018
A37: =PLANILHA!A180 -> Vargem Alta, 05 de maio de 2025
C43: =PLANILHA!C184 -> ELIESER RABELLO | G43: =PLANILHA!D184 -> LORENÇO FERNANDES AZEREDO
C44: =PLANILHA!C185 -> Prefeito Municipal | G44: =PLANILHA!D185 -> Arquiteto e Urbanista - CAU A 35329-9

Sheet MEMORIAL DESCRITIVO
B1: PREFEITURA MUNICIPAL DE VARGEM ALTA ESTADO DO ESPÍRITO SANTO
A3: =PLANILHA!A3 -> OBRA: CONSTRUÇÃO DE CAPELA MORTUÁRIA
A4: =PLANILHA!A4 -> LOCAL: CASTELINHO - VARGEM ALTA - ES
A6: MEMORIAL DESCRITIVO
A8: INSTALAÇÃO DO CANTEIRO DE OBRAS
A10: A placa da obra nas dimensões de 2,00 x 2,00 m (4,00 m2) será confeccionada em chapa galvanizada com requadro de madeira de lei 8x8 cm e fixada em pontaletes de madeira de lei 8x8 cm na altura útil total de 3,50 m.Na placa deverá constar o nome do orgão provedor do recurso, o nome do orgão tomador do recurso, título ou descrição da obra / serviço, o valor do empreendimento e o nome da empresa e do responsável técnico da empresa, responsáveis pela obra, bem como o prazo de execução da mesma.
A11: A rede de luz, será instalada incluindo padrão entrega de energia trifásica com cabo de ligação até barracões, quadro distribuição, disjuntores, sendo a chave de força com consumo 20m entre padrão entre QDG.
A12: Rede de água será com padrão de entrada d'água diâm. 3/4" conforme CESAN, inclusive tubos e conexões para alimentação, distribuição, extravas. e limpeza, consumo de 25m do padrão até entrega.
A13: No entorno de toda área da obra será confeccionado tapume de chapa de madeira compensada de 6 mm, com altura de 2,20 m, fixado em pontaletes de madeira de lei 8x8 cm com pintura externa a cal com aditivo fixador.
A14: Execução de almoxarifado em canteiro de obra em chapa de madeira compensada, incluso prateleiras, pontalete 8x8cm, piso cimentado e cobertura de telhas de fibrocimento de 6mm, inclusive ponto de luz.
A15: Locação de obra com gabarito de madeira
A17: MOVIMENTO DE TERRA
A19: A movimentação de terra consiste na escavação das cavas de fundação para blocos e sapatas até a profundidade conforme seu dimensionamento em projeto.
A20: O reaterro das valas será manual com compactação mecânizada.
A22: ESTRUTURA
... A107: APARELHOS ELÉTRICOS
A108: =PLANILHA!C138 -> LUMINÁRIA TIPO PLAFON CIRCULAR, DE SOBREPOR, COM LED DE 12/13 W - FORNECIMENTO E INSTALAÇÃO. AF_03/2022
A109: =PLANILHA!C139 -> Luminaria sobrepor compl., corpo ch. aço pintada branca, refletor aletas parabólicas alum.alta pureza e refletância inclusive 2 lâmpadas LED T8 20W temp. de cor 5000k bivolt c/ 1,20m - Ref. CS232AL-N - AMES, 2447 - LUMAVI OU EQUIVALENTE
A110: =PLANILHA!C140 -> Ventilador de teto base madeira sem alojamento para luminária, ref. Tron ou equivalente, com comando de interruptor simples, sem dimer para regulagem de velocidade
A111: =PLANILHA!C141 -> Bebebedouro elétrico de pressão para portadores de necessidades especiais IBBL BDF300 ou equivalente
A113: SPDA
A115: =PLANILHA!C144 -> Terminal estanhado de 1 compressão 1 furo, 50mm², ref. TEL-5150, marca de referência Termotécnica ou equivalente
A116: =PLANILHA!C145 -> Condutor de cobre nú, seção de 35mm2, inclusive suportes isoladores e acessórios de fixação, conforme projeto
A117: =PLANILHA!C146 -> HASTE DE ATERRAMENTO, DIÂMETRO 5/8", COM 3 METROS - FORNECIMENTO E INSTALAÇÃO. AF_08/2023
A118: =PLANILHA!C147 -> Caixa de inspeção em PVC, diâmetro 300 mm, ref TEL-552, marca de referência Termotécnica ou equivalente, inclusive escavação e reaterro
A119: =PLANILHA!C148 -> Fixador universal latão estanhado p/ cabos 16 a 70 mm2 ref. 5024, incl. parafuso sextavado M6x45mm, arruela lisa 1/4", bucha nº8, vedação dos furos c/ poliuretano ref. 5905, marca de ref. Termotécnica ou equivalente
A121: APARELHOS HIDRO-SANITÁRIOS
A123: O vaso sanitário será sifonado convencional com louça branca- fornecimento e instalação.
A124: A bancada será em granito cinza polido com dimensão 0,50x0,60, incluso cuba de embutir oval louça branca 35x50cm, válvula de metal cromado, sifão flexível em pvc, engate 30cm flexível plástico e torneira cromada de mesa, padrão popular sendo fornecimento e instalação.
A125: A bancada será de granito cinza polido 150x60cm, com cuba de embutir de aço inoxidável média, com válvula americana em metal cromado, sifão flexível em pvc, engate flexível de 30 cm, torneira cromada longa de parede, 1/2 ou 3/4, para piza de cozinha, padrão popular sendo fornecimento e instalação.
A126: O registro de gaveta bruto será em latão, roscável de 1 1/4, instalado em reservatório, sendo fornecimento e instalação.
A128: PINTURA
A130: As pinturas serão aplicadas com fundo selador látex e pintura com tinta latex no interior. Nas paredes externas serão aplicados fundo selador e pintura com tinta latex acrílica.
A132: INSTALAÇÃO DE COMBATE A INCÊNDIO
A134: O extintor de incêndio será de pó químico de 4kg sendo fornecimento e colocação.
A135: A placa de sinalização de segurança será com o CODIGO 14 - 315/158(NBR 13.434); CÓDIGO S3(NT 14/2010-ES) que é descrita com a frase Saída de Emergência e com indicação de seta.
A138: =PLANILHA!B171 -> SERVIÇOS COMPLEMENTARES EXTERNOS E INTERNOS
A140: =PLANILHA!C173 -> Banco de concreto armado aparente Fck=15 MPa, com apoios de concreto, largura de 45cm, espessura de 7cm e altura de 45cm
A142: LIMPEZA GERAL DA OBRA
A144: Concluída a obra deverá ser realizado os serviços de limpeza da mesma com retirada de todo entulho e da sobra de materiais, bem como da limpeza dos revestimentos do piso e paredes, limpeza dos aparelhos sanitários de louça e limpeza dos vidros, revisão das instalações hidro-sanitárias além de retoques e correções que se fizerem necessárias.
...

Sheet BDI (33,25%)
A1: DETALHAMENTO DO BDI
A3: PROPONENTE: | B3: Prefeitura de Vargem Alta
A4: OBRA: | B4: CONSTRUÇÃO DE CAPELA MORTUÁRIA EM CASTELINHO
A5: CONTRATO:
A7: 1. Regime de Contribuição Previdenciária
B9: Com Desoneração
A11: 2. Tipo de Intervenção
B13: Edificações
A15: 3. Incidências sobre o custo
B17: Administração Central - A | C17: 4.06 | D17: % | E17: =C17/100 -> 0.0406
B18: Administração Local - B | C18: 8.19 | D18: % | E18: =C18/100 -> 0.0819
B19: Tributos - C | E19: =C19/100 -> 0
B20: C1 - ISSQN | C20: 4 | D20: % | E20: =C20/100 -> 0.04
B21: C2 - PIS | C21: 0.65 | D21: % | E21: =C21/100 -> 0.0065
B22: C3 - COFINS | C22: 3 | D22: % | E22: =C22/100 -> 0.03
B23: Custos financeiros - D | C23: 0.61 | D23: % | E23: =C23/100 -> 0.0061
B24: Risco, Garantias e seguros - E | C24: 1 | D24: % | E24: =C24/100 -> 0.01
B25: Lucro - F | C25: 8 | D25: % | E25: =C25/100 -> 0.08
A28: 4 – Demonstrativo de cálculo do BDI
B30: BDI= (1+A+B+E ) (1+D) (1+F) - 1 | C30: =(((1+E17+E18+E24)*(1+E23)*(1+E25))/(1-SUM(E20:E22)))-1 -> 0.33249692
B31: (1-C)
A36: Declaro para os devidos fins que o regime de Contribuição Previdenciária adotado para
A37: =CONCATENATE("elaboração do orçamento foi ",B9,", e que esta é a alternativa mais adequada para ") -> elaboração do orçamento foi Com Desoneração, e que esta é a alternativa mais adequada para
A38: a Administração Pública.
A42: Eng./Arq. | B42: =PLANILHA!D184 -> LORENÇO FERNANDES AZEREDO
A43: CREA/CAU: | B43: =PLANILHA!D185 -> Arquiteto e Urbanista - CAU A 35329-9
A45: Nome | B45: ELIESER RABELLO
A46: Cargo | B46: Prefeito Municipal
