Workbook
Name _Fill: #REF!
Name _Key1: #REF!
Name _Key2: #REF!
Name _Order1: 255
Name _Order2: 255
Name _Sort: #REF!
Name ACRE: #REF!
Name ademir: {#N/A,#N/A,FALSE,"Cronograma";#N/A,#N/A,FALSE,"Cronogr. 2"}
Name bosta: {#N/A,#N/A,FALSE,"Cronograma";#N/A,#N/A,FALSE,"Cronogr. 2"}
Name CA´L: {#N/A,#N/A,FALSE,"Cronograma";#N/A,#N/A,FALSE,"Cronogr. 2"}
Name concorrentes: {#N/A,#N/A,FALSE,"Cronograma";#N/A,#N/A,FALSE,"Cronogr. 2"}
Name JR: #REF!
Name JR_PAGE_ANCHOR_0_1: 'COMPOSIÇÕES PRÓPRIAS'!$A$3
Name JR_PAGE_ANCHOR_0_1: #REF!
Name Popular: {#N/A,#N/A,FALSE,"Cronograma";#N/A,#N/A,FALSE,"Cronogr. 2"}
Name rio: {#N/A,#N/A,FALSE,"Cronograma";#N/A,#N/A,FALSE,"Cronogr. 2"}
Name SINAPI_AC: #REF!
Name ss: {#N/A,#N/A,FALSE,"Cronograma";#N/A,#N/A,FALSE,"Cronogr. 2"}
Name wrn.Cronograma.: {#N/A,#N/A,FALSE,"Cronograma";#N/A,#N/A,FALSE,"Cronogr. 2"}
Name wrn.GERAL.: {#N/A,#N/A,FALSE,"ET-CAPA";#N/A,#N/A,FALSE,"ET-PAG1";#N/A,#N/A,FALSE,"ET-PAG2";#N/A,#N/A,FALSE,"ET-PAG3";#N/A,#N/A,FALSE,"ET-PAG4";#N/A,#N/A,FALSE,"ET-PAG5"}

Sheet Planilha
C1: PREFEITURA MUNICIPAL DE VARGEM ALTA | M1: Observação | N1: N° Frente de Obra | O1: Frente de Obra | P1: Qtd. | Q1: Valor
C2: ESTADO DO ESPÍRITO SANTO
A3: OBRA: | C3: Construção de Creche modelo FNDE Tipo 1 - BIM - opção 110V | K3: BDI: | L3: 0.2664
A4: LOCAL: | C4: Vila Esperança, Vargem Alta - ES | G4: FONTE
A5: PLANILHA ORÇAMENTÁRIA | G5: SINAPI | K5: 45627 | L5: COM DESONERAÇÃO
G6: SP OBRAS | K6: 193 | L6: COM DESONERAÇÃO
G7: PRÓPRIA | K7: PRÓPRIA
C9: REFERÊNCIA | E9: DESCRIÇÃO | F9: QUANT | G9: UN | I9: VALOR S/ BDI | K9: VALOR C/ BDI | L9: VALOR TOTAL
A10: Macrosserviço | B10: 1 | E10: SERVIÇOS PRELIMINARES | L10: =ROUND(L11,2)+ROUND(L12,2)+ROUND(L13,2)+ROUND(L14,2)+ROUND(L15,2)+ROUND(L16,2)+ROUND(L17,2)+ROUND(L18,2)+ROUND(L19,2) -> 0
A11: Serviço | B11: 1.1 | C11: SINAPI | D11: 103689 | E11: FORNECIMENTO E INSTALAÇÃO DE PLACA DE OBRA COM CHAPA GALVANIZADA E ESTRUTURA DE MADEIRA. AF_03/2022_PS | F11: 6.48 | G11: M2 | H11: 459.4 | J11: 0.2664 | K11: =ROUND(I11,2)+(ROUND(I11,2)*J11) -> 0 | L11: =ROUND(Q11,2) -> 0 | N11: 1 | O11: CONSTRUÇÃO DA CRECHE TIPO I | P11: =F11 -> 6.48 | Q11: =ROUND(K11,2)*P11 -> 0
A12: Serviço | B12: 1.2 | C12: SINAPI | D12: 98459 | E12: TAPUME COM TELHA METÁLICA. AF_03/2024 | F12: =P12 -> 501.6 | G12: M2 | H12: 88.79 | J12: 0.2664 | K12: =ROUND(I12,2)+(ROUND(I12,2)*J12) -> 0 | L12: =ROUND(Q12,2) -> 0 | N12: 1 | O12: CONSTRUÇÃO DA CRECHE TIPO I | P12: 501.6 | Q12: =ROUND(K12,2)*P12 -> 0
A13: Serviço | B13: 1.3 | C13: SINAPI | D13: 101509 | E13: ENTRADA DE ENERGIA ELÉTRICA, AÉREA, TRIFÁSICA, COM CAIXA DE EMBUTIR, CABO DE 10 MM2 E DISJUNTOR DIN 50A (NÃO INCLUSO O POSTE DE CONCRETO). AF_07/2020 | F13: =P13 -> 1 | G13: UN | H13: 1938.17 | J13: 0.2664 | K13: =ROUND(I13,2)+(ROUND(I13,2)*J13) -> 0 | L13: =ROUND(Q13,2) -> 0 | N13: 1 | O13: CONSTRUÇÃO DA CRECHE TIPO I | P13: 1 | Q13: =ROUND(K13,2)*P13 -> 0
A14: Serviço | B14: 1.4 | C14: Composição | D14: 1 | E14: LIGAÇÃO PROVISÓRIA DE ÁGUA E ESGOTO | F14: =P14 -> 1 | G14: UN | H14: 3418.91 | J14: 0.2664 | K14: =ROUND(I14,2)+(ROUND(I14,2)*J14) -> 0 | L14: =ROUND(Q14,2) -> 0 | N14: 1 | O14: CONSTRUÇÃO DA CRECHE TIPO I | P14: 1 | Q14: =ROUND(K14,2)*P14 -> 0
A15: Serviço | B15: 1.5 | C15: SINAPI | D15: 99059 | E15: LOCAÇÃO CONVENCIONAL DE OBRA, UTILIZANDO GABARITO DE TÁBUAS CORRIDAS PONTALETADAS A CADA 2,00M - 2 UTILIZAÇÕES. AF_03/2024 | F15: =P15 -> 254 | G15: M | H15: 65.91 | J15: 0.2664 | K15: =ROUND(I15,2)+(ROUND(I15,2)*J15) -> 0 | L15: =ROUND(Q15,2) -> 0 | N15: 1 | O15: CONSTRUÇÃO DA CRECHE TIPO I | P15: 254 | Q15: =ROUND(K15,2)*P15 -> 0
A16: Serviço | B16: 1.6 | C16: Composição | D16: 2 | E16: ADMINISTRAÇÃO LOCAL TIPO 1 | F16: =P16 -> 1 | G16: UN | H16: 320064 | J16: 0.2664 | K16: =ROUND(I16,2)+(ROUND(I16,2)*J16) -> 0 | L16: =ROUND(Q16,2) -> 0 | N16: 1 | O16: CONSTRUÇÃO DA CRECHE TIPO I | P16: 1 | Q16: =ROUND(K16,2)*P16 -> 0
A17: Serviço | B17: 1.7 | C17: Composição | D17: 3 | E17: LOCACAO DE CONTAINER 2,30 X 6,00 M, ALT. 2,50 M, COM 1 SANITARIO, PARA ESCRITORIO, COMPLETO, SEM DIVISORIAS INTERNAS (NAO INCLUI MOBILIZACAO/DESMOBILIZACAO) | F17: =P17 -> 10 | G17: MÊS | H17: 1185 | J17: 0.2664 | K17: =ROUND(I17,2)+(ROUND(I17,2)*J17) -> 0 | L17: =ROUND(Q17,2) -> 0 | N17: 1 | O17: CONSTRUÇÃO DA CRECHE TIPO I | P17: 10 | Q17: =ROUND(K17,2)*P17 -> 0
A18: Serviço | B18: 1.8 | C18: Composição | D18: 4 | E18: LOCACAO DE CONTAINER 2,30 X 6,00 M, ALT. 2,50 M, PARA ESCRITORIO, SEM DIVISORIAS INTERNAS E SEM SANITARIO (NAO INCLUI MOBILIZACAO/DESMOBILIZACAO) | F18: =P18 -> 10 | G18: MÊS | H18: 952.78 | J18: 0.2664 | K18: =ROUND(I18,2)+(ROUND(I18,2)*J18) -> 0 | L18: =ROUND(Q18,2) -> 0 | N18: 1 | O18: CONSTRUÇÃO DA CRECHE TIPO I | P18: 10 | Q18: =ROUND(K18,2)*P18 -> 0
A19: Serviço | B19: 1.9 | C19: Composição | D19: 5 | E19: LOCACAO DE CONTAINER 2,30 X 6,00 M, ALT. 2,50 M, PARA SANITARIO, COM 4 BACIAS, 8 CHUVEIROS,1 LAVATORIO E 1 MICTORIO (NAO INCLUI MOBILIZACAO/DESMOBILIZACAO) | F19: =P19 -> 10 | G19: MÊS | H19: 1481.25 | J19: 0.2664 | K19: =ROUND(I19,2)+(ROUND(I19,2)*J19) -> 0 | L19: =ROUND(Q19,2) -> 0 | N19: 1 | O19: CONSTRUÇÃO DA CRECHE TIPO I | P19: 10 | Q19: =ROUND(K19,2)*P19 -> 0
A20: Macrosserviço | B20: 2 | E20: MOVIMENTAÇÃO DE TERRA | J20: 0.2664 | L20: =ROUND(L21,2)+ROUND(L22,2)+ROUND(L23,2)+ROUND(L24,2)+ROUND(L25,2)+ROUND(L26,2)+ROUND(L27,2) -> 0
A21: Serviço | B21: 2.1 | C21: SINAPI | D21: 98525 | E21: LIMPEZA MECANIZADA DE CAMADA VEGETAL, VEGETAÇÃO E PEQUENAS ÁRVORES (DIÂMETRO DE TRONCO MENOR QUE 0,20 M), COM TRATOR DE ESTEIRAS. AF_03/2024 | F21: =P21 -> 2925 | G21: M2 | H21: 0.68 | J21: 0.2664 | K21: =ROUND(I21,2)+(ROUND(I21,2)*J21) -> 0 | L21: =ROUND(Q21,2) -> 0 | N21: 1 | O21: CONSTRUÇÃO DA CRECHE TIPO I | P21: 2925 | Q21: =ROUND(K21,2)*P21 -> 0
A22: Serviço | B22: 2.2 | C22: SINAPI | D22: 94306 | E22: ATERRO MECANIZADO DE VALA COM ESCAVADEIRA HIDRÁULICA (CAPACIDADE DA CAÇAMBA: 0,8 M³ / POTÊNCIA: 111 HP), LARGURA ATÉ 2,5 M, PROFUNDIDADE DE 1,5 A 3,0 M, COM SOLO ARGILO-ARENOSO. AF_08/2023 | F22: =P22 -> 585 | G22: M3 | H22: 69.52 | J22: 0.2664 | K22: =ROUND(I22,2)+(ROUND(I22,2)*J22) -> 0 | L22: =ROUND(Q22,2) -> 0 | N22: 1 | O22: CONSTRUÇÃO DA CRECHE TIPO I | P22: 585 | Q22: =ROUND(K22,2)*P22 -> 0
A23: Serviço | B23: 2.3 | C23: SINAPI | D23: 96521 | E23: ESCAVAÇÃO MECANIZADA PARA BLOCO DE COROAMENTO OU SAPATA COM RETROESCAVADEIRA (INCLUINDO ESCAVAÇÃO PARA COLOCAÇÃO DE FÔRMAS). AF_01/2024 | F23: =P23 -> 141.03 | G23: M3 | H23: 42.76 | J23: 0.2664 | K23: =ROUND(I23,2)+(ROUND(I23,2)*J23) -> 0 | L23: =ROUND(Q23,2) -> 0 | N23: 1 | O23: CONSTRUÇÃO DA CRECHE TIPO I | P23: 141.03 | Q23: =ROUND(K23,2)*P23 -> 0
A24: Serviço | B24: 2.4 | C24: SINAPI | D24: 96525 | E24: ESCAVAÇÃO MECANIZADA PARA VIGA BALDRAME OU SAPATA CORRIDA COM MINI-ESCAVADEIRA (INCLUINDO ESCAVAÇÃO PARA COLOCAÇÃO DE FÔRMAS). AF_01/2024 | F24: =P24 -> 41.4 | G24: M3 | H24: 56.43 | J24: 0.2664 | K24: =ROUND(I24,2)+(ROUND(I24,2)*J24) -> 0 | L24: =ROUND(Q24,2) -> 0 | N24: 1 | O24: CONSTRUÇÃO DA CRECHE TIPO I | P24: 41.4 | Q24: =ROUND(K24,2)*P24 -> 0
A25: Serviço | B25: 2.5 | C25: SINAPI | D25: 101617 | E25: PREPARO DE FUNDO DE VALA COM LARGURA MAIOR OU IGUAL A 1,5 M E MENOR QUE 2,5 M (ACERTO DO SOLO NATURAL). AF_08/2020 | F25: =P25 -> 47.9 | G25: M2 | H25: 3.18 | J25: 0.2664 | K25: =ROUND(I25,2)+(ROUND(I25,2)*J25) -> 0 | L25: =ROUND(Q25,2) -> 0 | N25: 1 | O25: CONSTRUÇÃO DA CRECHE TIPO I | P25: 47.9 | Q25: =ROUND(K25,2)*P25 -> 0
A26: Serviço | B26: 2.6 | C26: SINAPI | D26: 93381 | E26: REATERRO MECANIZADO DE VALA COM RETROESCAVADEIRA (CAPACIDADE DA CAÇAMBA DA RETRO: 0,26 M³/POTÊNCIA: 88 HP), LARGURA 0,8 A 1,5 M, PROFUNDIDADE 1,5 A 3,0 M, COM SOLO (SEM SUBSTITUIÇÃO) DE 1ª CATEGORIA E COMPACTADOR DE SOLOS DE PERCUSSÃO. AF_08/2023 | F26: =P26 -> 105.23 | G26: M3 | H26: 13.54 | J26: 0.2664 | K26: =ROUND(I26,2)+(ROUND(I26,2)*J26) -> 0 | L26: =ROUND(Q26,2) -> 0 | N26: 1 | O26: CONSTRUÇÃO DA CRECHE TIPO I | P26: 105.23 | Q26: =ROUND(K26,2)*P26 -> 0
A27: Serviço | B27: 2.7 | C27: SINAPI | D27: 94316 | E27: ATERRO MECANIZADO DE VALA COM RETROESCAVADEIRA (CAPACIDADE DA CAÇAMBA DA RETRO: 0,26 M³ / POTÊNCIA: 88 HP), LARGURA ATÉ 1,5 M, PROFUNDIDADE ATÉ 1,5 M, COM SOLO ARGILO-ARENOSO. AF_08/2023 | F27: =P27 -> 247.36 | G27: M3 | H27: 71.44 | J27: 0.2664 | K27: =ROUND(I27,2)+(ROUND(I27,2)*J27) -> 0 | L27: =ROUND(Q27,2) -> 0 | N27: 1 | O27: CONSTRUÇÃO DA CRECHE TIPO I | P27: 247.36 | Q27: =ROUND(K27,2)*P27 -> 0
A28: Macrosserviço | B28: 3 | E28: CONCRETO ARMADO PARA SAPATAS | J28: 0.2664 | L28: =ROUND(L29,2)+ROUND(L30,2)+ROUND(L31,2)+ROUND(L32,2)+ROUND(L33,2)+ROUND(L34,2) -> 0
A29: Serviço | B29: 3.1 | C29: SINAPI | D29: 96619 | E29: LASTRO DE CONCRETO MAGRO, APLICADO EM BLOCOS DE COROAMENTO OU SAPATAS, ESPESSURA DE 5 CM. AF_01/2024 | F29: =P29 -> 94.02 | G29: M2 | H29: 38.27 | J29: 0.2664 | K29: =ROUND(I29,2)+(ROUND(I29,2)*J29) -> 0 | L29: =ROUND(Q29,2) -> 0 | N29: 1 | O29: CONSTRUÇÃO DA CRECHE TIPO I | P29: 94.02 | Q29: =ROUND(K29,2)*P29 -> 0
A30: Serviço | B30: 3.2 | C30: SINAPI | D30: 96558 | E30: ='MEMÓRIA DE CÁLCULO'!C34 -> CONCRETAGEM DE SAPATA, FCK 30 MPA, COM USO DE BOMBA - LANÇAMENTO, ADENSAMENTO E ACABAMENTO. AF_01/2024 | F30: ='MEMÓRIA DE CÁLCULO'!F34 -> 32.55 | G30: M3 | H30: 878.58 | J30: 0.2664 | K30: =ROUND(I30,2)+(ROUND(I30,2)*J30) -> 0 | L30: =ROUND(Q30,2) -> 0 | N30: 1 | O30: CONSTRUÇÃO DA CRECHE TIPO I | P30: =F30 -> 32.55 | Q30: =ROUND(K30,2)*P30 -> 0
A31: Serviço | B31: 3.3 | C31: SINAPI | D31: 96534 | E31: ='MEMÓRIA DE CÁLCULO'!C35 -> FABRICAÇÃO, MONTAGEM E DESMONTAGEM DE FÔRMA PARA BLOCO DE COROAMENTO, EM MADEIRA SERRADA, E=25 MM, 4 UTILIZAÇÕES. AF_01/2024 | F31: ='MEMÓRIA DE CÁLCULO'!F35 -> 333.06 | G31: M2 | H31: 79.16 | J31: 0.2664 | K31: =ROUND(I31,2)+(ROUND(I31,2)*J31) -> 0 | L31: =ROUND(Q31,2) -> 0 | N31: 1 | O31: CONSTRUÇÃO DA CRECHE TIPO I | P31: =F31 -> 333.06 | Q31: =ROUND(K31,2)*P31 -> 0
A32: Serviço | B32: 3.4 | C32: SINAPI | D32: 104919 | E32: ='MEMÓRIA DE CÁLCULO'!C36 -> ARMAÇÃO DE SAPATA ISOLADA, VIGA BALDRAME E SAPATA CORRIDA UTILIZANDO AÇO CA-50 DE 10 MM - MONTAGEM. AF_01/2024 | F32: ='MEMÓRIA DE CÁLCULO'!F36 -> 887.28 | G32: KG | H32: 14.98 | J32: 0.2664 | K32: =ROUND(I32,2)+(ROUND(I32,2)*J32) -> 0 | L32: =ROUND(Q32,2) -> 0 | N32: 1 | O32: CONSTRUÇÃO DA CRECHE TIPO I | P32: =F32 -> 887.28 | Q32: =ROUND(K32,2)*P32 -> 0
A33: Serviço | B33: 3.5 | C33: SINAPI | D33: 104917 | E33: ='MEMÓRIA DE CÁLCULO'!C37 -> ARMAÇÃO DE SAPATA ISOLADA, VIGA BALDRAME E SAPATA CORRIDA UTILIZANDO AÇO CA-50 DE 6,3 MM - MONTAGEM. AF_01/2024 | F33: ='MEMÓRIA DE CÁLCULO'!F37 -> 977.55 | G33: KG | H33: 17.75 | J33: 0.2664 | K33: =ROUND(I33,2)+(ROUND(I33,2)*J33) -> 0 | L33: =ROUND(Q33,2) -> 0 | N33: 1 | O33: CONSTRUÇÃO DA CRECHE TIPO I | P33: =F33 -> 977.55 | Q33: =ROUND(K33,2)*P33 -> 0
A34: Serviço | B34: 3.6 | C34: SINAPI | D34: 104920 | E34: ='MEMÓRIA DE CÁLCULO'!C38 -> ARMAÇÃO DE BLOCO, SAPATA ISOLADA, VIGA BALDRAME E SAPATA CORRIDA UTILIZANDO AÇO CA-50 DE 12,5 MM - MONTAGEM. AF_01/2024 | F34: ='MEMÓRIA DE CÁLCULO'!F38 -> 40.28 | G34: KG | H34: 12.76 | J34: 0.2664 | K34: =ROUND(I34,2)+(ROUND(I34,2)*J34) -> 0 | L34: =ROUND(Q34,2) -> 0 | N34: 1 | O34: CONSTRUÇÃO DA CRECHE TIPO I | P34: =F34 -> 40.28 | Q34: =ROUND(K34,2)*P34 -> 0
A35: Macrosserviço | B35: 4 | E35: CONCRETO ARMADO - PILARES | J35: 0.2664 | L35: =ROUND(L36,2)+ROUND(L37,2)+ROUND(L38,2)+ROUND(L39,2)+ROUND(L40,2) -> 0
A36: Serviço | B36: 4.1 | C36: SINAPI | D36: 92443 | E36: MONTAGEM E DESMONTAGEM DE FÔRMA DE PILARES RETANGULARES E ESTRUTURAS SIMILARES, PÉ-DIREITO SIMPLES, EM CHAPA DE MADEIRA COMPENSADA PLASTIFICADA, 18 UTILIZAÇÕES. AF_09/2020 | F36: =P36 -> 605.94 | G36: M2 | H36: 54.42 | J36: 0.2664 | K36: =ROUND(I36,2)+(ROUND(I36,2)*J36) -> 0 | L36: =ROUND(Q36,2) -> 0 | N36: 1 | O36: CONSTRUÇÃO DA CRECHE TIPO I | P36: 605.94 | Q36: =ROUND(K36,2)*P36 -> 0
A37: Serviço | B37: 4.2 | C37: SINAPI | D37: 92762 | E37: ARMAÇÃO DE PILAR OU VIGA DE ESTRUTURA CONVENCIONAL DE CONCRETO ARMADO UTILIZANDO AÇO CA-50 DE 10,0 MM - MONTAGEM. AF_06/2022 | F37: =P37 -> 1560.82 | G37: KG | H37: 13.27 | J37: 0.2664 | K37: =ROUND(I37,2)+(ROUND(I37,2)*J37) -> 0 | L37: =ROUND(Q37,2) -> 0 | N37: 1 | O37: CONSTRUÇÃO DA CRECHE TIPO I | P37: 1560.82 | Q37: =ROUND(K37,2)*P37 -> 0
A38: Serviço | B38: 4.3 | C38: SINAPI | D38: 92763 | E38: ARMAÇÃO DE PILAR OU VIGA DE ESTRUTURA CONVENCIONAL DE CONCRETO ARMADO UTILIZANDO AÇO CA-50 DE 12,5 MM - MONTAGEM. AF_06/2022 | F38: =P38 -> 46.94 | G38: KG | H38: 11.2 | J38: 0.2664 | K38: =ROUND(I38,2)+(ROUND(I38,2)*J38) -> 0 | L38: =ROUND(Q38,2) -> 0 | N38: 1 | O38: CONSTRUÇÃO DA CRECHE TIPO I | P38: 46.94 | Q38: =ROUND(K38,2)*P38 -> 0
A39: Serviço | B39: 4.4 | C39: SINAPI | D39: 92759 | E39: ARMAÇÃO DE PILAR OU VIGA DE ESTRUTURA CONVENCIONAL DE CONCRETO ARMADO UTILIZANDO AÇO CA-60 DE 5,0 MM - MONTAGEM. AF_06/2022 | F39: =P39 -> 880.4 | G39: KG | H39: 16.15 | J39: 0.2664 | K39: =ROUND(I39,2)+(ROUND(I39,2)*J39) -> 0 | L39: =ROUND(Q39,2) -> 0 | N39: 1 | O39: CONSTRUÇÃO DA CRECHE TIPO I | P39: 880.4 | Q39: =ROUND(K39,2)*P39 -> 0
A40: Serviço | B40: 4.5 | C40: SINAPI | D40: 103672 | E40: CONCRETAGEM DE PILARES, FCK = 25 MPA, COM USO DE BOMBA - LANÇAMENTO, ADENSAMENTO E ACABAMENTO. AF_02/2022_PS | F40: =P40 -> 29.76 | G40: M3 | H40: 757.9 | J40: 0.2664 | K40: =ROUND(I40,2)+(ROUND(I40,2)*J40) -> 0 | L40: =ROUND(Q40,2) -> 0 | N40: 1 | O40: CONSTRUÇÃO DA CRECHE TIPO I | P40: 29.76 | Q40: =ROUND(K40,2)*P40 -> 0
A41: Macrosserviço | B41: 5 | E41: CONCRETO ARMADO - VIGAS INCLUINDO BALDRAME | J41: 0.2664 | L41: =ROUND(L42,2)+ROUND(L43,2)+ROUND(L44,2)+ROUND(L45,2)+ROUND(L46,2)+ROUND(L47,2)+ROUND(L48,2)+ROUND(L49,2)+ROUND(L50,2)+ROUND(L51,2) -> 0
...

Sheet CFF - bm
B1: PREFEITURA MUNICIPAL DE VARGEM ALTA
B3: ESTADO DO ESPÍRITO SANTO
A4: =Planilha!$A$3 -> OBRA: | B4: =Planilha!$C$3 -> Construção de Creche modelo FNDE Tipo 1 - BIM - opção 110V
A5: =Planilha!$A$4 -> LOCAL: | B5: =Planilha!$C$4 -> Vila Esperança, Vargem Alta - ES
A7: Número | B7: Macrosserviço | C7: Valor macrosserviço | D7: Parcela | E7: Percentual Parcela | F7: Valor
A8: 1 | B8: SERVIÇOS PRELIMINARES | C8: =Planilha!L10 -> 0 | D8: 1 | E8: 0.1 | F8: =$E$8*C8 -> 0
D9: 2 | E9: 0.1 | F9: =C8*E9 -> 0
D10: 3 | E10: 0.1 | F10: =E10*C8 -> 0
D11: 4 | E11: 0.1 | F11: =E11*C8 -> 0
D12: 5 | E12: 0.1 | F12: =E12*C8 -> 0
D13: 6 | E13: 0.1 | F13: =E13*C8 -> 0
D14: 7 | E14: 0.1 | F14: =E14*C8 -> 0
D15: 8 | E15: 0.1 | F15: =E15*C8 -> 0
D16: 9 | E16: 0.1 | F16: =E16*C8 -> 0
D17: 10 | E17: 0.1 | F17: =E17*C8 -> 0
A18: 2 | B18: MOVIMENTAÇÃO DE TERRA | C18: =Planilha!L20 -> 0 | D18: 1 | E18: 0.35 | F18: =C18*E18 -> 0
D19: 2 | E19: 0.55 | F19: =C18*E19 -> 0
D20: 3 | E20: 0.1 | F20: =C18*E20 -> 0
D21: 4 | E21: 0
D22: 5 | E22: 0
D23: 6 | E23: 0
D24: 7 | E24: 0
D25: 8 | E25: 0
D26: 9 | E26: 0
D27: 10 | E27: 0
A28: 3 | B28: CONCRETO ARMADO PARA SAPATAS | C28: =Planilha!L28 -> 0 | D28: 1 | E28: 0
D29: 2 | E29: 0.7 | F29: =C28*E29 -> 0
D30: 3 | E30: 0.3 | F30: =C28*E30 -> 0
D31: 4 | E31: 0
D32: 5 | E32: 0
D33: 6 | E33: 0
D34: 7 | E34: 0
D35: 8 | E35: 0
D36: 9 | E36: 0
D37: 10 | E37: 0
A38: 4 | B38: CONCRETO ARMADO - PILARES | C38: =Planilha!L35 -> 0 | D38: 1 | E38: 0
D39: 2 | E39: 0.1 | F39: =C38*E39 -> 0
D40: 3 | E40: 0.7 | F40: =C38*E40 -> 0
D41: 4 | E41: 0.2 | F41: =C38*E41 -> 0
D42: 5 | E42: 0
...

Sheet COMPOSIÇÕES PRÓPRIAS
A1: PREFEITURA MUNICIPAL DE VARGEM ALTA ESTADO DO ESPÍRITO SANTO
A2: =[1]ORÇAMENTO!$A$4 -> Obra: Construção de Creche modelo FNDE Tipo 1 - BIM - opção 110V
A3: =[1]ORÇAMENTO!$A$5 -> Local: Vila Esperança, Vargem Alta - ES
A4: COMPOSIÇÃO DE PREÇO | E4: =[1]ORÇAMENTO!G6 -> Fonte
E5: =[1]ORÇAMENTO!G7 -> SINAPI | F5: =[1]ORÇAMENTO!H7 -> 45627 | G5: =[1]ORÇAMENTO!I7 -> COM DESONERAÇÃO
E6: =[1]ORÇAMENTO!G8 -> SP OBRAS | F6: =[1]ORÇAMENTO!H8 -> 193 | G6: =[1]ORÇAMENTO!I8 -> COM DESONERAÇÃO
E7: =[1]ORÇAMENTO!G9 -> PRÓPRIA | F7: =[1]ORÇAMENTO!H9 -> PRÓPRIA
F8: =[1]ORÇAMENTO!H4 -> BDI : | G8: 0.2664
A9: FNDE 03 LIGAÇÃO PROVISÓRIA DE ÁGUA E ESGOTO (UN)
A10: Material | C10: FONTE | D10: UNID | E10: COEFICIENTE | F10: PREÇO UNITÁRIO | G10: TOTAL
A11: 370 | B11: AREIA MEDIA - POSTO JAZIDA/FORNECEDOR (RETIRADO NA JAZIDA, SEM TRANSPORTE) - Percentual=1,0000% | C11: SINAPI | D11: M3 | E11: 0.02 | F11: =H11 -> 83.34 | G11: =ROUND(F11*E11,2) -> 1.67 | H11: =VLOOKUP(A11,'[1]SINAPI ES'!$A$7:$D$12674,4,0) -> 83.34
A12: 10420 | B12: BACIA SANITARIA (VASO) CONVENCIONAL, DE LOUCA BRANCA, SIFAO APARENTE, SAIDA VERTICAL (SEM ASSENTO) - Percentual=1,0000% | C12: SINAPI | D12: UN | E12: 1 | F12: =H12 -> 245 | G12: =ROUND(F12*E12,2) -> 245 | H12: =VLOOKUP(A12,'[1]SINAPI ES'!$A$7:$D$12674,4,0) -> 245
A13: 11868 | B13: CAIXA D'AGUA / RESERVATORIO EM POLIESTER REFORCADO COM FIBRA DE VIDRO,1000 LITROS, COM TAMPA - Percentual=1,0000% | C13: SINAPI | D13: UN | E13: 1 | F13: =H13 -> 675.93 | G13: =ROUND(F13*E13,2) -> 675.93 | H13: =VLOOKUP(A13,'[1]SINAPI ES'!$A$7:$D$12674,4,0) -> 675.93
A14: 20247 | B14: PREGO DE ACO POLIDO COM CABECA 15 X 15 (1 1/4 X 13) - Percentual=1,0000% | C14: SINAPI | D14: KG | E14: 1 | F14: =H14 -> 22.53 | G14: =ROUND(F14*E14,2) -> 22.53 | H14: =VLOOKUP(A14,'[1]SINAPI ES'!$A$7:$D$12674,4,0) -> 22.53
A15: 20205 | B15: RIPA APARELHADA *1,5 X 5* CM, EM MACARANDUBA/MASSARANDUBA, ANGELIM OU EQUIVALENTE DA REGIAO - Percentual=1,0000% | C15: SINAPI | D15: M | E15: 8 | F15: =H15 -> 3.54 | G15: =ROUND(F15*E15,2) -> 28.32 | H15: =VLOOKUP(A15,'[1]SINAPI ES'!$A$7:$D$12674,4,0) -> 3.54
A16: 21009 | B16: TUBO ACO GALVANIZADO COM COSTURA, CLASSE LEVE, DN 20 MM ( 3/4"), E = 2,25 MM, *1,3* KG/M (NBR 5580) - Percentual=1,0000% | C16: SINAPI | D16: M | E16: 30 | F16: =H16 -> 37.25 | G16: =ROUND(F16*E16,2) -> 1117.5 | H16: =VLOOKUP(A16,'[1]SINAPI ES'!$A$7:$D$12674,4,0) -> 37.25
A17: 9841 | B17: TUBO PVC, SERIE R, DN 100 MM, PARA ESGOTO OU AGUAS PLUVIAIS PREDIAL (NBR 5688) - Percentual=1,0000% | C17: SINAPI | D17: M | E17: 5 | F17: =H17 -> 36.1 | G17: =ROUND(F17*E17,2) -> 180.5 | H17: =VLOOKUP(A17,'[1]SINAPI ES'!$A$7:$D$12674,4,0) -> 36.1
A18: 9841 | B18: TUBO PVC, SERIE R, DN 100 MM, PARA ESGOTO OU AGUAS PLUVIAIS PREDIAL (NBR 5688) - Percentual=1,0000% | C18: SINAPI | D18: M | E18: 5 | F18: =H18 -> 36.1 | G18: =ROUND(F18*E18,2) -> 180.5 | H18: =VLOOKUP(A18,'[1]SINAPI ES'!$A$7:$D$12674,4,0) -> 36.1
E19: TOTAL Material: | G19: =SUM(G11:G18) -> 2451.95 | H19: =VLOOKUP(A19,'[1]SINAPI ES'!$A$7:$D$12674,4,0) -> #N/A
A20: Mão de Obra com Encargos Complementares | C20: FONTE | D20: UNID | E20: COEFICIENTE | F20: PREÇO UNITÁRIO | G20: TOTAL | H20: =VLOOKUP(A20,'[1]SINAPI ES'!$A$7:$D$12674,4,0) -> #N/A
A21: 88248 | B21: AUXILIAR DE ENCANADOR OU BOMBEIRO HIDRÁULICO COM ENCARGOS COMPLEMENTARES - Percentual=1,0000% | C21: SINAPI | D21: H | E21: 4 | F21: =H21 -> 22.9 | G21: =ROUND(F21*E21,2) -> 91.6 | H21: =VLOOKUP(A21,'[1]SINAPI ES'!$A$7:$D$12674,4,0) -> 22.9
A22: 88267 | B22: ENCANADOR OU BOMBEIRO HIDRÁULICO COM ENCARGOS COMPLEMENTARES - Percentual=1,0000% | C22: SINAPI | D22: H | E22: 8 | F22: =H22 -> 26.54 | G22: =ROUND(F22*E22,2) -> 212.32 | H22: =VLOOKUP(A22,'[1]SINAPI ES'!$A$7:$D$12674,4,0) -> 26.54
A23: 88309 | B23: PEDREIRO COM ENCARGOS COMPLEMENTARES - Percentual=1,0000% | C23: SINAPI | D23: H | E23: 8 | F23: =H23 -> 28.13 | G23: =ROUND(F23*E23,2) -> 225.04 | H23: =VLOOKUP(A23,'[1]SINAPI ES'!$A$7:$D$12674,4,0) -> 28.13
A24: 88316 | B24: SERVENTE COM ENCARGOS COMPLEMENTARES - Percentual=1,0000% | C24: SINAPI | D24: H | E24: 8.12 | F24: =H24 -> 21.72 | G24: =ROUND(F24*E24,2) -> 176.37 | H24: =VLOOKUP(A24,'[1]SINAPI ES'!$A$7:$D$12674,4,0) -> 21.72
E25: TOTAL Mão de Obra com Encargos Complementares: | G25: =SUM(G21:G24) -> 705.33 | H25: =VLOOKUP(A25,'[1]SINAPI ES'!$A$7:$D$12674,4,0) -> #N/A
A26: Serviço | C26: FONTE | D26: UNID | E26: COEFICIENTE | F26: PREÇO UNITÁRIO | G26: TOTAL | H26: =VLOOKUP(A26,'[1]SINAPI ES'!$A$7:$D$12674,4,0) -> #N/A
A27: 92273 | B27: FABRICAÇÃO DE ESCORAS DO TIPO PONTALETE, EM MADEIRA, PARA PÉ-DIREITO SIMPLES. AF_09/2020 - Percentual=1,0000% | C27: SINAPI | D27: M | E27: 17 | F27: =H27 -> 15.39 | G27: =ROUND(F27*E27,2) -> 261.63 | H27: =VLOOKUP(A27,'[1]SINAPI ES'!$A$7:$D$12674,4,0) -> 15.39
E28: TOTAL Serviço: | G28: =G27 -> 261.63 | H28: =VLOOKUP(A28,'[1]SINAPI ES'!$A$7:$D$12674,4,0) -> #N/A
E29: VALOR: | G29: =G28+G25+G19 -> 3418.91 | H29: =VLOOKUP(A29,'[1]SINAPI ES'!$A$7:$D$12674,4,0) -> #N/A
H30: =VLOOKUP(A30,'[1]SINAPI ES'!$A$7:$D$12674,4,0) -> #N/A
A31: FNDE 244 ADMINISTRAÇÃO LOCAL TIPO 1 (UN) | H31: =VLOOKUP(A31,'[1]SINAPI ES'!$A$7:$D$12674,4,0) -> #N/A
A32: Mão de Obra com Encargos Complementares | C32: FONTE | D32: UNID | E32: COEFICIENTE | F32: PREÇO UNITÁRIO | G32: TOTAL | H32: =VLOOKUP(A32,'[1]SINAPI ES'!$A$7:$D$12674,4,0) -> #N/A
A33: 90766 | B33: ALMOXARIFE COM ENCARGOS COMPLEMENTARES | C33: SINAPI | D33: H | E33: 2000 | F33: =H33 -> 23.07 | G33: =ROUND(F33*E33,2) -> 46140 | H33: =VLOOKUP(A33,'[1]SINAPI ES'!$A$7:$D$12674,4,0) -> 23.07
A34: 90776 | B34: ENCARREGADO GERAL COM ENCARGOS COMPLEMENTARES | C34: SINAPI | D34: H | E34: 2000 | F34: =H34 -> 34.09 | G34: =ROUND(F34*E34,2) -> 68180 | H34: =VLOOKUP(A34,'[1]SINAPI ES'!$A$7:$D$12674,4,0) -> 34.09
A35: 90777 | B35: ENGENHEIRO CIVIL DE OBRA JUNIOR COM ENCARGOS COMPLEMENTARES | C35: SINAPI | D35: H | E35: 800 | F35: =H35 -> 105.98 | G35: =ROUND(F35*E35,2) -> 84784 | H35: =VLOOKUP(A35,'[1]SINAPI ES'!$A$7:$D$12674,4,0) -> 105.98
A36: 90780 | B36: MESTRE DE OBRAS COM ENCARGOS COMPLEMENTARES | C36: SINAPI | D36: H | E36: 1600 | F36: =H36 -> 53.88 | G36: =ROUND(F36*E36,2) -> 86208 | H36: =VLOOKUP(A36,'[1]SINAPI ES'!$A$7:$D$12674,4,0) -> 53.88
A37: 88316 | B37: SERVENTE COM ENCARGOS COMPLEMENTARES | C37: SINAPI | D37: H | E37: 1600 | F37: =H37 -> 21.72 | G37: =ROUND(F37*E37,2) -> 34752 | H37: =VLOOKUP(A37,'[1]SINAPI ES'!$A$7:$D$12674,4,0) -> 21.72
E38: TOTAL Mão de Obra com Encargos Complementares: | G38: =SUM(G33:G37) -> 320064 | H38: =VLOOKUP(A38,'[1]SINAPI ES'!$A$7:$D$12674,4,0) -> #N/A
E39: VALOR: | G39: =G38 -> 320064 | H39: =VLOOKUP(A39,'[1]SINAPI ES'!$A$7:$D$12674,4,0) -> #N/A
H40: =VLOOKUP(A40,'[1]SINAPI ES'!$A$7:$D$12674,4,0) -> #N/A
...

Sheet MEMÓRIA DE CÁLCULO
A1: PREFEITURA MUNICIPAL DE VARGEM ALTA ESTADO DO ESPÍRITO SANTO
A4: Obra: Construção de Creche modelo FNDE Tipo 1 - BIM - opção 110V | H4: BDI : | I4: 0.2664
A5: Local: Vila Esperança, Vargem Alta - ES
A6: MEMÓRIA DE CÁLCULO | G6: Fonte
G7: SINAPI | H7: =[1]ORÇAMENTO!H7 -> 45627 | I7: =[1]ORÇAMENTO!I7 -> COM DESONERAÇÃO
G8: SP OBRAS | H8: 193 | I8: =[1]ORÇAMENTO!I8 -> COM DESONERAÇÃO
G9: PRÓPRIA | H9: PRÓPRIA
A11: ITEM | B11: CÓDIGO | C11: DESCRIÇÃO | D11: FONTE | E11: UND | F11: QUANTIDADE | G11: CÁLCULO
A12: 1 | B12: SERVIÇOS PRELIMINARES
A13: 1.1 | B13: 103689 | C13: FORNECIMENTO E INSTALAÇÃO DE PLACA DE OBRA COM CHAPA GALVANIZADA E ESTRUTURA DE MADEIRA. AF_03/2022_PS | D13: SINAPI | E13: M2 | F13: 6.48 | G13: Quantidade: 2,00 X 3,24 = 6,48 M²
A14: 1.2 | B14: 98459 | C14: TAPUME COM TELHA METÁLICA. AF_03/2024 | D14: SINAPI | E14: M2 | F14: 501.6 | G14: Quantidade: (67,00 + 47,00) x 2,00 x 2,20 = 501,60 M²
A15: 1.3 | B15: 101509 | C15: ENTRADA DE ENERGIA ELÉTRICA, AÉREA, TRIFÁSICA, COM CAIXA DE EMBUTIR, CABO DE 10 MM2 E DISJUNTOR DIN 50A (NÃO INCLUSO O POSTE DE CONCRETO). AF_07/2020_PS | D15: SINAPI | E15: UN | F15: 1 | G15: 1,00 unidade
A16: 1.4 | B16: FNDE 03 | C16: LIGAÇÃO PROVISÓRIA DE ÁGUA E ESGOTO | D16: PRÓPRIA | E16: UN | F16: 1 | G16: 1,00 unidade
A17: 1.5 | B17: 99059 | C17: LOCAÇÃO CONVENCIONAL DE OBRA, UTILIZANDO GABARITO DE TÁBUAS CORRIDAS PONTALETADAS A CADA 2,00M - 2 UTILIZAÇÕES. AF_03/2024 | D17: SINAPI | E17: M | F17: 254 | G17: Quantitativo total de gabirito: 254,00 m
A18: 1.6 | B18: FNDE 244 | C18: ADMINISTRAÇÃO LOCAL TIPO 1 | D18: PRÓPRIA | E18: UN | F18: 1 | G18: 1,00 unidade
A19: 1.7 | B19: FNDE 231 | C19: LOCACAO DE CONTAINER 2,30 X 6,00 M, ALT. 2,50 M, COM 1 SANITARIO, PARA ESCRITORIO, COMPLETO, SEM DIVISORIAS INTERNAS (NAO INCLUI MOBILIZACAO/DESMOBILIZACAO) | D19: PRÓPRIA | E19: MÊS | F19: 10 | G19: Conforme cronograma: 10,00 meses
A20: 1.8 | B20: FNDE 230 | C20: LOCACAO DE CONTAINER 2,30 X 6,00 M, ALT. 2,50 M, PARA ESCRITORIO, SEM DIVISORIAS INTERNAS E SEM SANITARIO (NAO INCLUI MOBILIZACAO/DESMOBILIZACAO) | D20: PRÓPRIA | E20: MÊS | F20: 10 | G20: Conforme cronograma: 10,00 meses
A21: 1.9 | B21: FNDE 232 | C21: LOCACAO DE CONTAINER 2,30 X 6,00 M, ALT. 2,50 M, PARA SANITARIO, COM 4 BACIAS, 8 CHUVEIROS,1 LAVATORIO E 1 MICTORIO (NAO INCLUI MOBILIZACAO/DESMOBILIZACAO) | D21: PRÓPRIA | E21: MÊS | F21: 10 | G21: Conforme cronograma: 10,00 meses
A22: 1.10 | B22: FNDE 232 | C22: LOCACAO DE CONTAINER 2,30 X 6,00 M, ALT. 2,50 M, PARA SANITARIO, COM 4 BACIAS, 8 CHUVEIROS,1 LAVATORIO E 1 MICTORIO (NAO INCLUI MOBILIZACAO/DESMOBILIZACAO) | D22: PRÓPRIA | E22: MÊS | F22: 10 | G22: Conforme cronograma: 10,00 meses
A23: 2 | B23: =[1]ORÇAMENTO!B22 -> MOVIMENTAÇÃO DE TERRA
A24: 2.1 | B24: 98525 | C24: LIMPEZA MECANIZADA DE CAMADA VEGETAL, VEGETAÇÃO E PEQUENAS ÁRVORES (DIÂMETRO DE TRONCO MENOR QUE 0,20 M), COM TRATOR DE ESTEIRAS. AF_03/2024 | D24: SINAPI | E24: M2 | F24: 2925 | G24: Área total da creche: 65,00 x 45,00 = 2.925,00 m²
A25: 2.2 | B25: 94306 | C25: ATERRO MECANIZADO DE VALA COM ESCAVADEIRA HIDRÁULICA (CAPACIDADE DA CAÇAMBA: 0,8 M³ / POTÊNCIA: 111 HP), LARGURA ATÉ 2,5 M, PROFUNDIDADE DE 1,5 A 3,0 M, COM SOLO ARGILO-ARENOSO. AF_08/2023 | D25: SINAPI | E25: M3 | F25: 585 | G25: Aterro conforme projeto estrutural
A26: 2.3 | B26: 96521 | C26: ESCAVAÇÃO MECANIZADA PARA BLOCO DE COROAMENTO OU SAPATA COM RETROESCAVADEIRA (INCLUINDO ESCAVAÇÃO PARA COLOCAÇÃO DE FÔRMAS). AF_01/2024 | D26: SINAPI | E26: M3 | F26: 141.03 | G26: Escavação conforme projeto estrutural: (0,60 x 0,75 x 1,50 x 51) + (0,60 x 1,00 x 1,50 x 4) + (0,70 x 0,90 x 1,50 x 109) = 34,43 + 3,60 + 103,00 = 141,03 m3
A27: 2.4 | B27: 96525 | C27: ESCAVAÇÃO MECANIZADA PARA VIGA BALDRAME OU SAPATA CORRIDA COM MINI-ESCAVADEIRA (INCLUINDO ESCAVAÇÃO PARA COLOCAÇÃO DE FÔRMAS). AF_01/2024 | D27: SINAPI | E27: M3 | F27: 41.4 | G27: Escavação conforme projeto estrutural
A28: 2.5 | B28: 101617 | C28: PREPARO DE FUNDO DE VALA COM LARGURA MAIOR OU IGUAL A 1,5 M E MENOR QUE 2,5 M (ACERTO DO SOLO NATURAL). AF_08/2020 | D28: SINAPI | E28: M2 | F28: 47.9 | G28: Conforme projeto esturutral
A29: 2.6 | B29: 93381 | C29: REATERRO MECANIZADO DE VALA COM RETROESCAVADEIRA (CAPACIDADE DA CAÇAMBA DA RETRO: 0,26 M³/POTÊNCIA: 88 HP), LARGURA 0,8 A 1,5 M, PROFUNDIDADE 1,5 A 3,0 M, COM SOLO (SEM SUBSTITUIÇÃO) DE 1ª CATEGORIA E COMPACTADOR DE SOLOS DE PERCUSSÃO. AF_08/2023 | D29: SINAPI | E29: M3 | F29: 105.23 | G29: Reaterro conforme projeto estrutural: 141,03 - 35,80 = 105,23 m3
A30: 2.7 | B30: 94316 | C30: ATERRO MECANIZADO DE VALA COM RETROESCAVADEIRA (CAPACIDADE DA CAÇAMBA DA RETRO: 0,26 M³ / POTÊNCIA: 88 HP), LARGURA ATÉ 1,5 M, PROFUNDIDADE ATÉ 1,5 M, COM SOLO ARGILO-ARENOSO. AF_08/2023 | D30: SINAPI | E30: M3 | F30: 247.36 | G30: Aterro conforme projeto estrutural
A31: 3 | B31: FUNDAÇÕES
A32: 3.1 | B32: CONCRETO ARMADO PARA SAPATAS
A33: 3.1.1 | B33: 96619 | C33: LASTRO DE CONCRETO MAGRO, APLICADO EM BLOCOS DE COROAMENTO OU SAPATAS, ESPESSURA DE 5 CM. AF_01/2024 | D33: SINAPI | E33: M2 | F33: 94.02 | G33: Conforme projeto esturutral: (0,60 x 0,75 x 51) + (0,60 x 1,00 x 4) + (0,70 x 0,90 x 109) = 22,95 + 2,40 + 68,67 = 94,02 m2
A34: 3.1.2 | B34: 96558 | C34: CONCRETAGEM DE SAPATA, FCK 30 MPA, COM USO DE BOMBA - LANÇAMENTO, ADENSAMENTO E ACABAMENTO. AF_01/2024 | D34: SINAPI | E34: M3 | F34: 32.55 | G34: Conforme projeto esturutral: 35,80 - 10% (Já contemplado no item do sinapi) = 32,55 m3
A35: 3.1.3 | B35: 96534 | C35: FABRICAÇÃO, MONTAGEM E DESMONTAGEM DE FÔRMA PARA BLOCO DE COROAMENTO, EM MADEIRA SERRADA, E=25 MM, 4 UTILIZAÇÕES. AF_01/2024 | D35: SINAPI | E35: M2 | F35: 333.06 | G35: Conforme projeto esturutral: 366,36 - 10% (Já contemplado no item do sinapi) = 333,06 m2
A36: 3.1.4 | B36: 104919 | C36: ARMAÇÃO DE SAPATA ISOLADA, VIGA BALDRAME E SAPATA CORRIDA UTILIZANDO AÇO CA-50 DE 10 MM - MONTAGEM. AF_01/2024 | D36: SINAPI | E36: KG | F36: 887.28 | G36: Conforme projeto esturutral: 976,00 - 10% (Já contemplado no item do sinapi) = 887,28 kg
A37: 3.1.5 | B37: 92915 | C37: ARMAÇÃO DE SAPATA ISOLADA, VIGA BALDRAME E SAPATA CORRIDA UTILIZANDO AÇO CA-50 DE 6,3 MM - MONTAGEM. AF_01/2024 | D37: SINAPI | E37: KG | F37: 977.55 | G37: Conforme projeto esturutral: 1.075,30 - 10% (Já contemplado no item do sinapi) = 977,55 kg
A38: 3.1.6 | B38: 104920 | C38: ARMAÇÃO DE BLOCO, SAPATA ISOLADA, VIGA BALDRAME E SAPATA CORRIDA UTILIZANDO AÇO CA-50 DE 12,5 MM - MONTAGEM. AF_01/2024 | D38: SINAPI | E38: KG | F38: 40.28 | G38: Conforme projeto esturutral: 44,30 - 10% (Já contemplado no item do sinapi) = 40,28 kg
A39: 4 | B39: SUPERESTRUTURA
A40: 4.1 | B40: CONCRETO ARMADO - PILARES
A41: 4.1.1 | B41: 92443 | C41: MONTAGEM E DESMONTAGEM DE FÔRMA DE PILARES RETANGULARES E ESTRUTURAS SIMILARES, PÉ-DIREITO SIMPLES, EM CHAPA DE MADEIRA COMPENSADA PLASTIFICADA, 18 UTILIZAÇÕES. AF_09/2020 | D41: SINAPI | E41: M2 | F41: 605.94 | G41: Conforme projeto esturutral
A42: 4.1.2 | B42: 92762 | C42: ARMAÇÃO DE PILAR OU VIGA DE ESTRUTURA CONVENCIONAL DE CONCRETO ARMADO UTILIZANDO AÇO CA-50 DE 10,0 MM - MONTAGEM. AF_06/2022 | D42: SINAPI | E42: KG | F42: 1560.82 | G42: Conforme projeto esturutral
A43: 4.1.3 | B43: 92763 | C43: ARMAÇÃO DE PILAR OU VIGA DE ESTRUTURA CONVENCIONAL DE CONCRETO ARMADO UTILIZANDO AÇO CA-50 DE 12,5 MM - MONTAGEM. AF_06/2022 | D43: SINAPI | E43: KG | F43: 46.94 | G43: Conforme projeto esturutral
...

Sheet BDI (26,64%)
A1: DETALHAMENTO DO BDI
A3: PROPONENTE: | B3: =[2]ORÇAMENTO!A1 -> PREFEITURA MUNICIPAL DE VARGEM ALTA
A4: OBRA: | B4: Construção de Creche modelo FNDE Tipo 1 - BIM - opção 110V
A5: LOCAL: | B5: Vila Esperança, Vargem Alta - ES
A7: 1. Regime de Contribuição Previdenciária
B9: Com Desoneração
A11: 2. Tipo de Intervenção
B13: Edificações
A15: 3. Incidências sobre o custo
B17: Administração Central - AC | C17: 4 | D17: %
B18: Riscos - R | C18: 1.5 | D18: %
B19: Seguros e Garantias Contratuais - S+G | C19: 1.5 | D19: %
B20: Despesas e Encargos Financeiros - DF | C20: 1.5 | D20: %
B22: Lucro - L | C22: 5 | D22: %
A24: 4 – Incidências sobre o preço de venda
B26: Despesas Tributárias - I | C26: =C34+C33+C32+C30 -> 9.95 | D26: %
B28: Percentual da base de cálculo para o ISS: | C28: 60 | D28: %
B29: Alíquota do ISS (sobre a base de cálculo): | C29: 3 | D29: % | F29: 34.425
B30: Alíquota Efetivado do ISS: | C30: 1.8 | D30: %
B32: COFINS | C32: 3 | D32: %
B33: PIS | C33: 0.65 | D33: %
B34: INSS | C34: 4.5 | D34: %
A36: 5 – Demonstrativo de cálculo do BDI
B38: BDI= (1+(AC+S+R+G))(1+DF)(1+L)) -1 = | C38: =ROUND((((1+($C$17/100)+($C$19/100)+($C$18/100))*(1+($C$20/100))*(1+($C$22/100)))/(1-$C$26/100)-1),4) -> 0.2664 | E38: =[3]Auxiliar!A17 -> Atende
B39: ( 1- I )
A41: Declaro para os devidos fins que, conforme legislação tributária municipal, a base de cálculo
A42: =CONCATENATE("do ISS para ", B13," é de ",C28," %",", com a respectiva alíquota de ",C29," %") -> do ISS para Edificações é de 60 %, com a respectiva alíquota de 3 %
A44: Declaro para os devidos fins que o regime de Contribuição Previdenciária adotado para
A45: =CONCATENATE("elaboração do orçamento foi ",B9,", e que esta é a alternativa mais adequada para ") -> elaboração do orçamento foi Com Desoneração, e que esta é a alternativa mais adequada para
A46: a Administração Pública.
A47: =[4]ORÇAMENTO!A727 -> Vargem Alta - ES, 06 de março de 2025
A51: Eng./Arq. | B51: =[4]ORÇAMENTO!E732 -> Luis Fernando A. M. Ramos
A52: CREA/CAU: | B52: =[4]ORÇAMENTO!E733 -> CREA ES 0048933/D
A55: Nome | B55: ELIESER RABELLO
A56: Cargo | B56: PREFEITO MUNICIPAL
