Workbook
Name A: #N/A
Name AA: #N/A
Name AAA: #N/A
Name comp_02: #N/A
Name COMP_04: #N/A
Name D: #N/A
Name DD: #N/A

Sheet PLANILHA (3)
A1: PREFEITURA MUNICIPAL DE VARGEM ALTA
A3: ESTADO DO ESPÍRITO SANTO
A4: OBRA: | B4: INSTALAÇÃO DE BIODIGESTORES EM VÁRIAS LOCALIDADES | L4: Data Base: SINAPI E DER-ES SETEMBRO/2021
A5: LOCAL: | B5: VARGEM ALTA - ES. | L5: BDI DE 31,96% | N5: L.S. = 157,27%
A6: PLANILHA ORÇAMENTÁRIA | O6: 1.3196
A7: ITEM | B7: CÓDIGO | C7: ESPECIFICAÇÃO | J7: UNID. | K7: QUANT. | L7: PREÇOS EM REAL | O7: 1.3196
L8: P. UNIT SEM BDI | M8: P. UNIT COM BDI | N8: P.TOTAL | O8: 1.3196
A9: 1 | C9: SERVIÇOS PARA INSTALAÇÃO DE BIODIGESTORES | O9: 1.3196
A10: 1.1 | B10: DER-ES 030101 | C10: Escavação manual em material de 1a. categoria, até 1.50 m de profundidade | J10: m3 | K10: ='MEMÓRIA CÁLCULO'!D8 -> 395.90125 | L10: 45.66 | M10: =L10*O10 -> 60.252936 | N10: =M10*K10 -> 23854.213 | O10: 1.3196
A11: 1.2 | B11: DER-ES 130110 | C11: Lastro regularizado de concreto não estrutural, espessura de 8 cm | J11: m2 | K11: ='MEMÓRIA CÁLCULO'!D12 -> 81.92 | L11: 52.81 | M11: =L11*O11 -> 69.688076 | N11: =M11*K11 -> 5708.8472 | O11: 1.3196
A12: 1.3 | B12: DER-ES 141101 | C12: Caixas de inspeção de alv. blocos concreto 9x19x39cm, dim, 60x60cm e Hmáx = 1m, com tampa de conc. esp. 5cm, lastro de conc. esp. 10cm, revest intern. c/ chapisco e reboco impermeabilizado, incl. escavação, reaterro e enchimento (caixa de lodo) | J12: und | K12: ='MEMÓRIA CÁLCULO'!D13 -> 358.4 | L12: 474.71 | M12: =L12*O12 -> 626.42732 | N12: =M12*K12 -> 224511.55 | O12: 1.3196
A13: 1.4 | B13: DER-ES 140903 | C13: Tubo PVC rígido para esgoto no diâmetro de 100mm incluindo escavação e aterro com areia | J13: m | K13: ='MEMÓRIA CÁLCULO'!D15 -> 2304 | L13: 53.35 | M13: =L13*O13 -> 70.40066 | N13: =M13*K13 -> 162203.12 | O13: 1.3196
A14: 1.5 | B14: DER-ES 040206 | C14: Fôrma de tábua de madeira de 2.5 x 30.0 cm para fundações, levando-se em conta a utilização 5 vezes (incluido o material, corte, montagem, escoramento e desforma) | J14: m2 | K14: ='MEMÓRIA CÁLCULO'!#REF! -> #REF! | L14: 69.35 | M14: =L14*O14 -> 91.51426 | N14: =M14*K14 -> #REF! | O14: 1.3196
A15: 1.6 | B15: DER-ES 040237 | C15: Fornecimento, preparo e aplicação de concreto Fck=25 MPa (brita 1 e 2) - (5% de perdas já incluído no custo) | J15: m3 | K15: ='MEMÓRIA CÁLCULO'!#REF! -> #REF! | L15: 579.5 | M15: =L15*O15 -> 764.7082 | N15: =M15*K15 -> #REF! | O15: 1.3196
A16: 1.7 | B16: DER-ES 040243 | C16: Fornecimento, dobragem e colocação em fôrma, de armadura CA-50 A média, diâmetro de 6.3 a 10.0 mm | J16: kg | K16: ='MEMÓRIA CÁLCULO'!#REF! -> #REF! | L16: 13.56 | M16: =L16*O16 -> 17.893776 | N16: =M16*K16 -> #REF! | O16: 1.3196
A17: 1.8 | B17: DER-ES 030201 | C17: Reaterro apiloado de cavas de fundação, em camadas de 20 cm | J17: m3 | K17: ='MEMÓRIA CÁLCULO'!D18 -> 92.682752 | L17: 28.81 | M17: =L17*O17 -> 38.017676 | N17: =M17*K17 -> 3523.5828 | O17: 1.3196 | R17: 270
C18: VALOR TOTAL COM BDI INCLUSO | N18: =SUM(N10:N17) -> #REF!
A20: Vargem Alta - ES, 21 de dezembro de 2021.
C23: _________________________________________ | M23: __________________________
C24: GERALDO BRUNORO ESTEVES | L24: ELIESER RABELLO
C25: ENGENHEIRO CIVIL - CREA ES 33738/D | L25: PREFEITO MUNICIPAL

Sheet PLANILHA (SEM BDI)
A1: PREFEITURA MUNICIPAL DE VARGEM ALTA
A3: ESTADO DO ESPÍRITO SANTO
A4: OBRA: | B4: INSTALAÇÃO DE BIODIGESTORES EM VÁRIAS LOCALIDADES | L4: Data Base: SINAPI E DER-ES SETEMBRO/2021
A5: LOCAL: | B5: VARGEM ALTA - ES. | L5: BDI DE 31,96% | N5: L.S. = 157,27%
A6: PLANILHA ORÇAMENTÁRIA | O6: 1.3196
A7: ITEM | B7: CÓDIGO | C7: ESPECIFICAÇÃO | J7: UNID. | K7: QUANT. | L7: PREÇOS EM REAL | O7: 1.3196
L8: P. UNIT SEM BDI | M8: P. UNIT COM BDI | N8: P.TOTAL | O8: 1.3196
A9: 1 | C9: SERVIÇOS PARA INSTALAÇÃO DE BIODIGESTORES | O9: 1.3196
A10: 1.1 | B10: DER-ES 030101 | C10: Escavação manual em material de 1a. categoria, até 1.50 m de profundidade | J10: m3 | K10: ='MEMÓRIA CÁLCULO'!D8 -> 395.90125 | L10: 45.66 | M10: =L10*O10 -> 60.252936 | N10: =M10*K10 -> 23854.213 | O10: 1.3196
A11: 1.2 | B11: DER-ES 130110 | C11: Lastro regularizado de concreto não estrutural, espessura de 8 cm | J11: m2 | K11: ='MEMÓRIA CÁLCULO'!D12 -> 81.92 | L11: 52.81 | M11: =L11*O11 -> 69.688076 | N11: =M11*K11 -> 5708.8472 | O11: 1.3196
A12: 1.3 | B12: DER-ES 141101 | C12: Caixas de inspeção de alv. blocos concreto 9x19x39cm, dim, 60x60cm e Hmáx = 1m, com tampa de conc. esp. 5cm, lastro de conc. esp. 10cm, revest intern. c/ chapisco e reboco impermeabilizado, incl. escavação, reaterro e enchimento (caixa de lodo) | J12: und | K12: ='MEMÓRIA CÁLCULO'!D13 -> 358.4 | L12: 474.71 | M12: =L12*O12 -> 626.42732 | N12: =M12*K12 -> 224511.55 | O12: 1.3196
A13: 1.4 | B13: DER-ES 140903 | C13: Tubo PVC rígido para esgoto no diâmetro de 100mm incluindo escavação e aterro com areia | J13: m | K13: ='MEMÓRIA CÁLCULO'!D15 -> 2304 | L13: 53.35 | M13: =L13*O13 -> 70.40066 | N13: =M13*K13 -> 162203.12 | O13: 1.3196
A14: 1.5 | B14: DER-ES 040206 | C14: Fôrma de tábua de madeira de 2.5 x 30.0 cm para fundações, levando-se em conta a utilização 5 vezes (incluido o material, corte, montagem, escoramento e desforma) | J14: m2 | K14: ='MEMÓRIA CÁLCULO'!#REF! -> #REF! | L14: 69.35 | M14: =L14*O14 -> 91.51426 | N14: =M14*K14 -> #REF! | O14: 1.3196
A15: 1.6 | B15: DER-ES 040237 | C15: Fornecimento, preparo e aplicação de concreto Fck=25 MPa (brita 1 e 2) - (5% de perdas já incluído no custo) | J15: m3 | K15: ='MEMÓRIA CÁLCULO'!#REF! -> #REF! | L15: 579.5 | M15: =L15*O15 -> 764.7082 | N15: =M15*K15 -> #REF! | O15: 1.3196
A16: 1.7 | B16: DER-ES 040243 | C16: Fornecimento, dobragem e colocação em fôrma, de armadura CA-50 A média, diâmetro de 6.3 a 10.0 mm | J16: kg | K16: ='MEMÓRIA CÁLCULO'!#REF! -> #REF! | L16: 13.56 | M16: =L16*O16 -> 17.893776 | N16: =M16*K16 -> #REF! | O16: 1.3196
A17: 1.8 | B17: DER-ES 030201 | C17: Reaterro apiloado de cavas de fundação, em camadas de 20 cm | J17: m3 | K17: ='MEMÓRIA CÁLCULO'!D18 -> 92.682752 | L17: 28.81 | M17: =L17*O17 -> 38.017676 | N17: =M17*K17 -> 3523.5828 | O17: 1.3196 | R17: 270
A18: 1.9 | B18: MERCADO | C18: Biodigestor de 500 litros/dia | J18: und | K18: 270 | M18: 1740.45 | N18: =M18*K18 -> 469921.5 | O18: 1.3196
C19: VALOR TOTAL COM BDI INCLUSO | N19: =SUM(N10:N18) -> #REF!
A21: Vargem Alta - ES, 21 de dezembro de 2021.
C24: _________________________________________ | M24: __________________________
C25: GERALDO BRUNORO ESTEVES | L25: ELIESER RABELLO
C26: ENGENHEIRO CIVIL - CREA ES 33738/D | L26: PREFEITO MUNICIPAL

Sheet PLANILHA
A1: PREFEITURA MUNICIPAL DE VARGEM ALTA
A3: ESTADO DO ESPÍRITO SANTO
A4: OBRA: | B4: INSTALAÇÃO DE 128 UNIDADES DE BIODIGESTORES EM ALTO POMBAL, ALTO OURO E SUMIDOURO | L4: DATA BASE: SINAPI 07-2025
A5: LOCAL: | B5: VARGEM ALTA - ES. | L5: BDI DE 29,63% BDI DIF: 20,13% | N5: L.S. = 86,32%
A6: PLANILHA ORÇAMENTÁRIA | O6: 1.2963
A7: ITEM | B7: CÓDIGO | C7: ESPECIFICAÇÃO | J7: UNID. | K7: QUANT. | L7: PREÇOS EM REAL | O7: 1.2963
L8: P. UNIT SEM BDI | M8: P. UNIT COM BDI | N8: P.TOTAL | O8: 1.2963
A9: 1 | C9: SERVIÇOS PARA INSTALAÇÃO DE BIODIGESTORES | O9: 1.2963
A10: 1.1 | B10: SINAPI 90082 | C10: ESCAVAÇÃO MECANIZADA DE VALA COM PROF. ATÉ 1,5 M (MÉDIA MONTANTE E JUSANTE/UMA COMPOSIÇÃO POR TRECHO), ESCAVADEIRA (0,8 M3), LARG. DE 1,5 M A 2,5 M, EM SOLO DE 1A CATEGORIA, EM LOCAIS COM ALTO NÍVEL DE INTERFERÊNCIA. AF_09/2024 | J10: m3 | K10: ='MEMÓRIA CÁLCULO'!D8 -> 395.90125 | L10: 10.3 | M10: =ROUND(P10,2) -> 0 | N10: =ROUND(M10*K10,2) -> 0 | O10: 1.2963
A11: 1.2 | B11: SINAPI 93358 | C11: ESCAVAÇÃO MANUAL DE VALA COM PROFUNDIDADE MENOR OU IGUAL A 1,30 M. AF_02/2021 | J11: m3 | K11: ='MEMÓRIA CÁLCULO'!D9 -> 48.28064 | L11: 98.73 | M11: =ROUND(P11,2) -> 0 | N11: =ROUND(M11*K11,2) -> 0 | O11: 1.2963
A12: 1.3 | B12: SINAPI 103682 | C12: CONCRETAGEM DE VIGAS E LAJES, FCK=25 MPA, PARA QUALQUER TIPO DE LAJE COM BALDES EM EDIFICAÇÃO TÉRREA - LANÇAMENTO, ADENSAMENTO E ACABAMENTO. AF_02/2022 | J12: m³ | K12: ='MEMÓRIA CÁLCULO'!D10 -> 32.33232 | L12: 1120.12 | M12: =ROUND(P12,2) -> 0 | N12: =ROUND(M12*K12,2) -> 0 | O12: 1.2963
A13: 1.4 | B13: SINAPI 92875 | C13: CORTE E DOBRA DE AÇO CA-25, DIÂMETRO DE 6,3 MM. AF_06/2022 | J13: kg | K13: ='MEMÓRIA CÁLCULO'!D11 -> 756.71 | L13: 11.14 | M13: =ROUND(P13,2) -> 0 | N13: =ROUND(M13*K13,2) -> 0 | O13: 1.2963
A14: 1.5 | B14: SINAPI 92267 | C14: FABRICAÇÃO DE FÔRMA PARA LAJES, EM CHAPA DE MADEIRA COMPENSADA RESINADA, E = 17 MM. AF_09/2020 | J14: m² | K14: ='MEMÓRIA CÁLCULO'!D12 -> 81.92 | L14: 59.84 | M14: =ROUND(P14,2) -> 0 | N14: =ROUND(M14*K14,2) -> 0 | O14: 1.2963
A15: 1.6 | B15: SINAPI 103370 | C15: ALVENARIA DE VEDAÇÃO DE BLOCOS CERÂMICOS FURADOS NA HORIZONTAL DE 19X19X39 CM (ESPESSURA 19 CM) E ARGAMASSA DE ASSENTAMENTO COM PREPARO EM BETONEIRA. AF_12/2021 | J15: m² | K15: ='MEMÓRIA CÁLCULO'!D13 -> 358.4 | L15: 81.61 | M15: =ROUND(P15,2) -> 0 | N15: =ROUND(M15*K15,2) -> 0 | O15: 1.2963
A16: 1.7 | B16: SINAPI 100322 | C16: LASTRO COM MATERIAL GRANULAR (PEDRA BRITADA N.3), APLICADO EM PISOS OU LAJES SOBRE SOLO, ESPESSURA DE *10 CM*. AF_01/2024 | J16: m³ | K16: ='MEMÓRIA CÁLCULO'!D14 -> 8.192 | L16: 223.66 | M16: =ROUND(P16,2) -> 0 | N16: =ROUND(M16*K16,2) -> 0 | O16: 1.2963
A17: 1.8 | B17: SINAPI 102264 | C17: TUBO DE PVC BRANCO PARA REDE COLETORA DE ESGOTO CONDOMINIAL DE PAREDE MACIÇA, DN 100 MM, JUNTA ELÁSTICA - FORNECIMENTO E ASSENTAMENTO. AF_01/2021 | J17: m | K17: ='MEMÓRIA CÁLCULO'!D15 -> 2304 | L17: 25.24 | M17: =ROUND(P17,2) -> 0 | N17: =ROUND(M17*K17,2) -> 0 | O17: 1.2963
A18: 1.9 | B18: SINAPI 89713 | C18: TUBO PVC, SERIE NORMAL, ESGOTO PREDIAL, DN 75 MM, FORNECIDO E INSTALADO EM RAMAL DE DESCARGA OU RAMAL DE ESGOTO SANITÁRIO. AF_08/2022 | J18: m | K18: ='MEMÓRIA CÁLCULO'!D16 -> 1536 | L18: 40.79 | M18: =ROUND(P18,2) -> 0 | N18: =ROUND(M18*K18,2) -> 0 | O18: 1.2963
A19: 1.10 | B19: SINAPI 89450 | C19: TUBO, PVC, SOLDÁVEL, DE 60MM, INSTALADO EM PRUMADA DE ÁGUA - FORNECIMENTO E INSTALAÇÃO. AF_06/2022 | J19: m | K19: ='MEMÓRIA CÁLCULO'!D17 -> 96 | L19: 37.51 | M19: =ROUND(P19,2) -> 0 | N19: =ROUND(M19*K19,2) -> 0 | O19: 1.2963
A20: 1.11 | B20: SINAPI 93382 | C20: REATERRO MANUAL DE VALAS COM COMPACTAÇÃO MECANIZADA. AF_04/2016 | J20: m3 | K20: ='MEMÓRIA CÁLCULO'!D18 -> 92.682752 | L20: 30.22 | M20: =ROUND(P20,2) -> 0 | N20: =ROUND(M20*K20,2) -> 0 | O20: 1.2963
A21: 1.12 | B21: MERCADO | C21: Biodigestor para tratamento de esgoto domiciliar com a capacidade de 700 litros/dia, marca fortlev. (BDI DIF. 20,13%) | J21: und | K21: ='MEMÓRIA CÁLCULO'!D19 -> 128 | L21: ='MERCADO BIODIGESTORES'!F9 -> 2275.585 | M21: =ROUND(P21,2) -> 0 | N21: =ROUND(M21*K21,2) -> 0 | O21: 1.2013
C22: VALOR TOTAL COM BDI INCLUSO | N22: =SUM(N10:N21) -> 0
A24: Vargem Alta - ES, 25 de novembro de 2025.
C27: _________________________________________ | M27: __________________________
C28: IGOR GAVA SARTÓRIO SCARTON | L28: ELIESER RABELLO
C29: CREA ES-059785/D | L29: PREFEITO MUNICIPAL | O29: =N22/K21 -> 0

Sheet MEMÓRIA CÁLCULO
A1: PREFEITURA MUNICIPAL DE VARGEM ALTA | Q1: 29
A2: ESTADO DO ESPÍRITO SANTO | Q2: 56.5
A3: OBRA: | B3: =PLANILHA!B4 -> INSTALAÇÃO DE 128 UNIDADES DE BIODIGESTORES EM ALTO POMBAL, ALTO OURO E SUMIDOURO | Q3: 54
A4: LOCAL: | B4: =PLANILHA!B5 -> VARGEM ALTA - ES. | Q4: 11
A5: MEMÓRIA DE CÁLCULO | Q5: 8
A6: ITEM | B6: ESPECIFICAÇÃO | C6: UNID. | D6: QUANT. | E6: CÁLCULO | G6: 128 | Q6: 8
A7: 1 | B7: =PLANILHA!C9 -> SERVIÇOS PARA INSTALAÇÃO DE BIODIGESTORES | Q7: 22
A8: 1.1 | B8: =PLANILHA!C10 -> ESCAVAÇÃO MECANIZADA DE VALA COM PROF. ATÉ 1,5 M (MÉDIA MONTANTE E JUSANTE/UMA COMPOSIÇÃO POR TRECHO), ESCAVADEIRA (0,8 M3), LARG. DE 1,5 M A 2,5 M, EM SOLO DE 1A CATEGORIA, EM LOCAIS COM ALTO NÍVEL DE INTERFERÊNCIA. AF_09/2024 | C8: m³ | D8: =G8 -> 395.90125 | E8: Pi x 0,775^2 x 1,64= 3,09m3 x 128 biodigestores= 395,90m3 | F8: =3.14*(0.775^2)*1.64 -> 3.0929785 | G8: =F8*G6 -> 395.90125 | Q8: 10
A9: 1.2 | B9: =PLANILHA!C11 -> ESCAVAÇÃO MANUAL DE VALA COM PROFUNDIDADE MENOR OU IGUAL A 1,30 M. AF_02/2021 | C9: m³ | D9: =G9 -> 48.28064 | E9: Pi x 0,775^2 x 0,1 x 128 biodigestores= 48,28m3 | F9: =3.14*0.775^2*0.2 -> 0.3771925 | G9: =F9*G6 -> 48.28064
A10: 1.3 | B10: =PLANILHA!C12 -> CONCRETAGEM DE VIGAS E LAJES, FCK=25 MPA, PARA QUALQUER TIPO DE LAJE COM BALDES EM EDIFICAÇÃO TÉRREA - LANÇAMENTO, ADENSAMENTO E ACABAMENTO. AF_02/2022 | C10: m³ | D10: =F10+G10 -> 32.33232 | E10: FUNDO 128 BIODIGESTORES, LAJE COM D = 1,55m; e = 0,1m; V = 26,03m³ TAMPA CAIXA LODO, 0,8 X 0,8 X 0,1 = 0,064m³ X 138 = 8,83 | F10: =(3.14*0.775^2)*0.1*G6 -> 24.14032 | G10: =0.8*0.8*0.1*G6 -> 8.192
A11: 1.4 | B11: =PLANILHA!C13 -> CORTE E DOBRA DE AÇO CA-25, DIÂMETRO DE 6,3 MM. AF_06/2022 | C11: kg | D11: =478.24+278.47 -> 756.71 | E11: FUNDO 128 BIODIGESTORES, LAJE COM D = 1,55m; e = 0,1m; VERGALHÃO 6.3mm ESPAÇADO A CADA 10CM = 15,25m DE VERGALHÃO PARA CADA X 128 = 1.952m X 0,245Kg/m = 478,24Kg; TAMPA CAIXA LODO, 0,8 X 0,8 =12 BARRAS COM 74cm = 8,88m X 128 = 1.136,64m X 0,245Kg/m = 278,47Kg.
A12: 1.5 | B12: =PLANILHA!C14 -> FABRICAÇÃO DE FÔRMA PARA LAJES, EM CHAPA DE MADEIRA COMPENSADA RESINADA, E = 17 MM. AF_09/2020 | C12: m2 | D12: =F12 -> 81.92 | E12: TAMPA CAIXA LODO 0,8 X 0,8 = 0,64m² X 128 = 81,92 | F12: =0.8*0.8*G6 -> 81.92 | Q12: 23
A13: 1.6 | B13: =PLANILHA!C15 -> ALVENARIA DE VEDAÇÃO DE BLOCOS CERÂMICOS FURADOS NA HORIZONTAL DE 19X19X39 CM (ESPESSURA 19 CM) E ARGAMASSA DE ASSENTAMENTO COM PREPARO EM BETONEIRA. AF_12/2021 | C13: m2 | D13: =2.8*G6 -> 358.4 | E13: CAIXA DE LODO = 0,7 m² x 4 = 2,80m³x128 biodigestores=358,40m²
A14: 1.7 | B14: =PLANILHA!C16 -> LASTRO COM MATERIAL GRANULAR (PEDRA BRITADA N.3), APLICADO EM PISOS OU LAJES SOBRE SOLO, ESPESSURA DE *10 CM*. AF_01/2024 | C14: m³ | D14: =0.064*G6 -> 8.192 | E14: FUNDO CAIXA LODO = 0,8x0,8*0,1=0,064*128biodigestores=8,19m³
A15: 1.8 | B15: =PLANILHA!C17 -> TUBO DE PVC BRANCO PARA REDE COLETORA DE ESGOTO CONDOMINIAL DE PAREDE MACIÇA, DN 100 MM, JUNTA ELÁSTICA - FORNECIMENTO E ASSENTAMENTO. AF_01/2021 | C15: m | D15: =18*G6 -> 2304 | E15: 18,00 m x 128 biodigestores= 2.304,00m
A16: 1.9 | B16: =PLANILHA!C18 -> TUBO PVC, SERIE NORMAL, ESGOTO PREDIAL, DN 75 MM, FORNECIDO E INSTALADO EM RAMAL DE DESCARGA OU RAMAL DE ESGOTO SANITÁRIO. AF_08/2022 | C16: m | D16: =12*G6 -> 1536 | E16: 12,00 m x 128 biodigestores= 1.536,00m
A17: 1.10 | B17: =PLANILHA!C19 -> TUBO, PVC, SOLDÁVEL, DE 60MM, INSTALADO EM PRUMADA DE ÁGUA - FORNECIMENTO E INSTALAÇÃO. AF_06/2022 | C17: m | D17: =0.75*G6 -> 96 | E17: 0,750 m x 128 biodigestores= 96,00m
A18: 1.11 | B18: =PLANILHA!C20 -> REATERRO MANUAL DE VALAS COM COMPACTAÇÃO MECANIZADA. AF_04/2016 | C18: M2 | D18: =H18 -> 92.682752 | E18: (Pi x 0,70^2 x 1,64)- (Pi x 0,475^2 x 1,64)= 1,54- 1,16= 0,38m3 x 128 biodigestores= 92,68m2 | F18: =(3.14*0.775^2) -> 1.8859625 | G18: =3.14*0.475^2*1.64 -> 1.1618785 | H18: =(F18-G18)*G6 -> 92.682752
A19: 1.12 | B19: =PLANILHA!C21 -> Biodigestor para tratamento de esgoto domiciliar com a capacidade de 700 litros/dia, marca fortlev. (BDI DIF. 20,13%) | C19: und | D19: =G6 -> 128 | E19: 128 unidades
A21: =PLANILHA!A24 -> Vargem Alta - ES, 25 de novembro de 2025. | K21: ='MEMÓRIA CÁLCULO'!#REF! -> #REF!
B23: =PLANILHA!C28 -> IGOR GAVA SARTÓRIO SCARTON | E23: ELIESER RABELLO
B24: =PLANILHA!C29 -> CREA ES-059785/D | E24: PREFEITO MUNICIPAL
G52: 10.57
G53: 12.93
G54: 23.74
G55: 23.53
G56: 29.03
G57: 29.05
G58: 20.18
G59: 19.92
G60: 22.73
G61: 22.31
G62: 20.07
G63: 20.26
... G151: 11.23
G152: =SUM(G52:G151) -> 2980.61

Sheet DESCRITIVO
A1: PREFEITURA MUNICIPAL DE VARGEM ALTA
A3: ESTADO DO ESPÍRITO SANTO
A5: MEMORIAL DESCRITIVO
A7: =PLANILHA!B4 -> INSTALAÇÃO DE 128 UNIDADES DE BIODIGESTORES EM ALTO POMBAL, ALTO OURO E SUMIDOURO
A8: LOCAL: VARGEM ALTA - ES.
A10: =PLANILHA!C9 -> SERVIÇOS PARA INSTALAÇÃO DE BIODIGESTORES
A12: Será executado escavação mecanizada para a instalação dos biodigestores
A13: A escavação será manual em solo de 1ª categoria no fundo para acerto do fundo da vala com a profundidade de aproximadamente 10 cm pré estabelecida via manual de instalação.
A14: Será executado piso de concreto armado com espessura de 10 cm na base dos biodigestores a serem instalados.
A15: Será executado caixas de lodo de alvenaria de blocos concreto 9x19x39cm, com as dimensões de 70x70cm e altura máxima de 1metro, com tampa de concreto armado com espessura de 10cm, revestimento interno com chapisco e reboco impermeabilizado, inclusive escavação, reaterro e enchimento (caixa de lodo) e no fundo camada de brita 3 com esp. 10cm. Não devendo ser concretado, permitindo a infiltração no solo.
A16: Todos os tubos adicionados deverão ter mão de obra específica para realizar o serviço de assentamento.
A17: Será utilizado fôrma de tábua de madeira de 2.5 x 30.0 cm para execução das tampas em concreto armado das caixa lodo, levando-se em conta a utilização 5 vezes (incluido o material, corte, montagem, escoramento e desforma).
A18: Será executado o fornecimento, preparo e aplicação de concreto Fck=25 MPa (brita 1 e 2) - (5% de perdas já incluído no custo) para a execução de lajes nos locais onde existe a passagem de transeuntes.
A19: Será executado o fornecimento, dobragem e colocação em fôrma, de armadura CA-50 A média, diâmetro de 6.3 a 10.0 mm para a execução de lajes nos locais onde existe a passagem de transeuntes.
A20: Será instalado biodigestor para o tratamento de esgoto das residências contempladas pelo programa.
A21: Após o assentamento dos biodigestores será realizado o reaterro apiloado de cavas de fundação, em camadas de 20 cm para a total compactação e término dos serviços de instalação dos biodigestores.
A23: =PLANILHA!A24 -> Vargem Alta - ES, 25 de novembro de 2025.
A25: =PLANILHA!C28 -> IGOR GAVA SARTÓRIO SCARTON
A26: =PLANILHA!C29 -> CREA ES-059785/D

Sheet CRONOGRAMA
A1: PREFEITURA MUNICIPAL DE VARGEM ALTA ESTADO DO ESPÍRITO SANTO
A7: CRONOGRAMA FÍSICO-FINANCEIRO | E7: =PLANILHA!B4 -> INSTALAÇÃO DE 128 UNIDADES DE BIODIGESTORES EM ALTO POMBAL, ALTO OURO E SUMIDOURO | K7: 180 dias
E9: VARGEM ALTA
A10: Item | B10: Serviços | C10: Valor | E10: Prazo em dias | K10: Valor Total dos Serviços
D11: Inc. | E11: Alto Pombal | G11: Alto Ouro | I11: Sumidouro
D12: % | E12: 30 DIAS | F12: 60 DIAS | G12: 90 DIAS | H12: 120 DIAS | I12: 150 DIAS | J12: 180 DIAS
A13: 1 | B13: =PLANILHA!C9 -> SERVIÇOS PARA INSTALAÇÃO DE BIODIGESTORES | C13: =PLANILHA!N22 -> 0 | D13: =C13*100/C14 -> #DIV/0! | E13: =$C13/6 -> 0 | F13: =$C13/6 -> 0 | G13: =$C13/6 -> 0 | H13: =$C13/6 -> 0 | I13: =$C13/6 -> 0 | J13: =$C13/6 -> 0 | K13: =SUM(E13:J13) -> 0
A14: Valor das Parcelas | C14: =SUM(C13:C13) -> 0 | D14: 100 | E14: =SUM(E13:E13) -> 0 | F14: =E14+F13 -> 0 | G14: =F14+G13 -> 0 | H14: =G14+H13 -> 0 | I14: =H14+I13 -> 0 | J14: =I14+J13 -> 0 | K14: =SUM(K13:K13) -> 0
A16: Responsável Técnico: | D16: Data: 25/11/2025 | G16: Administração:
A17: =PLANILHA!C28 -> IGOR GAVA SARTÓRIO SCARTON | G17: ELIESER RABELLO
A18: =PLANILHA!C29 -> CREA ES-059785/D | G18: Prefeito Municipal

Sheet COMP. PREÇO UNITÁRIO
A1: =[1]Planilha!C1 -> PREFEITURA MUNICIPAL DE VARGEM ALTA
A2: ESTADO DO ESPÍRITO SANTO
A4: OBRA: | B4: =PLANILHA!B4 -> INSTALAÇÃO DE 128 UNIDADES DE BIODIGESTORES EM ALTO POMBAL, ALTO OURO E SUMIDOURO
A5: LOCAL: | B5: =PLANILHA!B5 -> VARGEM ALTA - ES.
A7: COMPOSIÇÃO DE PREÇO UNITÁRIO
A9: Item 1 | B9: =PLANILHA!C9 -> SERVIÇOS PARA INSTALAÇÃO DE BIODIGESTORES | J9: Unidade
A10: 1.3 | B10: =PLANILHA!C15 -> ALVENARIA DE VEDAÇÃO DE BLOCOS CERÂMICOS FURADOS NA HORIZONTAL DE 19X19X39 CM (ESPESSURA 19 CM) E ARGAMASSA DE ASSENTAMENTO COM PREPARO EM BETONEIRA. AF_12/2021 | J10: UND
A12: CÓDIGO | B12: 1 - MÃO DE OBRA | E12: UNID. | F12: COEFICIENTE | H12: P. UNITÁRIO | I12: TOTAL PARCIAL
A13: 88241 SINAPI | B13: AJUDANTE DE OPERAÇÃO EM GERAL COM ENCARGOS COMPLEMENTARES | E13: H | F13: 0.3192 | H13: 23.93 | I13: =H13*F13 -> 7.638456
A14: 88245 SINAPI | B14: ARMADOR COM ENCARGOS COMPLEMENTARES | E14: H | F14: 0.1372 | H14: 29.97 | I14: =H14*F14 -> 4.111884
A15: 88261 SINAPI | B15: CARPINTEIRO DE FORMAS | E15: H | F15: 0.182 | H15: 31.41 | I15: =H15*F15 -> 5.71662
A16: 88309 SINAPI | B16: PEDREIRO COM ENCARGOS COMPLEMENTARES | E16: H | F16: 5.236 | H16: 30.17 | I16: =H16*F16 -> 157.97012
A17: 88316 SINAPI | B17: SERVENTE COM ENCARGOS COMPLEMENTARES | E17: H | F17: 14.192 | H17: 23.57 | I17: =H17*F17 -> 334.50544
A18: TOTAL A | J18: =I15+I17+I14+I13+I16 -> 509.94252
A20: CÓDIGO | B20: 2 - MATERIAIS | E20: UNID. | F20: COEFICIENTE | H20: P. UNITÁRIO | I20: TOTAL PARCIAL
A21: 043053 SINAPI | B21: ACO CA-50, 8,0 MM, VERGALHAO | E21: KG | F21: 1.97225 | H21: 9.49 | I21: =H21*F21 -> 18.716653
A22: 00003312 SINAPI | B22: ARAME DE AMARRACAO PARA GABIAO GALVANIZADO, DIAMETRO 2,2 MM | E22: KG | F22: 0.0343 | H22: 29.62 | I22: =H22*F22 -> 1.015966
A23: 020503 IOPES | B23: AREIA LAVADA MEDIA (LABOR) | E23: M3 | F23: 0.175577 | H23: 143.33 | I23: =H23*F23 -> 25.165451
A24: 000650 SINAPI | B24: BLOCO DE CONCRETO ESTRUTURAL 9 X 19 X 39 CM, FBK 4,5 MPA (NBR 6136) | E24: UND | F24: 46.764 | H24: 3.1 | I24: =H24*F24 -> 144.9684
A25: 020517 IOPES | B25: BRITA 1 (LABOR) | E25: M3 | F25: 0.019462 | H25: 156.71 | I25: =H25*F25 -> 3.04989
A26: 020518 IOPES | B26: BRITA 2 (LABOR) | E26: M3 | F26: 0.04551 | H26: 156.71 | I26: =H26*F26 -> 7.1318721
A27: 00001106 SINAPI | B27: CAL HIDRATADA CH-I PARA ARGAMASSAS | E27: KG | F27: 5.1344 | H27: 1.44 | I27: =H27*F27 -> 7.393536
A28: 00013284 SINAPI | B28: CIMENTO PORTLAND DE ALTO FORNO (AF) CP III-40 | E28: KG | F28: 47.0315 | H28: 0.64 | I28: =H28*F28 -> 30.10016
A29: 028008 IOPES | B29: DESMOLDANTE PARA FORMAS (LABOR) | E29: L | F29: 0.056 | H29: 17.49 | I29: =H29*F29 -> 0.97944
A30: 00005061 SINAPI | B30: PREGO DE ACO POLIDO COM CABECA 18 X 27 (2 1/2 X 10) | E30: KG | F30: 0.021 | H30: 20 | I30: =H30*F30 -> 0.42
A31: 006212 SINAPI | B31: SARRAFO *2,5 X 10* CM EM PINUS, MISTA OU EQUIVALENTE DA REGIAO - BRUTA | E31: M | F31: 0.07 | H31: 4.07 | I31: =H31*F31 -> 0.2849
A32: 00003992 SINAPI | B32: TABUA APARELHADA *2,5 X 30* CM, EM MACARANDUBA, ANGELIM OU EQUIVALENTE DA REGIAO | E32: M | F32: 0.14 | H32: 32.25 | I32: =H32*F32 -> 4.515
A33: TOTAL B | J33: =SUM(I21:I32) -> 243.74127
A35: CÓDIGO | B35: 3 - SERVIÇOS | E35: UNID. | F35: COEFICIENTE | H35: P. UNITÁRIO | I35: TOTAL PARCIAL
A36: 081115 IOPES | B36: BETONEIRA CAPACIDADE NOMINAL 400L, CAPACIDADE DE MISTURA 280L, MOTOR ELETRICO TRIFASICO 220/380V POTENCIA 2CV, SEM CARREGADOR | E36: UND | F36: 0.00039 | H36: 4703.85 | I36: =F36*H36 -> 1.8345015
A37: TOTAL C | J37: =I36 -> 1.8345015
A39: RESUMO
A40: DISCRIMINAÇÃO | F40: TAXA | I40: VALORES
A41: MÃO DE OBRA (TOTAL A) | I41: =J18 -> 509.94252
A42: MATERIAIS (TOTAL B) | I42: =J33 -> 243.74127
A43: SERVIÇOS (TOTAL C) | I43: =J37 -> 1.8345015
A44: BDI | F44: 0 | I44: =(I41+I42+I43)*F44 -> 0
A45: ENCARGOS SOCIAIS ADERIDO | I45: =I41*F45 -> 0
A46: SUBTOTAL | I46: =I41+I44+I42+I43 -> 755.51829
A48: TOTAL | J48: =I46 -> 755.51829
...

Sheet MERCADO BIODIGESTORES
B5: VALOR DE MERCADO DE BIODIGESTORES
B6: EFIZI AZU COMÉRCIO LTDA | CNPJ 34.229.157/0001-05 | F6: 2139.17
B7: Bremenkamp Material de Construção LTDA / CPF: 05.551.396/0001-89 | F7: 2052.17
B8: LF Comercial de Bens LTDA / CNPJ: 91.845.735/0004-14 | F8: 2499
B9: PREÇO MÉDIO | F9: =(F7+F8)/2 -> 2275.585

Sheet BDI 29,63%
A1: DETALHAMENTO DO BDI
A3: PROPONENTE: | B3: Prefeitura de Vargem Alta
A4: OBRA: | B4: =PLANILHA!B4 -> INSTALAÇÃO DE 128 UNIDADES DE BIODIGESTORES EM ALTO POMBAL, ALTO OURO E SUMIDOURO
A5: CONTRATO:
A7: 1. Regime de Contribuição Previdenciária
B9: Com Desoneração
A11: 2. Tipo de Intervenção
B13: Edificações
A15: 3. Incidências sobre o custo
B17: Administração Central - AC | C17: 5 | D17: %
B18: Riscos - R | C18: 1 | D18: %
B19: Seguros e Garantias Contratuais - S+G | C19: 1 | D19: %
B20: Despesas e Encargos Financeiros - DF | C20: 0.6 | D20: %
B22: Lucro - L | C22: 4.59 | D22: %
A24: 4 – Incidências sobre o preço de venda
B26: Despesas Tributárias - I | C26: =C29+C31+C32+C33 -> 13.15 | D26: %
B28: Percentual da base de cálculo para o ISS: | C28: 100 | D28: %
B29: Alíquota do ISS (sobre a base de cálculo): | C29: 5 | D29: %
B31: COFINS | C31: 3 | D31: %
B32: PIS | C32: 0.65 | D32: %
B33: INSS | C33: =IF(B9="Com Desoneração",4.5,0) -> 4.5 | D33: %
A35: 5 – Demonstrativo de cálculo do BDI
B37: BDI= (1+(AC+S+R+G))(1+DF)(1+L)) -1 = | C37: =ROUND((((1+($C$17/100)+($C$19/100)+($C$18/100))*(1+($C$20/100))*(1+($C$22/100)))/(1-$C$26/100)-1),4) -> 0.2963 | E37: =[2]Auxiliar!A17 -> Atende
B38: ( 1- I )
A40: Declaro para os devidos fins que, conforme legislação tributária municipal, a base de cálculo
A41: =CONCATENATE("do ISS para ", B13," é de ",C28," %",", com a respectiva alíquota de ",C29," %") -> do ISS para Edificações é de 100 %, com a respectiva alíquota de 5 %
A43: Declaro para os devidos fins que o regime de Contribuição Previdenciária adotado para
A44: =CONCATENATE("elaboração do orçamento foi ",B9,", e que esta é a alternativa mais adequada para ") -> elaboração do orçamento foi Com Desoneração, e que esta é a alternativa mais adequada para
A45: a Administração Pública.
A49: Eng./Arq. | B49: =PLANILHA!C28 -> IGOR GAVA SARTÓRIO SCARTON
A50: CREA/CAU: | B50: =PLANILHA!C29 -> CREA ES-059785/D
A55: Nome | B55: ELIESER RABELLO
A56: Cargo | B56: Prefeito Municipal

Sheet BDI 20,13%
A1: DETALHAMENTO DO BDI DIFERENCIADO
A3: PROPONENTE: | B3: Prefeitura de Vargem Alta
A4: OBRA: | B4: =PLANILHA!B4 -> INSTALAÇÃO DE 128 UNIDADES DE BIODIGESTORES EM ALTO POMBAL, ALTO OURO E SUMIDOURO
A5: CONTRATO:
A7: 1. Regime de Contribuição Previdenciária
B9: Com Desoneração
A11: 2. Tipo de Intervenção
B13: Fornecimento de Materiais e Equipamentos
A15: 3. Incidências sobre o custo
B17: Administração Central - AC | C17: 3.45 | D17: %
B18: Riscos - R | C18: 0.85 | D18: %
B19: Seguros e Garantias Contratuais - S+G | C19: 0.48 | D19: %
B20: Despesas e Encargos Financeiros - DF | C20: 0.19 | D20: %
B22: Lucro - L | C22: 5.11 | D22: %
A24: 4 – Incidências sobre o preço de venda
B26: Despesas Tributárias - I | C26: =C29+C31+C32+C33 -> 8.15 | D26: %
B28: Percentual da base de cálculo para o ISS: | C28: 100 | D28: %
B29: Alíquota do ISS (sobre a base de cálculo): | D29: %
B31: COFINS | C31: 3 | D31: %
B32: PIS | C32: 0.65 | D32: %
B33: INSS | C33: =IF(B9="Com Desoneração",4.5,0) -> 4.5 | D33: %
A35: 5 – Demonstrativo de cálculo do BDI
B37: BDI= (1+(AC+S+R+G))(1+DF)(1+L)) -1 = | C37: =ROUND((((1+($C$17/100)+($C$19/100)+($C$18/100))*(1+($C$20/100))*(1+($C$22/100)))/(1-$C$26/100)-1),4) -> 0.2013 | E37: =[2]Auxiliar!A17 -> Atende
B38: ( 1- I )
A40: Declaro para os devidos fins que, conforme legislação tributária municipal, a base de cálculo
A41: =CONCATENATE("do ISS para ", B13," é de ",C28," %",", com a respectiva alíquota de ",C29," %") -> do ISS para Fornecimento de Materiais e Equipamentos é de 100 %, com a respectiva alíquota de %
A43: Declaro para os devidos fins que o regime de Contribuição Previdenciária adotado para
A44: =CONCATENATE("elaboração do orçamento foi ",B9,", e que esta é a alternativa mais adequada para ") -> elaboração do orçamento foi Com Desoneração, e que esta é a alternativa mais adequada para
A45: a Administração Pública.
A49: Eng./Arq. | B49: =PLANILHA!C28 -> IGOR GAVA SARTÓRIO SCARTON
A50: CREA/CAU: | B50: =PLANILHA!C29 -> CREA ES-059785/D
A55: Nome | B55: ELIESER RABELLO
A56: Cargo | B56: Prefeito Municipal

Sheet ORÇAMENTO
